BEGIN:VCALENDAR
VERSION:2.0
PRODID:-//L&#039;Attribut - ECPv6.15.20//NONSGML v1.0//EN
CALSCALE:GREGORIAN
METHOD:PUBLISH
X-ORIGINAL-URL:https://lattribut.org
X-WR-CALDESC:Évènements pour L&#039;Attribut
REFRESH-INTERVAL;VALUE=DURATION:PT1H
X-Robots-Tag:noindex
X-PUBLISHED-TTL:PT1H
BEGIN:VTIMEZONE
TZID:Europe/Paris
BEGIN:DAYLIGHT
TZOFFSETFROM:+0100
TZOFFSETTO:+0200
TZNAME:CEST
DTSTART:20230326T010000
END:DAYLIGHT
BEGIN:STANDARD
TZOFFSETFROM:+0200
TZOFFSETTO:+0100
TZNAME:CET
DTSTART:20231029T010000
END:STANDARD
BEGIN:DAYLIGHT
TZOFFSETFROM:+0100
TZOFFSETTO:+0200
TZNAME:CEST
DTSTART:20240331T010000
END:DAYLIGHT
BEGIN:STANDARD
TZOFFSETFROM:+0200
TZOFFSETTO:+0100
TZNAME:CET
DTSTART:20241027T010000
END:STANDARD
BEGIN:DAYLIGHT
TZOFFSETFROM:+0100
TZOFFSETTO:+0200
TZNAME:CEST
DTSTART:20250330T010000
END:DAYLIGHT
BEGIN:STANDARD
TZOFFSETFROM:+0200
TZOFFSETTO:+0100
TZNAME:CET
DTSTART:20251026T010000
END:STANDARD
END:VTIMEZONE
BEGIN:VEVENT
DTSTART;TZID=Europe/Paris:20240306T100000
DTEND;TZID=Europe/Paris:20240309T173000
DTSTAMP:20260422T052229
CREATED:20240305T145900Z
LAST-MODIFIED:20240305T145900Z
UID:3441-1709719200-1710005400@lattribut.org
SUMMARY:Braderie Textile* à la Ressourcerie de Corbeil Essonnes
DESCRIPTION:-50% sur les rayons vêtements adultes et enfants ainsi que sur les chaussures et les sacs (*hors linge de maison et mercerie) \nMercredi 6 mars\, vendredi 8 mars et samedi 9 mars de 10h00 à 13h00 et 14h30 à 17h30 \n10 allée Aristide Briand\, Corbeil-Essonnes (91100) \nContact :  ressourcerie.ce@lattribut.org | 07 57 18 42 05
URL:https://lattribut.org/event/braderie-textile-a-la-ressourcerie-de-corbeil-essonnes/
LOCATION:Ressourcerie de Corbeil-Essonnes\, 10 All. Aristide Briand\, Corbeil-Essonnes\, Essonnes\, 91100\, France
CATEGORIES:Faire autrement,friperie,Ressourcerie
END:VEVENT
BEGIN:VEVENT
DTSTART;TZID=Europe/Paris:20240309T143000
DTEND;TZID=Europe/Paris:20240309T173000
DTSTAMP:20260422T052229
CREATED:20240227T132437Z
LAST-MODIFIED:20240227T132437Z
UID:3417-1709994600-1710005400@lattribut.org
SUMMARY:Atelier couture à la boutique du Plateau
DESCRIPTION:Participez aux ateliers couture animés par les bénévoles de l’Attribut !\nPrise en main d’une machine à coudre\nCouture à la main\nDétournement et valorisation de textiles (upcycling)\nA partir de 14 ans\n\nL’atelier est à prix libre. Cela signifie que vous faites un don du montant de votre choix\, selon le projet que les bénévoles vous aident à aboutir et selon vos moyens !\n\nUne adhésion annuelle à l’Attribut est nécessaire pour participer aux ateliers.
URL:https://lattribut.org/event/atelier-couture-a-la-boutique-du-plateau-13/
LOCATION:L’attribut du plateau\, Place du moulin à vent\, Ris-Orangis\, Essonnes\, 91130\, France
CATEGORIES:Ateliers,couture,Faire autrement
END:VEVENT
BEGIN:VEVENT
DTSTART;TZID=Europe/Paris:20240309T143000
DTEND;TZID=Europe/Paris:20240309T173000
DTSTAMP:20260422T052229
CREATED:20240305T183839Z
LAST-MODIFIED:20240305T183839Z
UID:3453-1709994600-1710005400@lattribut.org
SUMMARY:Atelier textile et patchwork - Ressourcerie du Dragon
DESCRIPTION:Tous les mercredis matins\, retrouvez-nous à la Ressourcerie du Dragon pour un atelier textile et patchwork !
URL:https://lattribut.org/event/atelier-textile-et-patchwork-ressourcerie-du-dragon-11/
LOCATION:La Ressourcerie du Dragon – Evry-Courcouronnes\, 306 Square du Dragon\, Evry-Courcouronnes\, 91000\, France
CATEGORIES:Animation,Ateliers,Bénévolat,couture,Faire autrement,Récup,Réemploi,Réparation,Ressourcerie
END:VEVENT
BEGIN:VEVENT
DTSTART;TZID=Europe/Paris:20240309T143000
DTEND;TZID=Europe/Paris:20240309T173000
DTSTAMP:20260422T052229
CREATED:20240308T043241Z
LAST-MODIFIED:20240312T132410Z
UID:3479-1709994600-1710005400@lattribut.org
SUMMARY:Braderie à la Frip'Idée Halle de Ris Orangis
DESCRIPTION:-50% sur toute la boutique !!! \nSamedi 9 mars de 14h30 à 17h30 \n24 rue Edmond Bonté à Ris Orangis (91130) \nContact :  07 57 18 77 77
URL:https://lattribut.org/event/braderie-a-la-fripidee-halle-de-ris-orangis/
LOCATION:La Frip’Idée Halle\, 24 bis rue Edmond Bonté\, Ris-Orangis\, Essonnes\, 91130\, France
CATEGORIES:Faire autrement,friperie,Ressourcerie
END:VEVENT
END:VCALENDAR