BEGIN:VCALENDAR
VERSION:2.0
PRODID:-//L&#039;Attribut - ECPv6.15.20//NONSGML v1.0//EN
CALSCALE:GREGORIAN
METHOD:PUBLISH
X-ORIGINAL-URL:https://lattribut.org
X-WR-CALDESC:Évènements pour L&#039;Attribut
REFRESH-INTERVAL;VALUE=DURATION:PT1H
X-Robots-Tag:noindex
X-PUBLISHED-TTL:PT1H
BEGIN:VTIMEZONE
TZID:Europe/Paris
BEGIN:DAYLIGHT
TZOFFSETFROM:+0100
TZOFFSETTO:+0200
TZNAME:CEST
DTSTART:20230326T010000
END:DAYLIGHT
BEGIN:STANDARD
TZOFFSETFROM:+0200
TZOFFSETTO:+0100
TZNAME:CET
DTSTART:20231029T010000
END:STANDARD
BEGIN:DAYLIGHT
TZOFFSETFROM:+0100
TZOFFSETTO:+0200
TZNAME:CEST
DTSTART:20240331T010000
END:DAYLIGHT
BEGIN:STANDARD
TZOFFSETFROM:+0200
TZOFFSETTO:+0100
TZNAME:CET
DTSTART:20241027T010000
END:STANDARD
BEGIN:DAYLIGHT
TZOFFSETFROM:+0100
TZOFFSETTO:+0200
TZNAME:CEST
DTSTART:20250330T010000
END:DAYLIGHT
BEGIN:STANDARD
TZOFFSETFROM:+0200
TZOFFSETTO:+0100
TZNAME:CET
DTSTART:20251026T010000
END:STANDARD
END:VTIMEZONE
BEGIN:VEVENT
DTSTART;TZID=Europe/Paris:20240323T143000
DTEND;TZID=Europe/Paris:20240323T170000
DTSTAMP:20260422T075204
CREATED:20240223T113946Z
LAST-MODIFIED:20240223T113946Z
UID:3399-1711204200-1711213200@lattribut.org
SUMMARY:Répare Café EVRY
DESCRIPTION:Ne jetez plus\, réparez !\nL’Attribut vous propose d’apprendre à réparer vos appareils électro-ménagers lors de nos Répare Café. \nPour participer au Répare Café\, il est nécessaire d’être adhérent.e à l’association.\nAdhérerez en ligne via l’onglet Adhérez ou sur place. \nComment ça marché ?\nInscrivez vous le jour et le créneau horaire disponible en appelant ou en venant sur place.\nPrécisez le type d’appareil que vous souhaitez réparer \nLe jour de l’atelier\, le la réparateur.rice diagnostic la panne. Si la panne est simple\, il.elle vous accompagne dans la réparation (prévoir 45 min)\, soit il est nécessaire de prévoir plus de temps et vous reprenez un RDV complémentaire.Toutes les pièces nécessaires à la réparation seront commandées et réglées par le.la participant.e. \nLes ateliers sont gratuits\, mais pour soutenir l’association et le temps passé par nos bénévoles\, vous êtes invité.e.s à faire un DON LIBRE \n  \n 
URL:https://lattribut.org/event/repare-cafe-evry-4/
LOCATION:La Ressourcerie du Dragon – Evry-Courcouronnes\, 306 Square du Dragon\, Evry-Courcouronnes\, 91000\, France
CATEGORIES:Réparation
END:VEVENT
BEGIN:VEVENT
DTSTART;TZID=Europe/Paris:20240323T143000
DTEND;TZID=Europe/Paris:20240323T173000
DTSTAMP:20260422T075204
CREATED:20240227T140400Z
LAST-MODIFIED:20240321T134649Z
UID:3420-1711204200-1711215000@lattribut.org
SUMMARY:Atelier couture à la boutique du Plateau COMPLET
DESCRIPTION:Participez aux ateliers couture animés par les bénévoles de l’Attribut !\nPrise en main d’une machine à coudre\nCouture à la main\nDétournement et valorisation de textiles (upcycling)\nA partir de 14 ans\n\nL’atelier est à prix libre. Cela signifie que vous faites un don du montant de votre choix\, selon le projet que les bénévoles vous aident à aboutir et selon vos moyens !\n\nUne adhésion annuelle à l’Attribut est nécessaire pour participer aux ateliers.
URL:https://lattribut.org/event/atelier-couture-a-la-boutique-du-plateau-14/
LOCATION:L’attribut du plateau\, Place du moulin à vent\, Ris-Orangis\, Essonnes\, 91130\, France
CATEGORIES:Ateliers,couture,Faire autrement
END:VEVENT
BEGIN:VEVENT
DTSTART;TZID=Europe/Paris:20240323T143000
DTEND;TZID=Europe/Paris:20240323T173000
DTSTAMP:20260422T075204
CREATED:20240305T183922Z
LAST-MODIFIED:20240319T095142Z
UID:3455-1711204200-1711215000@lattribut.org
SUMMARY:Atelier textile et patchwork - Ressourcerie du Dragon
DESCRIPTION:Retrouvez-nous à la Ressourcerie du Dragon pour un atelier textile et patchwork !
URL:https://lattribut.org/event/atelier-textile-et-patchwork-ressourcerie-du-dragon-12/
LOCATION:La Ressourcerie du Dragon – Evry-Courcouronnes\, 306 Square du Dragon\, Evry-Courcouronnes\, 91000\, France
CATEGORIES:Animation,Ateliers,Bénévolat,couture,Faire autrement,Récup,Réemploi,Réparation,Ressourcerie
END:VEVENT
BEGIN:VEVENT
DTSTART;TZID=Europe/Paris:20240323T143000
DTEND;TZID=Europe/Paris:20240323T173000
DTSTAMP:20260422T075204
CREATED:20240306T103005Z
LAST-MODIFIED:20240306T103524Z
UID:3462-1711204200-1711215000@lattribut.org
SUMMARY:Fresque du Climat à l'Idée Halle - Ris Orangis
DESCRIPTION:Venez participer à La Fresque du Climat à l’Idée Halle de l’Attribut à Ris Orangis.\n\nSur inscription au 07.57.18.77.77.\n\nIl est nécessaire d’être adhérent à l’association en 2024.\nL’adhésion est à prix libre et peut être réglée sur place ou en ligne : https://lattribut.org/adhesion/\n\nLa Fresque du Climat permet à chacun·e de comprendre le fonctionnement\, l’ampleur et la complexité des enjeux liés aux dérèglements climatiques.\nLe jeu La Fresque du Climat est un outil neutre et objectif.\nSon approche ludique et pédagogique permet à tous les publics de s’approprier le sujet des changements climatiques.\nSans culpabiliser et par une compréhension partagée des mécanismes à l’œuvre\, La Fresque engage les individus dans un échange constructif.
URL:https://lattribut.org/event/fresque-du-climat-a-lidee-halle-ris-orangis/
LOCATION:L’idée Halle\, rue Eugène Freyssinet\, Ris-orangis\, 91130\, France
CATEGORIES:Ateliers,Biodiversité
END:VEVENT
END:VCALENDAR