BEGIN:VCALENDAR
VERSION:2.0
PRODID:-//L&#039;Attribut - ECPv6.15.20//NONSGML v1.0//EN
CALSCALE:GREGORIAN
METHOD:PUBLISH
X-WR-CALNAME:L&#039;Attribut
X-ORIGINAL-URL:https://lattribut.org
X-WR-CALDESC:Évènements pour L&#039;Attribut
REFRESH-INTERVAL;VALUE=DURATION:PT1H
X-Robots-Tag:noindex
X-PUBLISHED-TTL:PT1H
BEGIN:VTIMEZONE
TZID:Europe/Paris
BEGIN:DAYLIGHT
TZOFFSETFROM:+0100
TZOFFSETTO:+0200
TZNAME:CEST
DTSTART:20240331T010000
END:DAYLIGHT
BEGIN:STANDARD
TZOFFSETFROM:+0200
TZOFFSETTO:+0100
TZNAME:CET
DTSTART:20241027T010000
END:STANDARD
BEGIN:DAYLIGHT
TZOFFSETFROM:+0100
TZOFFSETTO:+0200
TZNAME:CEST
DTSTART:20250330T010000
END:DAYLIGHT
BEGIN:STANDARD
TZOFFSETFROM:+0200
TZOFFSETTO:+0100
TZNAME:CET
DTSTART:20251026T010000
END:STANDARD
BEGIN:DAYLIGHT
TZOFFSETFROM:+0100
TZOFFSETTO:+0200
TZNAME:CEST
DTSTART:20260329T010000
END:DAYLIGHT
BEGIN:STANDARD
TZOFFSETFROM:+0200
TZOFFSETTO:+0100
TZNAME:CET
DTSTART:20261025T010000
END:STANDARD
END:VTIMEZONE
BEGIN:VEVENT
DTSTART;VALUE=DATE:20250405
DTEND;VALUE=DATE:20250502
DTSTAMP:20260424T082814
CREATED:20250401T135831Z
LAST-MODIFIED:20250401T135831Z
UID:4789-1743814800-1746061199@lattribut.org
SUMMARY:Fermeture du Local du 8 mai - Ris Orangis
DESCRIPTION:Le Local du 8 mai fermera ses portesle samedi 5 avril à 17h30\nL’Attribut déménage et on se retrouve à L’Idée Halle prochainement !\nLes sites de Corbeil\, du dragon à Evry et la boutique de Plateau à Ris Orangis sont ouverts.\nAdresses et horaires sur www.lattribut.org\nInfos au 07 57 18 77 77
URL:https://lattribut.org/event/fermeture-du-local-du-8-mai-ris-orangis/
LOCATION:Local du 8 mai 1945\, 5 rue du 8 mai 1945\, Ris Orangis\, 91130\, France
CATEGORIES:Bénévolat,friperie,Réemploi,Ressourcerie
ATTACH;FMTTYPE=image/png:https://lattribut.org/wp-content/uploads/2025/04/Fermeture-8-mai.png
END:VEVENT
BEGIN:VEVENT
DTSTART;TZID=Europe/Paris:20250416T143000
DTEND;TZID=Europe/Paris:20250416T170000
DTSTAMP:20260424T082814
CREATED:20250327T132003Z
LAST-MODIFIED:20250327T135722Z
UID:4733-1744813800-1744822800@lattribut.org
SUMMARY:Atelier textile à la Ressourcerie du Dragon - Evry-Courcouronnes
DESCRIPTION:Tous les mercredis après-midi de 14h30 à 17h \nVenez participer à l’atelier textile animé par les bénévoles de l’Attribut – SUR RÉSERVATION\, places limitées \nCouture à la main\nDétournement et valorisation de textiles (upcycling)\nTricot et crochet \nParticipation libre et consciente à l’atelier – pour valoriser le temps des bénévoles et les matériaux mis à disposition \nUne adhésion annuelle à l’Attribut est nécessaire pour participer aux ateliers. \nInscription au 07 57 18 26 16 ou par mail à ressourceriedragon@lattribut.org
URL:https://lattribut.org/event/atelier-textile-a-la-ressourcerie-du-dragon-evry-courcouronnes-10/
LOCATION:Essonnes
CATEGORIES:Ateliers,couture,Faire autrement
ATTACH;FMTTYPE=image/png:https://lattribut.org/wp-content/uploads/2025/03/EVRY.png
END:VEVENT
BEGIN:VEVENT
DTSTART;TZID=Europe/Paris:20250416T143000
DTEND;TZID=Europe/Paris:20250416T173000
DTSTAMP:20260424T082814
CREATED:20250401T124202Z
LAST-MODIFIED:20250401T124202Z
UID:4768-1744813800-1744824600@lattribut.org
SUMMARY:Atelier co-réparation à la boutique du Plateau
DESCRIPTION:Ne jetez plus\, réparez !\nL’Attribut vous propose d’apprendre à réparer vos appareils électro-ménagers lors de nos Répare Café. \nPour participer au Répare Café\, il est nécessaire d’être adhérent.e à l’association.\nAdhérerez en ligne via l’onglet Adhérez ou sur place. \nComment ça marche ?\nInscrivez vous le jour et le créneau horaire disponible en appelant ou en venant sur place.\nPrécisez le type d’appareil que vous souhaitez réparer \nLe jour de l’atelier\, le la réparateur.rice diagnostic la panne. Si la panne est simple\, il.elle vous accompagne dans la réparation (prévoir 45 min)\, soit il est nécessaire de prévoir plus de temps et vous reprenez un RDV complémentaire.Toutes les pièces nécessaires à la réparation seront commandées et réglées par le.la participant.e. \nLes ateliers sont gratuits\, mais pour soutenir l’association et le temps passé par nos bénévoles\, vous êtes invité.e.s à faire un DON LIBRE
URL:https://lattribut.org/event/atelier-co-reparation-a-la-boutique-du-plateau-9/
LOCATION:L’attribut du plateau\, Place du moulin à vent\, Ris-Orangis\, Essonnes\, 91130\, France
CATEGORIES:bricolage,Réparation
ATTACH;FMTTYPE=image/png:https://lattribut.org/wp-content/uploads/2024/09/Atelier-co-reparation.png
END:VEVENT
END:VCALENDAR