BEGIN:VCALENDAR
VERSION:2.0
PRODID:-//L&#039;Attribut - ECPv6.15.20//NONSGML v1.0//EN
CALSCALE:GREGORIAN
METHOD:PUBLISH
X-WR-CALNAME:L&#039;Attribut
X-ORIGINAL-URL:https://lattribut.org
X-WR-CALDESC:Évènements pour L&#039;Attribut
REFRESH-INTERVAL;VALUE=DURATION:PT1H
X-Robots-Tag:noindex
X-PUBLISHED-TTL:PT1H
BEGIN:VTIMEZONE
TZID:Europe/Paris
BEGIN:DAYLIGHT
TZOFFSETFROM:+0100
TZOFFSETTO:+0200
TZNAME:CEST
DTSTART:20250330T010000
END:DAYLIGHT
BEGIN:STANDARD
TZOFFSETFROM:+0200
TZOFFSETTO:+0100
TZNAME:CET
DTSTART:20251026T010000
END:STANDARD
BEGIN:DAYLIGHT
TZOFFSETFROM:+0100
TZOFFSETTO:+0200
TZNAME:CEST
DTSTART:20260329T010000
END:DAYLIGHT
BEGIN:STANDARD
TZOFFSETFROM:+0200
TZOFFSETTO:+0100
TZNAME:CET
DTSTART:20261025T010000
END:STANDARD
BEGIN:DAYLIGHT
TZOFFSETFROM:+0100
TZOFFSETTO:+0200
TZNAME:CEST
DTSTART:20270328T010000
END:DAYLIGHT
BEGIN:STANDARD
TZOFFSETFROM:+0200
TZOFFSETTO:+0100
TZNAME:CET
DTSTART:20271031T010000
END:STANDARD
END:VTIMEZONE
BEGIN:VEVENT
DTSTART;VALUE=DATE:20260215
DTEND;VALUE=DATE:20260317
DTSTAMP:20260422T011911
CREATED:20260209T123518Z
LAST-MODIFIED:20260209T123518Z
UID:5746-1771117200-1773622799@lattribut.org
SUMMARY:Récolte de graines et boutures à L'Idée Halle
DESCRIPTION:🌱✨ Début de récolte de graines & boutures à L’Idée Halle ✨🌱 \nLe printemps se prépare dès maintenant… et ça commence à L’Idée Halle !Nous lançons la campagne de récolte de graines et de boutures en vue de la journée de troc de graines et boutures prévue le samedi 15 mars\, placée sous le signe du partage\, de la biodiversité et du faire ensemble 🌼🤝 \n🌿 Vous avez des plantes qui montent en graines ?🌿 Des boutures faciles à partager ?🌿 L’envie de transmettre\, d’échanger et de faire circuler le vivant ? \nC’est le moment de récolter\, faire sécher\, bouturer\, étiqueter et venir déposer vos trésors végétaux à L’Idée Halle 🌾Graines potagères\, fleurs\, aromatiques\, plantes d’intérieur… tout ce qui se multiplie se partage ! \n📅 Collecte à partir du dimanche 15 février\, pendant les jours d’ouverture de L’Idée Halle :• Mercredi\, samedi et dimanche : 14h30 – 17h30• Vendredi : 15h00 – 20h00 \n📍 Dépôt à L’Idée Halle \n👉 Toutes les graines et boutures collectées serviront lors de la🗓️ journée de troc – samedi 15 mars 🌱Un temps convivial et ouvert à toutes et tous pour échanger\, discuter jardinage et semer local 🌍💚 \n📞 Infos & participation👉 07 57 18 77 77📧 attributris@lattribut.org \nUn petit geste aujourd’hui\, une biodiversité partagée demain 🌱Merci de faire pousser avec nous une nature plus généreuse et collective 🌼💚
URL:https://lattribut.org/event/recolte-de-graines-et-boutures-a-lidee-halle/
LOCATION:L’idée Halle\, rue Eugène Freyssinet\, Ris-orangis\, 91130\, France
CATEGORIES:Animation,Ateliers,Jardinage,Réemploi
ATTACH;FMTTYPE=image/png:https://lattribut.org/wp-content/uploads/2026/02/IDH-fete-du-jardinier.png
END:VEVENT
BEGIN:VEVENT
DTSTART;TZID=Europe/Paris:20260311T103000
DTEND;TZID=Europe/Paris:20260311T123000
DTSTAMP:20260422T011911
CREATED:20260304T111055Z
LAST-MODIFIED:20260304T111055Z
UID:5866-1773225000-1773232200@lattribut.org
SUMMARY:Atelier couture à la Ressourcerie du Dragon
DESCRIPTION:✂️🧵 Atelier Couture Fun & Créatif avec L’Attribut 🧵✂️ \nEnvie de donner une seconde vie à tes fringues ?De dompter une machine à coudre (sans te coudre les doigts 😅) ?Rejoins les bénévoles de L’Attribut pour un atelier couture placé sous le signe de la créativité et du partage ! \nAu programme :✨ Prise en main de la machine à coudre (promis\, elle ne mord pas)✨ Upcycling stylé : détourner et valoriser tes textiles pour en faire des pièces uniques✨ Bonne ambiance garantie \n👕 À partir de 14 ans💸 Participation : 5 €🤝 Adhésion annuelle à L’Attribut obligatoire (et ça vaut le coup !) \n📞 Inscription au 07 57 18 26 16– les places sont limitées\, fonce !
URL:https://lattribut.org/event/atelier-couture-a-la-ressourcerie-du-dragon-5/
LOCATION:La Ressourcerie du Dragon – Evry-Courcouronnes\, 306 Square du Dragon\, Evry-Courcouronnes\, 91000\, France
CATEGORIES:Ateliers,couture,Faire autrement,Récup,Réemploi,Ressourcerie
ATTACH;FMTTYPE=image/png:https://lattribut.org/wp-content/uploads/2026/01/EVRY-2.png
END:VEVENT
BEGIN:VEVENT
DTSTART;TZID=Europe/Paris:20260311T143000
DTEND;TZID=Europe/Paris:20260311T173000
DTSTAMP:20260422T011911
CREATED:20260228T110953Z
LAST-MODIFIED:20260228T110953Z
UID:5797-1773239400-1773250200@lattribut.org
SUMMARY:Atelier loisirs créatifs pour enfants à L'Idée Halle
DESCRIPTION:🎨♻️ Atelier enfants – Créons ensemble ♻️🎨 \nEt si les objets destinés à être jetés devenaient de formidables terrains de jeu pour l’imagination ? ✨Avec Créons ensemble\, L’Idée Halle propose un atelier de loisirs créatifs pour les enfants\, autour du bricolage et de la création à partir de matériaux de récupération. \nAu programme :✂️ Découper\, coller\, assembler\, imaginer🧠 Créer librement à partir de matériaux récupérés🌍 Sensibiliser en douceur au réemploi et à la protection de la planète🎉 Et surtout… s’amuser ! \n🕝 De 14h30 à 17h30📍 À L’Idée Halle \n👧🧒 Atelier enfants👨‍👩‍👧 Présence des parents obligatoire sur place pendant l’atelier👥 Places limitées \n💸 2€/participant.e \n📞 Inscription obligatoire👉 07 57 18 77 77📧 attributris@lattribut.org \n🤝 Adhésion à L’Attribut obligatoireAdhésion possible en ligne 👉 https://lattribut.org/adhesion/ou sur place💳 Paiement par carte bancaire (en ligne ou sur place) ou espèces sur place \nUn après-midi créatif\, joyeux et engagé pour créer ensemble\, partager et donner une seconde vie aux matériaux ♻️💚✨
URL:https://lattribut.org/event/atelier-loisirs-creatifs-pour-enfants-a-lidee-halle-4/
LOCATION:L’idée Halle\, rue Eugène Freyssinet\, Ris-orangis\, 91130\, France
CATEGORIES:Ateliers,bricolage,Faire autrement,Réemploi
ATTACH;FMTTYPE=image/png:https://lattribut.org/wp-content/uploads/2026/02/IDH-Creons-ensemble-Publication-Instagram-3.png
END:VEVENT
BEGIN:VEVENT
DTSTART;TZID=Europe/Paris:20260311T143000
DTEND;TZID=Europe/Paris:20260311T173000
DTSTAMP:20260422T011911
CREATED:20260228T111557Z
LAST-MODIFIED:20260228T111557Z
UID:5804-1773239400-1773250200@lattribut.org
SUMMARY:Atelier co-réparation vélo à L'Idée Halle - Ris Orangis
DESCRIPTION:🚲 Atelier de co-réparation de vélos \nEnvie de remettre votre vélo en forme ? Nos bénévoles sont là pour vous accompagner : entretien\, diagnostic des réparations\, aide au choix des pièces de rechange et accompagnement pas à pas dans la réparation. \n💶 Tarif : 5 € (diagnostic ou accès à l’atelier – hors simple gonflage)♻️ Vous souhaitez donner un vélo ? Présentez-vous aux bénévoles : selon son état\, ils vous diront s’il peut être récupéré. \n📅 Horaires : deux créneaux au choix – 14h30 ou 16h00📞 Inscription obligatoire : 07 57 18 77 77 \nℹ️ La participation à l’atelier nécessite d’être adhérent·e à l’association (adhésion possible sur place).
URL:https://lattribut.org/event/atelier-co-reparation-velo-a-lidee-halle-ris-orangis-40/
LOCATION:L’idée Halle\, rue Eugène Freyssinet\, Ris-orangis\, 91130\, France
CATEGORIES:Ateliers,bricolage,Faire autrement,Réparation,vélo
ATTACH;FMTTYPE=image/png:https://lattribut.org/wp-content/uploads/2025/11/Atelier-velo-8-mai-5.png
END:VEVENT
BEGIN:VEVENT
DTSTART;TZID=Europe/Paris:20260311T143000
DTEND;TZID=Europe/Paris:20260311T173000
DTSTAMP:20260422T011911
CREATED:20260228T112533Z
LAST-MODIFIED:20260310T105414Z
UID:5816-1773239400-1773250200@lattribut.org
SUMMARY:Atelier crochet à L'Idée Halle - Ris Orangis
DESCRIPTION:🧶✨ Initiez-vous au crochet avec L’Attribut ! ✨🧶 \nEt si vous découvriez le plaisir du fait-main ?Que vous soyez curieux.se\, maladroit.e ou déjà un peu créatif.ve\, cet atelier est fait pour vous ! \n👉 Guidé.e par une bénévole passionnée\, vous apprendrez les bases du crochet dans une ambiance conviviale\, colorée et décomplexée.Pas besoin de vous équiper : aiguilles et fils sont fournis. Vous\, vous venez juste avec votre bonne humeur et votre curiosité ! 🌈 \n📌 Infos pratiques :👶 Dès 8 ans – ouvert aux enfants et aux adultes💸 5€/participant.e🤝 Adhésion annuelle à L’Attribut obligatoire📞 Réservation au 07 57 18 77 77 (places limitées – ne tardez pas !) \nAlors\, prêt.e à crocheter des merveilles et à repartir avec des doigts (presque) magiques ? ✨🪄
URL:https://lattribut.org/event/atelier-crochet-a-lidee-halle-ris-orangis-23/
LOCATION:L’idée Halle\, rue Eugène Freyssinet\, Ris-orangis\, 91130\, France
CATEGORIES:Ateliers,tricot
ATTACH;FMTTYPE=image/png:https://lattribut.org/wp-content/uploads/2026/02/RIS-Atelier-crochet.png
END:VEVENT
BEGIN:VEVENT
DTSTART;TZID=Europe/Paris:20260311T150000
DTEND;TZID=Europe/Paris:20260311T163000
DTSTAMP:20260422T011911
CREATED:20260304T115853Z
LAST-MODIFIED:20260304T115853Z
UID:5888-1773241200-1773246600@lattribut.org
SUMMARY:Fabrique ta lessive écolo à la Ressourcerie du Dragon
DESCRIPTION:🧼 Atelier produits ménagers naturels – Fabriquer sa lessive écologique \nLa Ressourcerie du Dragon de L’Attribut vous propose un atelier pratique et convivial pour apprendre à fabriquer votre propre lessive naturelle\, simple\, efficace et économique. \nLors de cet atelier\, vous découvrirez les ingrédients de base\, les étapes de fabrication et les astuces pour entretenir votre linge tout en réduisant votre impact sur l’environnement. Vous repartirez avec le savoir-faire nécessaire pour reproduire la recette chez vous et gagner en autonomie au quotidien. \nUn moment accessible à toutes et tous\, pour prendre soin de son linge autrement\, dans une ambiance chaleureuse et participative. \n⚠️ Cet atelier est réservé aux adhérent·e·s de l’association.Vous pouvez adhérer en ligne : https://lattribut.org/adhesion/Il est également possible d’adhérer le jour même sur place (paiement en espèces ou en carte bancaire). \n📍 Lieu : La ressourcerie du dragon 306 allée du dragon\, 91000 Evry-courcouronnes📅 Date : mercredi 11 mars🕒 Horaires : de 15h à 16h30👧 À partir de 8 ans💶 Tarif : 5 € / participant·e📞 Inscription obligatoire : 07 57 18 26 16
URL:https://lattribut.org/event/fabrique-ta-lessive-ecolo-a-la-ressourcerie-du-dragon/
LOCATION:La Ressourcerie du Dragon – Evry-Courcouronnes\, 306 Square du Dragon\, Evry-Courcouronnes\, 91000\, France
ATTACH;FMTTYPE=image/png:https://lattribut.org/wp-content/uploads/2026/03/dragon-fait-maison.png
END:VEVENT
END:VCALENDAR