BEGIN:VCALENDAR
VERSION:2.0
PRODID:-//L&#039;Attribut - ECPv6.15.20//NONSGML v1.0//EN
CALSCALE:GREGORIAN
METHOD:PUBLISH
X-WR-CALNAME:L&#039;Attribut
X-ORIGINAL-URL:https://lattribut.org
X-WR-CALDESC:Évènements pour L&#039;Attribut
REFRESH-INTERVAL;VALUE=DURATION:PT1H
X-Robots-Tag:noindex
X-PUBLISHED-TTL:PT1H
BEGIN:VTIMEZONE
TZID:Europe/Paris
BEGIN:DAYLIGHT
TZOFFSETFROM:+0100
TZOFFSETTO:+0200
TZNAME:CEST
DTSTART:20250330T010000
END:DAYLIGHT
BEGIN:STANDARD
TZOFFSETFROM:+0200
TZOFFSETTO:+0100
TZNAME:CET
DTSTART:20251026T010000
END:STANDARD
BEGIN:DAYLIGHT
TZOFFSETFROM:+0100
TZOFFSETTO:+0200
TZNAME:CEST
DTSTART:20260329T010000
END:DAYLIGHT
BEGIN:STANDARD
TZOFFSETFROM:+0200
TZOFFSETTO:+0100
TZNAME:CET
DTSTART:20261025T010000
END:STANDARD
BEGIN:DAYLIGHT
TZOFFSETFROM:+0100
TZOFFSETTO:+0200
TZNAME:CEST
DTSTART:20270328T010000
END:DAYLIGHT
BEGIN:STANDARD
TZOFFSETFROM:+0200
TZOFFSETTO:+0100
TZNAME:CET
DTSTART:20271031T010000
END:STANDARD
END:VTIMEZONE
BEGIN:VEVENT
DTSTART;TZID=Europe/Paris:20260321T143000
DTEND;TZID=Europe/Paris:20260322T173000
DTSTAMP:20260421T131050
CREATED:20260302T112758Z
LAST-MODIFIED:20260302T112758Z
UID:5839-1774103400-1774200600@lattribut.org
SUMMARY:Voyage sans valise – Troc de gâteaux d’ici et d’ailleurs à L'Idée Halle
DESCRIPTION:🍰 Troc & dégustation de gâteaux d’ici et d’ailleurs – à L’Idée Halle\nL’Idée Halle de L’Attribut vous invite à un moment gourmand et convivial autour d’un troc de gâteaux\, pour faire découvrir vos talents culinaires et partager votre spécialité avec les autres participant·e·s. \nLe principe est simple : venez avec un gâteau fait maison\, accompagné d’une étiquette indiquant les ingrédients (afin d’informer sur les éventuels allergènes). Les gâteaux seront partagés et dégustés sur place\, dans une ambiance chaleureuse propice aux échanges et aux découvertes. \nVous souhaitez transmettre votre recette ? N’hésitez pas à l’apporter : les visiteur·euse·s pourront la prendre en photo et repartir avec un peu de votre savoir-faire. \nLe café associatif sera ouvert et proposera des boissons chaudes et fraîches pour accompagner cette dégustation. \nUn moment pour goûter\, rencontrer\, raconter l’histoire de ses recettes et voyager à travers les saveurs d’ici et d’ailleurs. \n📍 Lieu : L’Idée Halle – Ris-Orangis📅 Dates : samedi 21 et dimanche 22 mars🕒 Horaires : de 14h30 à 17h30💶 Participation : libre et ouverte à toutes et tous
URL:https://lattribut.org/event/voyage-sans-valise-troc-de-gateaux-dici-et-dailleurs-a-lidee-halle/
LOCATION:L’idée Halle\, rue Eugène Freyssinet\, Ris-orangis\, 91130\, France
CATEGORIES:Animation,cuisine,Festivité
ATTACH;FMTTYPE=image/png:https://lattribut.org/wp-content/uploads/2026/03/Affiche-vente-patisseries-gateaux-illustratif-marron.png
END:VEVENT
BEGIN:VEVENT
DTSTART;TZID=Europe/Paris:20260322T143000
DTEND;TZID=Europe/Paris:20260322T173000
DTSTAMP:20260421T131050
CREATED:20260228T132548Z
LAST-MODIFIED:20260317T180357Z
UID:5836-1774189800-1774200600@lattribut.org
SUMMARY:L’Idée Halle accueille la Fresque de la Sécurité sociale de l’alimentation
DESCRIPTION:🌾🍽️ Participez à la Fresque de l’alimentation à L’Idée Halle ! 🍽️🌾 \nEt si vous preniez le temps de comprendre ce qui se joue derrière notre alimentation quotidienne ?L’Idée Halle vous invite à découvrir la Fresque de la Sécurité sociale de l’alimentation\, un outil d’éducation populaire créé par La Marmite Rouge et animé par L’Attribut. \nCette fresque permet de mieux comprendre le fonctionnement du système agro-industriel actuel\, ses impacts\, et d’ouvrir la réflexion sur des alternatives concrètes\, dont la Sécurité sociale de l’alimentation : un projet qui vise à faire de l’alimentation un droit universel\, accessible à toutes et tous. \n👉 Pendant trois heures\, les participant·e·s échangent\, réfléchissent ensemble et construisent une vision globale à partir de cartes\, de discussions et de mises en lien. La première partie explore les acteurs\, pratiques et effets du système actuel\, tandis que la seconde invite à découvrir la proposition de la Sécurité sociale de l’alimentation. \nAucun prérequis n’est nécessaire : seule votre curiosité compte ! \n📌 Infos pratiques :📍 L’Idée Halle – Ris-Orangis📅 Dimanche 22 mars🕝 De 14h30 à 17h30💛 Prix libre – chacun·e participe selon ses moyens🤝 Réservé aux adhérent·e·s de L’Attribut (adhésion possible sur place)⚠️ Places limitées \n📞 Inscription conseillée :07 57 18 77 77ou attributris@lattribut.org \nUn atelier participatif pour mieux comprendre notre alimentation et imaginer ensemble des alternatives\, dans l’esprit d’éducation populaire de L’Idée Halle 🌱
URL:https://lattribut.org/event/lidee-halle-accueille-la-fresque-de-la-securite-sociale-de-lalimentation/
LOCATION:L’idée Halle\, rue Eugène Freyssinet\, Ris-orangis\, 91130\, France
CATEGORIES:Animation,Ateliers,Fresque
ATTACH;FMTTYPE=image/png:https://lattribut.org/wp-content/uploads/2026/02/IDH-Fresque-du-climat-1.png
END:VEVENT
END:VCALENDAR