BEGIN:VCALENDAR
VERSION:2.0
PRODID:-//L&#039;Attribut - ECPv6.15.20//NONSGML v1.0//EN
CALSCALE:GREGORIAN
METHOD:PUBLISH
X-ORIGINAL-URL:https://lattribut.org
X-WR-CALDESC:Évènements pour L&#039;Attribut
REFRESH-INTERVAL;VALUE=DURATION:PT1H
X-Robots-Tag:noindex
X-PUBLISHED-TTL:PT1H
BEGIN:VTIMEZONE
TZID:Europe/Paris
BEGIN:DAYLIGHT
TZOFFSETFROM:+0100
TZOFFSETTO:+0200
TZNAME:CEST
DTSTART:20250330T010000
END:DAYLIGHT
BEGIN:STANDARD
TZOFFSETFROM:+0200
TZOFFSETTO:+0100
TZNAME:CET
DTSTART:20251026T010000
END:STANDARD
BEGIN:DAYLIGHT
TZOFFSETFROM:+0100
TZOFFSETTO:+0200
TZNAME:CEST
DTSTART:20260329T010000
END:DAYLIGHT
BEGIN:STANDARD
TZOFFSETFROM:+0200
TZOFFSETTO:+0100
TZNAME:CET
DTSTART:20261025T010000
END:STANDARD
BEGIN:DAYLIGHT
TZOFFSETFROM:+0100
TZOFFSETTO:+0200
TZNAME:CEST
DTSTART:20270328T010000
END:DAYLIGHT
BEGIN:STANDARD
TZOFFSETFROM:+0200
TZOFFSETTO:+0100
TZNAME:CET
DTSTART:20271031T010000
END:STANDARD
END:VTIMEZONE
BEGIN:VEVENT
DTSTART;TZID=Europe/Paris:20260404T143000
DTEND;TZID=Europe/Paris:20260404T173000
DTSTAMP:20260422T090539
CREATED:20260324T094310Z
LAST-MODIFIED:20260324T094310Z
UID:5919-1775313000-1775323800@lattribut.org
SUMMARY:Chantier participatif au jardin de L’Idée Halle
DESCRIPTION:🌱 Chantier participatif au jardin de L’Idée Halle 🛠️ \nEnvie de mettre les mains dans la terre et de participer à l’aménagement du jardin de L’Idée Halle ? Rejoignez-nous pour un chantier participatif convivial ! Au programme : préparation du potager pour les futures plantations et fabrication de mobilier en palettes pour améliorer les espaces extérieurs. \nUn moment collectif pour bricoler\, jardiner\, apprendre ensemble et faire vivre le lieu autrement. Aucune compétence particulière n’est nécessaire : chacun·e peut participer à son rythme. \n📅 Samedi 4 avril🕝 De 14h30 à 17h30📍 L’Idée Halle – Ris-Orangis👥 Ouvert à toutes et tous – adhésion à l’association nécessaire 🌿
URL:https://lattribut.org/event/chantier-participatif-au-jardin-de-lidee-halle/
LOCATION:L’idée Halle\, rue Eugène Freyssinet\, Ris-orangis\, 91130\, France
CATEGORIES:Ateliers,Biodiversité,Jardinage,Réemploi
ATTACH;FMTTYPE=image/png:https://lattribut.org/wp-content/uploads/2026/03/IDH-fete-du-jardinier-2.png
END:VEVENT
BEGIN:VEVENT
DTSTART;TZID=Europe/Paris:20260404T150000
DTEND;TZID=Europe/Paris:20260404T163000
DTSTAMP:20260422T090539
CREATED:20260401T121135Z
LAST-MODIFIED:20260401T121135Z
UID:5997-1775314800-1775320200@lattribut.org
SUMMARY:Fabrique ta lessive écolo à la Ressourcerie du Dragon
DESCRIPTION:🧼 Atelier produits ménagers naturels – Fabriquer sa lessive écologique \nLa Ressourcerie du Dragon de L’Attribut vous propose un atelier pratique et convivial pour apprendre à fabriquer votre propre lessive naturelle\, simple\, efficace et économique. \nLors de cet atelier\, vous découvrirez les ingrédients de base\, les étapes de fabrication et les astuces pour entretenir votre linge tout en réduisant votre impact sur l’environnement. Vous repartirez avec le savoir-faire nécessaire pour reproduire la recette chez vous et gagner en autonomie au quotidien. \nUn moment accessible à toutes et tous\, pour prendre soin de son linge autrement\, dans une ambiance chaleureuse et participative. \n⚠️ Cet atelier est réservé aux adhérent·e·s de l’association.Vous pouvez adhérer en ligne : https://lattribut.org/adhesion/Il est également possible d’adhérer le jour même sur place (paiement en espèces ou en carte bancaire). \n📍 Lieu : La ressourcerie du dragon 306 allée du dragon\, 91000 Evry-courcouronnes🕒 Horaires : de 15h à 16h30👧 À partir de 8 ans💶 Tarif : 5 € / participant·e📞 Inscription obligatoire : 07 57 18 26 16
URL:https://lattribut.org/event/fabrique-ta-lessive-ecolo-a-la-ressourcerie-du-dragon-2/
LOCATION:La Ressourcerie du Dragon – Evry-Courcouronnes\, 306 Square du Dragon\, Evry-Courcouronnes\, 91000\, France
ATTACH;FMTTYPE=image/png:https://lattribut.org/wp-content/uploads/2026/04/dragon-fait-maison1.png
END:VEVENT
END:VCALENDAR