BEGIN:VCALENDAR
VERSION:2.0
PRODID:-//L&#039;Attribut - ECPv6.15.20//NONSGML v1.0//EN
CALSCALE:GREGORIAN
METHOD:PUBLISH
X-WR-CALNAME:L&#039;Attribut
X-ORIGINAL-URL:https://lattribut.org
X-WR-CALDESC:Évènements pour L&#039;Attribut
REFRESH-INTERVAL;VALUE=DURATION:PT1H
X-Robots-Tag:noindex
X-PUBLISHED-TTL:PT1H
BEGIN:VTIMEZONE
TZID:Europe/Paris
BEGIN:DAYLIGHT
TZOFFSETFROM:+0100
TZOFFSETTO:+0200
TZNAME:CEST
DTSTART:20250330T010000
END:DAYLIGHT
BEGIN:STANDARD
TZOFFSETFROM:+0200
TZOFFSETTO:+0100
TZNAME:CET
DTSTART:20251026T010000
END:STANDARD
BEGIN:DAYLIGHT
TZOFFSETFROM:+0100
TZOFFSETTO:+0200
TZNAME:CEST
DTSTART:20260329T010000
END:DAYLIGHT
BEGIN:STANDARD
TZOFFSETFROM:+0200
TZOFFSETTO:+0100
TZNAME:CET
DTSTART:20261025T010000
END:STANDARD
BEGIN:DAYLIGHT
TZOFFSETFROM:+0100
TZOFFSETTO:+0200
TZNAME:CEST
DTSTART:20270328T010000
END:DAYLIGHT
BEGIN:STANDARD
TZOFFSETFROM:+0200
TZOFFSETTO:+0100
TZNAME:CET
DTSTART:20271031T010000
END:STANDARD
END:VTIMEZONE
BEGIN:VEVENT
DTSTART;TZID=Europe/Paris:20260408T103000
DTEND;TZID=Europe/Paris:20260508T123000
DTSTAMP:20260422T011731
CREATED:20260327T140700Z
LAST-MODIFIED:20260327T140700Z
UID:5954-1775644200-1778243400@lattribut.org
SUMMARY:Atelier couture à la Ressourcerie du Dragon
DESCRIPTION:✂️🧵 Atelier Couture Fun & Créatif avec L’Attribut 🧵✂️ \nEnvie de donner une seconde vie à tes fringues ?De dompter une machine à coudre (sans te coudre les doigts 😅) ?Rejoins les bénévoles de L’Attribut pour un atelier couture placé sous le signe de la créativité et du partage ! \nAu programme :✨ Prise en main de la machine à coudre (promis\, elle ne mord pas)✨ Upcycling stylé : détourner et valoriser tes textiles pour en faire des pièces uniques✨ Bonne ambiance garantie \n👕 À partir de 14 ans💸 Participation : 5 €🤝 Adhésion annuelle à L’Attribut obligatoire (et ça vaut le coup !) \n📞 Inscription au 07 57 18 26 16– les places sont limitées\, fonce !
URL:https://lattribut.org/event/atelier-couture-a-la-ressourcerie-du-dragon-12/
LOCATION:La Ressourcerie du Dragon – Evry-Courcouronnes\, 306 Square du Dragon\, Evry-Courcouronnes\, 91000\, France
CATEGORIES:Ateliers,couture,Faire autrement,Récup,Réemploi,Ressourcerie
ATTACH;FMTTYPE=image/png:https://lattribut.org/wp-content/uploads/2026/01/EVRY-2.png
END:VEVENT
BEGIN:VEVENT
DTSTART;TZID=Europe/Paris:20260419T160000
DTEND;TZID=Europe/Paris:20260419T170000
DTSTAMP:20260422T011731
CREATED:20260324T104713Z
LAST-MODIFIED:20260324T104713Z
UID:5934-1776614400-1776618000@lattribut.org
SUMMARY:Boom des enfants à L'Idée Halle - Ris Orangis
DESCRIPTION:🎉🌟 La BOOM des enfants à L’Idée Halle ! 🌟🎉 \nDimanche 19 avril\, de 16h à 17h\, place à la fête pour les enfants… et les parents qui les accompagnent !Une heure de musique\, de danse\, de jeux et de rires\, dans une ambiance joyeuse et conviviale 🕺💃 \n🍰 Au programme :🎶 De la musique pour danser🎲 Des jeux pour rigoler ensemble😋 Un goûter maison offert à chaque enfant \n🎭 Enfants et parents peuvent venir déguisé·es s’ils le souhaitent : super-héros\, animaux\, princesses\, pirates… tout est permis ! \nℹ️ Infos pratiques :📞 Inscription obligatoire au 07 57 18 77 77👨‍👩‍👧 Chaque enfant doit être accompagné d’au moins un parent🚫 Aucun enfant ne pourra être accueilli seul \nOn vous attend nombreux·ses pour une heure de fête et de bonne humeur à L’Idée Halle 🎶✨
URL:https://lattribut.org/event/boom-des-enfants-a-lidee-halle-ris-orangis-3/
LOCATION:L’idée Halle\, rue Eugène Freyssinet\, Ris-orangis\, 91130\, France
CATEGORIES:Animation,danse,Festivité
ATTACH;FMTTYPE=image/png:https://lattribut.org/wp-content/uploads/2026/03/IDH-boom-des-enfants-1920-x-1080-px-1.png
END:VEVENT
END:VCALENDAR