BEGIN:VCALENDAR
VERSION:2.0
PRODID:-//L&#039;Attribut - ECPv6.15.20//NONSGML v1.0//EN
CALSCALE:GREGORIAN
METHOD:PUBLISH
X-ORIGINAL-URL:https://lattribut.org
X-WR-CALDESC:Évènements pour L&#039;Attribut
REFRESH-INTERVAL;VALUE=DURATION:PT1H
X-Robots-Tag:noindex
X-PUBLISHED-TTL:PT1H
BEGIN:VTIMEZONE
TZID:Europe/Paris
BEGIN:DAYLIGHT
TZOFFSETFROM:+0100
TZOFFSETTO:+0200
TZNAME:CEST
DTSTART:20240331T010000
END:DAYLIGHT
BEGIN:STANDARD
TZOFFSETFROM:+0200
TZOFFSETTO:+0100
TZNAME:CET
DTSTART:20241027T010000
END:STANDARD
BEGIN:DAYLIGHT
TZOFFSETFROM:+0100
TZOFFSETTO:+0200
TZNAME:CEST
DTSTART:20250330T010000
END:DAYLIGHT
BEGIN:STANDARD
TZOFFSETFROM:+0200
TZOFFSETTO:+0100
TZNAME:CET
DTSTART:20251026T010000
END:STANDARD
BEGIN:DAYLIGHT
TZOFFSETFROM:+0100
TZOFFSETTO:+0200
TZNAME:CEST
DTSTART:20260329T010000
END:DAYLIGHT
BEGIN:STANDARD
TZOFFSETFROM:+0200
TZOFFSETTO:+0100
TZNAME:CET
DTSTART:20261025T010000
END:STANDARD
END:VTIMEZONE
BEGIN:VEVENT
DTSTART;TZID=Europe/Paris:20251010T190000
DTEND;TZID=Europe/Paris:20251010T220000
DTSTAMP:20260423T074352
CREATED:20250922T180024Z
LAST-MODIFIED:20250926T113114Z
UID:5222-1760122800-1760133600@lattribut.org
SUMMARY:Projection documentaire "De rêves et de parpaings en présence de la réalisatrice Anne-Sophie Birot à L'Idée Halle - Ris Orangis
DESCRIPTION:🎬✨ Un docu près de chez vous ✨🎬En partenariat avec l’association Addoc \nVendredi 10 octobre à 20h\, L’Attribut vous invite à L’Idée Halle pour la projection du documentaire De rêves et de parpaings d’Anne-Sophie Birot.Un film sensible et inspirant qui questionne nos façons d’habiter le monde et de construire nos vies\, autant en briques qu’en espoirs. \nRésumé :Les EnChantières\, association de femmes qui partagent les savoirs du bâtiment\, se lancent dans la construction de leur propre atelier\, à Montreuil. Au départ utopique\, ce grand chantier participatif ouvert à toutes se transforme en une aventure collective\, nourrie de révoltes et de rêves. \n \nAnne Sophie Birot est scénariste et réalisatrice\, formée à la Fémis. Elle s’intéresse tout particulièrement aux luttes sociales et politiques et a réalisé plusieurs films sur la question de la résistance aux violences sexistes. Elle conjugue sa passion avec la transmission du cinéma : elle enseigne au lycée\, considérant que « le cinéma\, ce regard sur le monde doit être accessible à toutes et à tous ». \n👉 Entrée gratuite (sur réservation au 07 57 18 77 77)👉 Petite restauration dès 19h pour se régaler avant la séance👉 Bar ouvert pour trinquer et échanger après le film \nUne soirée conviviale\, entre cinéma\, discussions et saveurs\, à ne pas manquer !
URL:https://lattribut.org/event/projection-documentaire-de-reves-et-de-parpaings-en-presence-de-la-realisatrice-anne-sophie-birot-a-lidee-halle-ris-orangis/
LOCATION:L’idée Halle\, rue Eugène Freyssinet\, Ris-orangis\, 91130\, France
CATEGORIES:Animation,Documentaire,Faire autrement,Festivité
ATTACH;FMTTYPE=image/png:https://lattribut.org/wp-content/uploads/2025/09/Projection-1920-x-1080-px.png
END:VEVENT
BEGIN:VEVENT
DTSTART;TZID=Europe/Paris:20251031T160000
DTEND;TZID=Europe/Paris:20251031T170000
DTSTAMP:20260423T074352
CREATED:20250930T130007Z
LAST-MODIFIED:20250930T130007Z
UID:5282-1761926400-1761930000@lattribut.org
SUMMARY:Boom des enfants à L'Idée Halle - Ris Orangis
DESCRIPTION:🎉🌟 La BOOM des enfants à L’IDée Halle ! 🌟🎉 \nVendredi 31 octobre de 16h à 17h\, c’est la fête pour les petits (et les grands qui les accompagnent) !Au programme : de la musique pour danser\, des jeux pour rigoler et un délicieux goûter maison offert à chaque enfant. 😋 \nEnfants et parents peuvent venir déguisés s’ils le souhaitent : super-héros\, animaux\, princesses\, pirates… tout est permis ! 🎭 \nℹ️ Infos pratiques : \n\n\nInscription obligatoire au 📞 07 57 18 77 77 \n\n\nChaque enfant doit être accompagné d’au moins un parent (aucun enfant seul ne pourra être accepté). \n\n\nOn vous attend nombreux pour une heure de fête et de bonne humeur ! 🎶✨
URL:https://lattribut.org/event/boom-des-enfants-a-lidee-halle-ris-orangis/
LOCATION:L’idée Halle\, rue Eugène Freyssinet\, Ris-orangis\, 91130\, France
CATEGORIES:Animation,danse,Festivité
ATTACH;FMTTYPE=image/png:https://lattribut.org/wp-content/uploads/2025/09/8-mai-boom-des-enfants-1920-x-1080-px.png
END:VEVENT
END:VCALENDAR