BEGIN:VCALENDAR
VERSION:2.0
PRODID:-//L&#039;Attribut - ECPv6.15.20//NONSGML v1.0//EN
CALSCALE:GREGORIAN
METHOD:PUBLISH
X-WR-CALNAME:L&#039;Attribut
X-ORIGINAL-URL:https://lattribut.org
X-WR-CALDESC:Évènements pour L&#039;Attribut
REFRESH-INTERVAL;VALUE=DURATION:PT1H
X-Robots-Tag:noindex
X-PUBLISHED-TTL:PT1H
BEGIN:VTIMEZONE
TZID:Europe/Paris
BEGIN:DAYLIGHT
TZOFFSETFROM:+0100
TZOFFSETTO:+0200
TZNAME:CEST
DTSTART:20240331T010000
END:DAYLIGHT
BEGIN:STANDARD
TZOFFSETFROM:+0200
TZOFFSETTO:+0100
TZNAME:CET
DTSTART:20241027T010000
END:STANDARD
BEGIN:DAYLIGHT
TZOFFSETFROM:+0100
TZOFFSETTO:+0200
TZNAME:CEST
DTSTART:20250330T010000
END:DAYLIGHT
BEGIN:STANDARD
TZOFFSETFROM:+0200
TZOFFSETTO:+0100
TZNAME:CET
DTSTART:20251026T010000
END:STANDARD
BEGIN:DAYLIGHT
TZOFFSETFROM:+0100
TZOFFSETTO:+0200
TZNAME:CEST
DTSTART:20260329T010000
END:DAYLIGHT
BEGIN:STANDARD
TZOFFSETFROM:+0200
TZOFFSETTO:+0100
TZNAME:CET
DTSTART:20261025T010000
END:STANDARD
END:VTIMEZONE
BEGIN:VEVENT
DTSTART;TZID=Europe/Paris:20250611T143000
DTEND;TZID=Europe/Paris:20250611T173000
DTSTAMP:20260424T094728
CREATED:20250607T103228Z
LAST-MODIFIED:20250607T103228Z
UID:4965-1749652200-1749663000@lattribut.org
SUMMARY:Atelier décoration de panneaux à L'Idée Halle - Ris Orangis
DESCRIPTION:🎨 L’Attribut fait appel à ton talent de décorateur !À l’occasion de la Journée du Réemploi en Essonne\, nous préparons de superbes panneaux signalétiques… et nous avons besoin de ton coup de pinceau ! \n✨ Viens exprimer ta créativité en décorant nos panneaux avec nous\, dans une ambiance conviviale — et repars avec le sourire (et un bon goûter !). \n👧👦 À partir de 8 ans\, accompagné d’un adulte. \n📍 Infos & inscriptions : 07 57 18 77 77
URL:https://lattribut.org/event/atelier-decoration-de-panneaux-a-lidee-halle-ris-orangis/
LOCATION:L’idée Halle\, rue Eugène Freyssinet\, Ris-orangis\, 91130\, France
CATEGORIES:Animation,Ateliers,Festivité
ATTACH;FMTTYPE=image/png:https://lattribut.org/wp-content/uploads/2025/06/Atelier-panneaux-11-06.png
END:VEVENT
END:VCALENDAR