BEGIN:VCALENDAR
VERSION:2.0
PRODID:-//L&#039;Attribut - ECPv6.15.20//NONSGML v1.0//EN
CALSCALE:GREGORIAN
METHOD:PUBLISH
X-WR-CALNAME:L&#039;Attribut
X-ORIGINAL-URL:https://lattribut.org
X-WR-CALDESC:Évènements pour L&#039;Attribut
REFRESH-INTERVAL;VALUE=DURATION:PT1H
X-Robots-Tag:noindex
X-PUBLISHED-TTL:PT1H
BEGIN:VTIMEZONE
TZID:Europe/Paris
BEGIN:DAYLIGHT
TZOFFSETFROM:+0100
TZOFFSETTO:+0200
TZNAME:CEST
DTSTART:20240331T010000
END:DAYLIGHT
BEGIN:STANDARD
TZOFFSETFROM:+0200
TZOFFSETTO:+0100
TZNAME:CET
DTSTART:20241027T010000
END:STANDARD
BEGIN:DAYLIGHT
TZOFFSETFROM:+0100
TZOFFSETTO:+0200
TZNAME:CEST
DTSTART:20250330T010000
END:DAYLIGHT
BEGIN:STANDARD
TZOFFSETFROM:+0200
TZOFFSETTO:+0100
TZNAME:CET
DTSTART:20251026T010000
END:STANDARD
BEGIN:DAYLIGHT
TZOFFSETFROM:+0100
TZOFFSETTO:+0200
TZNAME:CEST
DTSTART:20260329T010000
END:DAYLIGHT
BEGIN:STANDARD
TZOFFSETFROM:+0200
TZOFFSETTO:+0100
TZNAME:CET
DTSTART:20261025T010000
END:STANDARD
END:VTIMEZONE
BEGIN:VEVENT
DTSTART;TZID=Europe/Paris:20251115T110000
DTEND;TZID=Europe/Paris:20251115T123000
DTSTAMP:20260425T060741
CREATED:20251106T124100Z
LAST-MODIFIED:20251106T124100Z
UID:5404-1763204400-1763209800@lattribut.org
SUMMARY:Atelier cosmétique à la Ressourcerie du Dragon - Evry-Courcouronnes
DESCRIPTION:🌿 Atelier cosmétique naturel – Fabrique ton sérum « spécial hiver » ❄️\nÀ la Ressourcerie du Dragon \nPrépare ta peau à affronter le froid ! Participe à un atelier convivial et créatif animé par une spécialiste des cosmétiques naturels.Tu apprendras à fabriquer ton propre sérum nourrissant et protecteur\, 100 % naturel\, idéal pour la saison hivernale. \n🧴 Au programme : \n\n\nDécouverte des bienfaits des huiles et actifs naturels \n\n\nFabrication pas à pas de ton sérum personnalisé \n\n\nConseils d’utilisation et astuces beauté naturelle \n\n\n📅 Infos pratiques : \n\n\nAtelier réservé aux adhérents de L’Attribut \n\n\nÀ partir de 14 ans \n\n\nTarif : 5 € \n\n\nAdhésion possible sur place\, à prix libre\, pour profiter de tous les ateliers de L’Attribut \n\n\nSur inscription (places limitées) \n\n\nRejoins-nous pour un moment de partage\, de bien-être et de douceur naturelle ! 🌸 \n 
URL:https://lattribut.org/event/atelier-cosmetique-a-la-ressourcerie-du-dragon-evry-courcouronnes-5/
LOCATION:La Ressourcerie du Dragon – Evry-Courcouronnes\, 306 Square du Dragon\, Evry-Courcouronnes\, 91000\, France
CATEGORIES:Ateliers,bien-être,Faire autrement,Santé
ATTACH;FMTTYPE=image/png:https://lattribut.org/wp-content/uploads/2025/11/Atelier-produits-menagers-naturels-2.png
END:VEVENT
BEGIN:VEVENT
DTSTART;TZID=Europe/Paris:20251115T110000
DTEND;TZID=Europe/Paris:20251115T123000
DTSTAMP:20260425T060741
CREATED:20260304T134309Z
LAST-MODIFIED:20260304T134309Z
UID:5885-1763204400-1763209800@lattribut.org
SUMMARY:Atelier cosmétique à la Ressourcerie du Dragon - Evry-Courcouronnes
DESCRIPTION:🌿 Atelier cosmétique naturel – Fabrique ta chantilly crème pour le corps\nÀ la Ressourcerie du Dragon \nParticipe à un atelier convivial et créatif animé par une spécialiste des cosmétiques naturels.Tu apprendras à fabriquer ta propre chantilly crème pour le corps nourrissante\, 100 % naturelle. \n🧴 Au programme : \n\n\nDécouverte des bienfaits des huiles et actifs naturels \n\n\nFabrication pas à pas de ta chantilly crème personnalisée \n\n\nConseils d’utilisation et astuces beauté naturelle \n\n\n📅 Infos pratiques : \n\n\nAtelier réservé aux adhérents de L’Attribut \n\n\nÀ partir de 14 ans \n\n\nTarif : 5 € \n\n\nAdhésion possible sur place\, à prix libre\, pour profiter de tous les ateliers de L’Attribut \n\n\nSur inscription (places limitées) \n\n\nRejoins-nous pour un moment de partage\, de bien-être et de douceur naturelle ! 🌸 \n 
URL:https://lattribut.org/event/atelier-cosmetique-a-la-ressourcerie-du-dragon-evry-courcouronnes-6/
LOCATION:La Ressourcerie du Dragon – Evry-Courcouronnes\, 306 Square du Dragon\, Evry-Courcouronnes\, 91000\, France
CATEGORIES:Ateliers,bien-être,Faire autrement,Santé
ATTACH;FMTTYPE=image/png:https://lattribut.org/wp-content/uploads/2026/03/atelier-1920-x-1080-px1.png
END:VEVENT
END:VCALENDAR