BEGIN:VCALENDAR
VERSION:2.0
PRODID:-//L&#039;Attribut - ECPv6.15.20//NONSGML v1.0//EN
CALSCALE:GREGORIAN
METHOD:PUBLISH
X-WR-CALNAME:L&#039;Attribut
X-ORIGINAL-URL:https://lattribut.org
X-WR-CALDESC:Évènements pour L&#039;Attribut
REFRESH-INTERVAL;VALUE=DURATION:PT1H
X-Robots-Tag:noindex
X-PUBLISHED-TTL:PT1H
BEGIN:VTIMEZONE
TZID:Europe/Paris
BEGIN:DAYLIGHT
TZOFFSETFROM:+0100
TZOFFSETTO:+0200
TZNAME:CEST
DTSTART:20220327T010000
END:DAYLIGHT
BEGIN:STANDARD
TZOFFSETFROM:+0200
TZOFFSETTO:+0100
TZNAME:CET
DTSTART:20221030T010000
END:STANDARD
BEGIN:DAYLIGHT
TZOFFSETFROM:+0100
TZOFFSETTO:+0200
TZNAME:CEST
DTSTART:20230326T010000
END:DAYLIGHT
BEGIN:STANDARD
TZOFFSETFROM:+0200
TZOFFSETTO:+0100
TZNAME:CET
DTSTART:20231029T010000
END:STANDARD
BEGIN:DAYLIGHT
TZOFFSETFROM:+0100
TZOFFSETTO:+0200
TZNAME:CEST
DTSTART:20240331T010000
END:DAYLIGHT
BEGIN:STANDARD
TZOFFSETFROM:+0200
TZOFFSETTO:+0100
TZNAME:CET
DTSTART:20241027T010000
END:STANDARD
END:VTIMEZONE
BEGIN:VEVENT
DTSTART;TZID=Europe/Paris:20230617T143000
DTEND;TZID=Europe/Paris:20230617T173000
DTSTAMP:20260422T023044
CREATED:20230526T131607Z
LAST-MODIFIED:20230531T150829Z
UID:2478-1687012200-1687023000@lattribut.org
SUMMARY:Atelier couture
DESCRIPTION:L’atelier couture  ouvre à l’Idée Halle\, pratique pour ceux qui souhaitent réparer leurs habits ou tissus usagés et ceux qui souhaitent apprendre à se servir des machines à coudre avec leur enfants à partir de 14 ans. \nNos bénévoles seront ravi.e.s de vous former. \nParticipation à prix libre\, seules les fournitures vous seront facturées… \nPour toute question\, contactez le 06.95.19.66.29
URL:https://lattribut.org/event/atelier-couture-7/
CATEGORIES:Ateliers,Bénévolat,bricolage,couture,Réemploi,Réparation
END:VEVENT
END:VCALENDAR