BEGIN:VCALENDAR
VERSION:2.0
PRODID:-//L&#039;Attribut - ECPv6.15.20//NONSGML v1.0//EN
CALSCALE:GREGORIAN
METHOD:PUBLISH
X-WR-CALNAME:L&#039;Attribut
X-ORIGINAL-URL:https://lattribut.org
X-WR-CALDESC:Évènements pour L&#039;Attribut
REFRESH-INTERVAL;VALUE=DURATION:PT1H
X-Robots-Tag:noindex
X-PUBLISHED-TTL:PT1H
BEGIN:VTIMEZONE
TZID:Europe/Paris
BEGIN:DAYLIGHT
TZOFFSETFROM:+0100
TZOFFSETTO:+0200
TZNAME:CEST
DTSTART:20230326T010000
END:DAYLIGHT
BEGIN:STANDARD
TZOFFSETFROM:+0200
TZOFFSETTO:+0100
TZNAME:CET
DTSTART:20231029T010000
END:STANDARD
BEGIN:DAYLIGHT
TZOFFSETFROM:+0100
TZOFFSETTO:+0200
TZNAME:CEST
DTSTART:20240331T010000
END:DAYLIGHT
BEGIN:STANDARD
TZOFFSETFROM:+0200
TZOFFSETTO:+0100
TZNAME:CET
DTSTART:20241027T010000
END:STANDARD
BEGIN:DAYLIGHT
TZOFFSETFROM:+0100
TZOFFSETTO:+0200
TZNAME:CEST
DTSTART:20250330T010000
END:DAYLIGHT
BEGIN:STANDARD
TZOFFSETFROM:+0200
TZOFFSETTO:+0100
TZNAME:CET
DTSTART:20251026T010000
END:STANDARD
END:VTIMEZONE
BEGIN:VEVENT
DTSTART;TZID=Europe/Paris:20241130T143000
DTEND;TZID=Europe/Paris:20241130T170000
DTSTAMP:20260422T141725
CREATED:20241105T105439Z
LAST-MODIFIED:20241105T105730Z
UID:4233-1732977000-1732986000@lattribut.org
SUMMARY:Atelier déco de verre au Local du 8 mai - Ris Orangis
DESCRIPTION:Venez décorez vos verres à la boutique du Plateau de Ris Orangis\n\n\n2 verres offerts\n\n\nà partir de 14 ans\n\n\nSur inscription au 07 57 18 77 77\n\n\n5€ par participant.e\n\n\nUne adhésion à l’association est obligatoire pour participer à l’atelier : en ligne ou sur place
URL:https://lattribut.org/event/atelier-deco-de-verre-a-la-boutique-du-plateau-ris-orangis-2/
LOCATION:Local du 8 mai 1945\, 5 rue du 8 mai 1945\, Ris Orangis\, 91130\, France
CATEGORIES:Ateliers,bricolage,Faire autrement
ATTACH;FMTTYPE=image/png:https://lattribut.org/wp-content/uploads/2024/11/Atelier-crochet-1.png
END:VEVENT
END:VCALENDAR