BEGIN:VCALENDAR
VERSION:2.0
PRODID:-//L&#039;Attribut - ECPv6.15.20//NONSGML v1.0//EN
CALSCALE:GREGORIAN
METHOD:PUBLISH
X-WR-CALNAME:L&#039;Attribut
X-ORIGINAL-URL:https://lattribut.org
X-WR-CALDESC:Évènements pour L&#039;Attribut
REFRESH-INTERVAL;VALUE=DURATION:PT1H
X-Robots-Tag:noindex
X-PUBLISHED-TTL:PT1H
BEGIN:VTIMEZONE
TZID:Europe/Paris
BEGIN:DAYLIGHT
TZOFFSETFROM:+0100
TZOFFSETTO:+0200
TZNAME:CEST
DTSTART:20240331T010000
END:DAYLIGHT
BEGIN:STANDARD
TZOFFSETFROM:+0200
TZOFFSETTO:+0100
TZNAME:CET
DTSTART:20241027T010000
END:STANDARD
BEGIN:DAYLIGHT
TZOFFSETFROM:+0100
TZOFFSETTO:+0200
TZNAME:CEST
DTSTART:20250330T010000
END:DAYLIGHT
BEGIN:STANDARD
TZOFFSETFROM:+0200
TZOFFSETTO:+0100
TZNAME:CET
DTSTART:20251026T010000
END:STANDARD
BEGIN:DAYLIGHT
TZOFFSETFROM:+0100
TZOFFSETTO:+0200
TZNAME:CEST
DTSTART:20260329T010000
END:DAYLIGHT
BEGIN:STANDARD
TZOFFSETFROM:+0200
TZOFFSETTO:+0100
TZNAME:CET
DTSTART:20261025T010000
END:STANDARD
END:VTIMEZONE
BEGIN:VEVENT
DTSTART;TZID=Europe/Paris:20250905T183000
DTEND;TZID=Europe/Paris:20250905T200000
DTSTAMP:20260422T155953
CREATED:20250826T113720Z
LAST-MODIFIED:20250826T114300Z
UID:5119-1757097000-1757102400@lattribut.org
SUMMARY:Découverte de l'AMAP de l'Attribut à L'Idée Halle - Ris Orangis
DESCRIPTION:Rencontre de l’AMAP de L’Attribut – À L’Idée Halle \nVous vous interrogez sur les circuits courts\, l’agriculture locale et le lien entre producteur·rice·s et consommateur·rice·s ? Venez découvrir l’AMAP de L’Attribut lors de leur distribution de paniers à L’Idée Halle ! \n👉 Qu’est-ce qu’une AMAP ?Une AMAP (Association pour le Maintien d’une Agriculture Paysanne) est un partenariat solidaire entre des producteur·rice·s locaux et un groupe de citoyen·ne·s. En s’engageant à l’année\, les amapien·ne·s soutiennent une ferme en préachetant une part de la production. En retour\, ils reçoivent chaque semaine ou toutes les 2 semaines un panier de produits frais\, bio et de saison. \n🌱 Notre ferme partenaire : la Ferme de L’AunetteSituée à proximité\, la Ferme de L’Aunette est tenue par Pierre et Pascal\, deux maraîchers passionnés qui cultivent des légumes bio dans le respect des cycles naturels et de la biodiversité. Ce partenariat permet de soutenir concrètement une agriculture locale\, humaine et durable. \n📅 Au programme de la soirée : \n\n\nPrésentation du fonctionnement de l’AMAP \n\n\nRencontre avec les bénévoles \n\n\nInformations sur les paniers\, les engagements et les distributions \n\n\nÉchanges dans une ambiance conviviale \n\n\n☕ Le café associatif de L’Idée Halle sera ouvert pour l’occasion. \nVenez poser vos questions\, vous renseigner\, ou simplement rencontrer une communauté engagée autour d’une autre façon de consommer !
URL:https://lattribut.org/event/rencontre-de-lamap-de-lattribut-a-lidee-halle-ris-orangis-2/
LOCATION:L’idée Halle\, rue Eugène Freyssinet\, Ris-orangis\, 91130\, France
CATEGORIES:Amap,bien-être,Faire autrement,Santé
ATTACH;FMTTYPE=image/png:https://lattribut.org/wp-content/uploads/2025/08/Amap-lAttribut-1920-x-1080-px-4.png
END:VEVENT
BEGIN:VEVENT
DTSTART;TZID=Europe/Paris:20250910T150000
DTEND;TZID=Europe/Paris:20250910T173000
DTSTAMP:20260422T155953
CREATED:20250905T143734Z
LAST-MODIFIED:20250905T143749Z
UID:5177-1757516400-1757525400@lattribut.org
SUMMARY:Répare vélo à L'Idée Halle – Ris Orangis
DESCRIPTION:Atelier de co-réparation de vélos\nNos bénévoles sont présent.e.s pour vous expliquer comment entretenir votre vélo\, diagnostiquer les réparations à effectuer\, vous aider à commander les pièces de rechange et vous accompagner dans la réparation.\nTarif de l’atelier : 5€ pour un diagnostic ou un accès à l’atelier (hors gonflage)\nSi vous souhaitez nous donner un vélo\, vous pouvez vous présenter aux bénévoles de l’atelier qui vous diront\, selon l’état du vélo\, s’ils peuvent l’accepter ou non. \n\nInscription : 07 57 18 77 77 – 2 horaires possibles : 15h00 ou 16h00\n\nPour participer à l’atelier\, il est nécessaire d’être adhérent.e à l’association.\nAdhérez sur place
URL:https://lattribut.org/event/repare-velo-a-lidee-halle-ris-orangis-5/
LOCATION:L’idée Halle\, rue Eugène Freyssinet\, Ris-orangis\, 91130\, France
CATEGORIES:Ateliers,bricolage,Faire autrement,Réparation,vélo
ATTACH;FMTTYPE=image/png:https://lattribut.org/wp-content/uploads/2025/09/Atelier-velo-Idee-Halle.png
END:VEVENT
BEGIN:VEVENT
DTSTART;TZID=Europe/Paris:20250912T170000
DTEND;TZID=Europe/Paris:20250912T190000
DTSTAMP:20260422T155953
CREATED:20250909T102036Z
LAST-MODIFIED:20250909T102036Z
UID:5189-1757696400-1757703600@lattribut.org
SUMMARY:Accueil des nouvelles·aux bénévoles à l'Idée Halle - Ris Orangis
DESCRIPTION:🌿 Soirée d’accueil des nouveaux bénévoles à L’Attribut 🌿 \nVous souhaitez rejoindre L’Attribut et donner un peu de votre temps pour faire vivre nos projets ?Nous serons heureux de vous accueillir lors de notre soirée dédiée aux nouvelles et nouveaux bénévoles ! \nAu programme : un moment convivial pour découvrir l’association\, rencontrer les bénévoles déjà engagés et échanger autour des valeurs qui nous animent. Ce sera aussi l’occasion de présenter la diversité de nos activités et de répondre à toutes vos questions. \nQue vous ayez beaucoup ou peu de temps à consacrer\, toutes les énergies sont bienvenues ! Cette soirée est l’occasion idéale pour faire connaissance et imaginer ensemble la suite de l’aventure. \nNous avons hâte de vous rencontrer et de partager ce moment avec vous. 💛
URL:https://lattribut.org/event/accueil-des-nouvelles%c2%b7aux-benevoles-a-lidee-halle-ris-orangis/
LOCATION:L’idée Halle\, rue Eugène Freyssinet\, Ris-orangis\, 91130\, France
CATEGORIES:Bénévolat,Faire autrement,Festivité
ATTACH;FMTTYPE=image/png:https://lattribut.org/wp-content/uploads/2025/09/IDH-accueil-nouveaux-benevoles-1920-x-1080-px.png
END:VEVENT
BEGIN:VEVENT
DTSTART;TZID=Europe/Paris:20250912T183000
DTEND;TZID=Europe/Paris:20250912T200000
DTSTAMP:20260422T155953
CREATED:20250826T113743Z
LAST-MODIFIED:20250826T114327Z
UID:5121-1757701800-1757707200@lattribut.org
SUMMARY:Découverte de l'AMAP de l'Attribut à L'Idée Halle - Ris Orangis
DESCRIPTION:Rencontre de l’AMAP de L’Attribut – À L’Idée Halle \nVous vous interrogez sur les circuits courts\, l’agriculture locale et le lien entre producteur·rice·s et consommateur·rice·s ? Venez découvrir l’AMAP de L’Attribut lors de leur distribution de paniers à L’Idée Halle ! \n👉 Qu’est-ce qu’une AMAP ?Une AMAP (Association pour le Maintien d’une Agriculture Paysanne) est un partenariat solidaire entre des producteur·rice·s locaux et un groupe de citoyen·ne·s. En s’engageant à l’année\, les amapien·ne·s soutiennent une ferme en préachetant une part de la production. En retour\, ils reçoivent chaque semaine ou toutes les 2 semaines un panier de produits frais\, bio et de saison. \n🌱 Notre ferme partenaire : la Ferme de L’AunetteSituée à proximité\, la Ferme de L’Aunette est tenue par Pierre et Pascal\, deux maraîchers passionnés qui cultivent des légumes bio dans le respect des cycles naturels et de la biodiversité. Ce partenariat permet de soutenir concrètement une agriculture locale\, humaine et durable. \n📅 Au programme de la soirée : \n\n\nPrésentation du fonctionnement de l’AMAP \n\n\nRencontre avec les bénévoles \n\n\nInformations sur les paniers\, les engagements et les distributions \n\n\nÉchanges dans une ambiance conviviale \n\n\n☕ Le café associatif de L’Idée Halle sera ouvert pour l’occasion. \nVenez poser vos questions\, vous renseigner\, ou simplement rencontrer une communauté engagée autour d’une autre façon de consommer !
URL:https://lattribut.org/event/rencontre-de-lamap-de-lattribut-a-lidee-halle-ris-orangis-3/
LOCATION:L’idée Halle\, rue Eugène Freyssinet\, Ris-orangis\, 91130\, France
CATEGORIES:Amap,bien-être,Faire autrement,Santé
ATTACH;FMTTYPE=image/png:https://lattribut.org/wp-content/uploads/2025/08/Amap-lAttribut-1920-x-1080-px-4.png
END:VEVENT
BEGIN:VEVENT
DTSTART;TZID=Europe/Paris:20250913T103000
DTEND;TZID=Europe/Paris:20250913T123000
DTSTAMP:20260422T155953
CREATED:20250905T145748Z
LAST-MODIFIED:20250905T145748Z
UID:5185-1757759400-1757766600@lattribut.org
SUMMARY:Répare vélo à la boutique du Plateau – Ris Orangis
DESCRIPTION:Atelier de co-réparation de vélos\n\nNos bénévoles sont présent.e.s pour vous expliquer comment entretenir votre vélo\, diagnostiquer les réparations à effectuer\, vous aider à commander les pièces de rechange et vous accompagner dans la réparation.\n\nPour soutenir l’association et le temps passé par nos bénévoles\, vous êtes invité.e.s à faire un DON LIBRE\n\nSi vous souhaitez nous donner un vélo\, vous pouvez vous présenter aux bénévoles de l’atelier qui vous diront\, selon l’état du vélo\, s’ils peuvent l’accepter ou non.\n\nInscription : 07 57 18 77 77\n\nPour participer à l’atelier\, il est nécessaire d’être adhérent.e à l’association.\nAdhérez en ligne via l’onglet Adhérez ou sur place
URL:https://lattribut.org/event/repare-velo-a-la-boutique-du-plateau-ris-orangis-12/
LOCATION:L’attribut du plateau\, Place du moulin à vent\, Ris-Orangis\, Essonnes\, 91130\, France
CATEGORIES:Ateliers,bricolage,Faire autrement,Réparation,vélo
ATTACH;FMTTYPE=image/png:https://lattribut.org/wp-content/uploads/2025/09/Atelier-ProVelo-Plateau-5.png
END:VEVENT
BEGIN:VEVENT
DTSTART;TZID=Europe/Paris:20250914T143000
DTEND;TZID=Europe/Paris:20250914T173000
DTSTAMP:20260422T155953
CREATED:20250826T111031Z
LAST-MODIFIED:20250826T111031Z
UID:5108-1757860200-1757871000@lattribut.org
SUMMARY:Dépôt des dons à L'Idée Halle - Ris Orangis
DESCRIPTION:📦 Dépôt de dons à l’Idée Halle & ouverture du café associatif de l’Idée Halle ☕\nVous avez fait du tri dans vos placards ?Les enfants ont grandi ou ne jouent plus avec certains jouets ?C’est le moment de donner une seconde vie à ces objets ! \n📍 Rendez-vous à l’Idée Halle pour déposer vos dons et partager un moment convivial.☕ Profitez-en pour faire une pause gourmande au café associatif : boissons\, douceurs maison et bonne humeur vous y attendent ! \n✅ Les dons seront pesés\, vérifiés et triés avec vous\, sur place. \n🔍 Quelques règles à respecter pour faciliter le tri : \n✅ Nous acceptons :\n\n\nVêtements adultes et enfants propres\, en bon état\, printemps/été uniquement \n\n\nPetits appareils électroménagers en état de marche \n\n\nLivres pour enfants \n\n\nJeux de société (complets) et jouets \n\n\nObjets de décoration \n\n\nVaisselle\, casseroles \n\n\nPetit mobilier (chevets\, chaises…) \n\n\nFournitures diverses \n\n\nOutils \n\n\n❌ Nous ne pouvons pas accepter :\n\n\nGros mobilier (canapés\, armoires\, grandes tables…) \n\n\nMatériel informatique (PC\, imprimantes\, scanners…) \n\n\nEncyclopédies\, magazines \n\n\nCassettes VHS et audio
URL:https://lattribut.org/event/depot-des-dons-a-lidee-halle-ris-orangis-4/
LOCATION:L’idée Halle\, rue Eugène Freyssinet\, Ris-orangis\, 91130\, France
CATEGORIES:Faire autrement,friperie,Réemploi,Ressourcerie,Restauration
ATTACH;FMTTYPE=image/png:https://lattribut.org/wp-content/uploads/2025/08/dons-IDH-2.png
END:VEVENT
BEGIN:VEVENT
DTSTART;TZID=Europe/Paris:20250917T150000
DTEND;TZID=Europe/Paris:20250917T173000
DTSTAMP:20260422T155953
CREATED:20250905T143811Z
LAST-MODIFIED:20250905T143811Z
UID:5180-1758121200-1758130200@lattribut.org
SUMMARY:Répare vélo à L'Idée Halle – Ris Orangis
DESCRIPTION:Atelier de co-réparation de vélos\nNos bénévoles sont présent.e.s pour vous expliquer comment entretenir votre vélo\, diagnostiquer les réparations à effectuer\, vous aider à commander les pièces de rechange et vous accompagner dans la réparation.\nTarif de l’atelier : 5€ pour un diagnostic ou un accès à l’atelier (hors gonflage)\nSi vous souhaitez nous donner un vélo\, vous pouvez vous présenter aux bénévoles de l’atelier qui vous diront\, selon l’état du vélo\, s’ils peuvent l’accepter ou non. \n\nInscription : 07 57 18 77 77 – 2 horaires possibles : 15h00 ou 16h00\n\nPour participer à l’atelier\, il est nécessaire d’être adhérent.e à l’association.\nAdhérez sur place
URL:https://lattribut.org/event/repare-velo-a-lidee-halle-ris-orangis-6/
LOCATION:L’idée Halle\, rue Eugène Freyssinet\, Ris-orangis\, 91130\, France
CATEGORIES:Ateliers,bricolage,Faire autrement,Réparation,vélo
ATTACH;FMTTYPE=image/png:https://lattribut.org/wp-content/uploads/2025/09/Atelier-velo-Idee-Halle.png
END:VEVENT
BEGIN:VEVENT
DTSTART;TZID=Europe/Paris:20250917T173000
DTEND;TZID=Europe/Paris:20250917T183000
DTSTAMP:20260422T155953
CREATED:20250911T101821Z
LAST-MODIFIED:20250911T101821Z
UID:5194-1758130200-1758133800@lattribut.org
SUMMARY:Réunion d'information sur le service civique à L'Attribut à L'Idée Halle - Ris Orangis
DESCRIPTION:🌱 Fais ton service civique à L’Attribut ! 🌱 \nTu as entre 18 et 25 ans et tu veux t’engager pour l’écologie\, apprendre en faisant et rencontrer plein de gens motivés ?👉 L’Attribut t’accueille en service civique pour 6 mois d’aventure solidaire et écologique ! \nNotre association agit au quotidien pour sensibiliser à l’environnement à travers :✨ Une ressourcerie où les objets retrouvent une nouvelle vie☕ Un café associatif convivial et engagé🔧 Des ateliers « faire soi-même » pour créer\, réparer et apprendre ensemble🌍 Et plein d’autres projets collectifs et festifs ! \nEn rejoignant l’équipe\, tu pourras : \n\n\nParticiper à l’organisation d’animations et d’événements \n\n\nSensibiliser le public à l’écologie \n\n\nImaginer et mettre en place des projets créatifs \n\n\nDécouvrir la vie associative dans une ambiance chaleureuse \n\n\n💡 Tu veux en savoir plus ?👉 Viens nous rencontrer lors de notre réunion d’information ! \n📅 Mercredi 17 septembre à 17h30📍 L’Idée Halle\, 6 rue Eugène Freyssinet à Ris Orangis \nPas besoin de compétences particulières\, juste ta motivation et ton envie de t’engager comptent ! \nInfo au 07 57 18 77 77
URL:https://lattribut.org/event/reunion-dinformation-sur-le-service-civique-a-lattribut-a-lidee-halle-ris-orangis/
LOCATION:L’idée Halle\, rue Eugène Freyssinet\, Ris-orangis\, 91130\, France
CATEGORIES:Faire autrement,Réemploi,Ressourcerie,zéro déchets
ATTACH;FMTTYPE=image/png:https://lattribut.org/wp-content/uploads/2025/09/IDH-reunion-info-SC.png
END:VEVENT
BEGIN:VEVENT
DTSTART;TZID=Europe/Paris:20250919T183000
DTEND;TZID=Europe/Paris:20250919T200000
DTSTAMP:20260422T155953
CREATED:20250826T113813Z
LAST-MODIFIED:20250826T114404Z
UID:5123-1758306600-1758312000@lattribut.org
SUMMARY:Découverte de l'AMAP de l'Attribut à L'Idée Halle - Ris Orangis
DESCRIPTION:Rencontre de l’AMAP de L’Attribut – À L’Idée Halle \nVous vous interrogez sur les circuits courts\, l’agriculture locale et le lien entre producteur·rice·s et consommateur·rice·s ? Venez découvrir l’AMAP de L’Attribut lors de leur distribution de paniers à L’Idée Halle ! \n👉 Qu’est-ce qu’une AMAP ?Une AMAP (Association pour le Maintien d’une Agriculture Paysanne) est un partenariat solidaire entre des producteur·rice·s locaux et un groupe de citoyen·ne·s. En s’engageant à l’année\, les amapien·ne·s soutiennent une ferme en préachetant une part de la production. En retour\, ils reçoivent chaque semaine ou toutes les 2 semaines un panier de produits frais\, bio et de saison. \n🌱 Notre ferme partenaire : la Ferme de L’AunetteSituée à proximité\, la Ferme de L’Aunette est tenue par Pierre et Pascal\, deux maraîchers passionnés qui cultivent des légumes bio dans le respect des cycles naturels et de la biodiversité. Ce partenariat permet de soutenir concrètement une agriculture locale\, humaine et durable. \n📅 Au programme de la soirée : \n\n\nPrésentation du fonctionnement de l’AMAP \n\n\nRencontre avec les bénévoles \n\n\nInformations sur les paniers\, les engagements et les distributions \n\n\nÉchanges dans une ambiance conviviale \n\n\n☕ Le café associatif de L’Idée Halle sera ouvert pour l’occasion. \nVenez poser vos questions\, vous renseigner\, ou simplement rencontrer une communauté engagée autour d’une autre façon de consommer !
URL:https://lattribut.org/event/rencontre-de-lamap-de-lattribut-a-lidee-halle-ris-orangis-4/
LOCATION:L’idée Halle\, rue Eugène Freyssinet\, Ris-orangis\, 91130\, France
CATEGORIES:Amap,bien-être,Faire autrement,Santé
ATTACH;FMTTYPE=image/png:https://lattribut.org/wp-content/uploads/2025/08/Amap-lAttribut-1920-x-1080-px-4.png
END:VEVENT
BEGIN:VEVENT
DTSTART;TZID=Europe/Paris:20250924T150000
DTEND;TZID=Europe/Paris:20250924T173000
DTSTAMP:20260422T155953
CREATED:20250905T143840Z
LAST-MODIFIED:20250905T144100Z
UID:5182-1758726000-1758735000@lattribut.org
SUMMARY:Répare vélo à L'Idée Halle – Ris Orangis
DESCRIPTION:Atelier de co-réparation de vélos\nNos bénévoles sont présent.e.s pour vous expliquer comment entretenir votre vélo\, diagnostiquer les réparations à effectuer\, vous aider à commander les pièces de rechange et vous accompagner dans la réparation.\nTarif de l’atelier : 5€ pour un diagnostic ou un accès à l’atelier (hors gonflage)\nSi vous souhaitez nous donner un vélo\, vous pouvez vous présenter aux bénévoles de l’atelier qui vous diront\, selon l’état du vélo\, s’ils peuvent l’accepter ou non. \n\nInscription : 07 57 18 77 77 – 2 horaires possibles : 15h00 ou 16h00\n\nPour participer à l’atelier\, il est nécessaire d’être adhérent.e à l’association.\nAdhérez sur place
URL:https://lattribut.org/event/repare-velo-a-lidee-halle-ris-orangis-7/
LOCATION:L’idée Halle\, rue Eugène Freyssinet\, Ris-orangis\, 91130\, France
CATEGORIES:Ateliers,bricolage,Faire autrement,Réparation,vélo
ATTACH;FMTTYPE=image/png:https://lattribut.org/wp-content/uploads/2025/09/Atelier-velo-Idee-Halle.png
END:VEVENT
BEGIN:VEVENT
DTSTART;TZID=Europe/Paris:20250926T183000
DTEND;TZID=Europe/Paris:20250926T200000
DTSTAMP:20260422T155954
CREATED:20250826T113838Z
LAST-MODIFIED:20250826T114450Z
UID:5125-1758911400-1758916800@lattribut.org
SUMMARY:Découverte de l'AMAP de l'Attribut à L'Idée Halle - Ris Orangis
DESCRIPTION:Rencontre de l’AMAP de L’Attribut – À L’Idée Halle \nVous vous interrogez sur les circuits courts\, l’agriculture locale et le lien entre producteur·rice·s et consommateur·rice·s ? Venez découvrir l’AMAP de L’Attribut lors de leur distribution de paniers à L’Idée Halle ! \n👉 Qu’est-ce qu’une AMAP ?Une AMAP (Association pour le Maintien d’une Agriculture Paysanne) est un partenariat solidaire entre des producteur·rice·s locaux et un groupe de citoyen·ne·s. En s’engageant à l’année\, les amapien·ne·s soutiennent une ferme en préachetant une part de la production. En retour\, ils reçoivent chaque semaine ou toutes les 2 semaines un panier de produits frais\, bio et de saison. \n🌱 Notre ferme partenaire : la Ferme de L’AunetteSituée à proximité\, la Ferme de L’Aunette est tenue par Pierre et Pascal\, deux maraîchers passionnés qui cultivent des légumes bio dans le respect des cycles naturels et de la biodiversité. Ce partenariat permet de soutenir concrètement une agriculture locale\, humaine et durable. \n📅 Au programme de la soirée : \n\n\nPrésentation du fonctionnement de l’AMAP \n\n\nRencontre avec les bénévoles \n\n\nInformations sur les paniers\, les engagements et les distributions \n\n\nÉchanges dans une ambiance conviviale \n\n\n☕ Le café associatif de L’Idée Halle sera ouvert pour l’occasion. \nVenez poser vos questions\, vous renseigner\, ou simplement rencontrer une communauté engagée autour d’une autre façon de consommer !
URL:https://lattribut.org/event/rencontre-de-lamap-de-lattribut-a-lidee-halle-ris-orangis-5/
LOCATION:L’idée Halle\, rue Eugène Freyssinet\, Ris-orangis\, 91130\, France
CATEGORIES:Amap,bien-être,Faire autrement,Santé
ATTACH;FMTTYPE=image/png:https://lattribut.org/wp-content/uploads/2025/08/Amap-lAttribut-1920-x-1080-px-4.png
END:VEVENT
END:VCALENDAR