BEGIN:VCALENDAR
VERSION:2.0
PRODID:-//L&#039;Attribut - ECPv6.15.20//NONSGML v1.0//EN
CALSCALE:GREGORIAN
METHOD:PUBLISH
X-ORIGINAL-URL:https://lattribut.org
X-WR-CALDESC:Évènements pour L&#039;Attribut
REFRESH-INTERVAL;VALUE=DURATION:PT1H
X-Robots-Tag:noindex
X-PUBLISHED-TTL:PT1H
BEGIN:VTIMEZONE
TZID:Europe/Paris
BEGIN:DAYLIGHT
TZOFFSETFROM:+0100
TZOFFSETTO:+0200
TZNAME:CEST
DTSTART:20240331T010000
END:DAYLIGHT
BEGIN:STANDARD
TZOFFSETFROM:+0200
TZOFFSETTO:+0100
TZNAME:CET
DTSTART:20241027T010000
END:STANDARD
BEGIN:DAYLIGHT
TZOFFSETFROM:+0100
TZOFFSETTO:+0200
TZNAME:CEST
DTSTART:20250330T010000
END:DAYLIGHT
BEGIN:STANDARD
TZOFFSETFROM:+0200
TZOFFSETTO:+0100
TZNAME:CET
DTSTART:20251026T010000
END:STANDARD
BEGIN:DAYLIGHT
TZOFFSETFROM:+0100
TZOFFSETTO:+0200
TZNAME:CEST
DTSTART:20260329T010000
END:DAYLIGHT
BEGIN:STANDARD
TZOFFSETFROM:+0200
TZOFFSETTO:+0100
TZNAME:CET
DTSTART:20261025T010000
END:STANDARD
END:VTIMEZONE
BEGIN:VEVENT
DTSTART;TZID=Europe/Paris:20251010T150000
DTEND;TZID=Europe/Paris:20251010T173000
DTSTAMP:20260424T092154
CREATED:20250930T155213Z
LAST-MODIFIED:20250930T155213Z
UID:5288-1760108400-1760117400@lattribut.org
SUMMARY:Atelier co-réparation vélo à L'Idée Halle - Ris Orangis
DESCRIPTION:🚲 Atelier de co-réparation de vélos \nEnvie de remettre votre vélo en forme ? Nos bénévoles sont là pour vous accompagner : entretien\, diagnostic des réparations\, aide au choix des pièces de rechange et accompagnement pas à pas dans la réparation. \n💶 Tarif : 5 € (diagnostic ou accès à l’atelier – hors simple gonflage)♻️ Vous souhaitez donner un vélo ? Présentez-vous aux bénévoles : selon son état\, ils vous diront s’il peut être récupéré. \n📅 Horaires : deux créneaux au choix – 15h00 ou 16h00📞 Inscription obligatoire : 07 57 18 77 77 \nℹ️ La participation à l’atelier nécessite d’être adhérent·e à l’association (adhésion possible sur place).
URL:https://lattribut.org/event/atelier-co-reparation-velo-a-lidee-halle-ris-orangis-3/
LOCATION:L’idée Halle\, rue Eugène Freyssinet\, Ris-orangis\, 91130\, France
CATEGORIES:Ateliers,bricolage,Faire autrement,Réparation,vélo
ATTACH;FMTTYPE=image/png:https://lattribut.org/wp-content/uploads/2025/09/Atelier-velo-Idee-Halle-1.png
END:VEVENT
BEGIN:VEVENT
DTSTART;TZID=Europe/Paris:20251010T180000
DTEND;TZID=Europe/Paris:20251010T190000
DTSTAMP:20260424T092154
CREATED:20250922T173131Z
LAST-MODIFIED:20250922T173209Z
UID:5218-1760119200-1760122800@lattribut.org
SUMMARY:Atelier découverte du lombricompost à L'Idée Halle - Ris Orangis
DESCRIPTION:🌱🐛 Atelier Découverte du Lombricompost 🐛🌱 \nEt si tes déchets de cuisine devenaient une vraie richesse ?Viens rencontrer les super-héros du recyclage : de petits vers discrets mais ultra-efficaces\, capables de transformer tes épluchures en or pour ton jardin ou tes plantes ! ✨ \n👉 Au programme : \n\n\nDécouvrir le monde fascinant du lombricompost \n\n\nComprendre comment ces alliés 100% naturels bossent pour toi \n\n\nApprendre à réduire facilement tes déchets au quotidien \n\n\n📅 Vendredi 10 octobre – 18h00📍 L’Idée Halle\, 6 rue Eugène Freyssinet\, Ris-Orangis \nSur réservation au 07 57 18 77 77 ou attributris@lattribut.og \n💸 Atelier à prix libre🤝 Adhésion à L’Attribut obligatoire \nAlors\, prêt.e à adopter tes nouveaux colocataires écolos ? 🌍✨
URL:https://lattribut.org/event/atelier-decouverte-du-lombricompost-a-lidee-halle-ris-orangis/
LOCATION:L’idée Halle\, rue Eugène Freyssinet\, Ris-orangis\, 91130\, France
CATEGORIES:Ateliers,Biodiversité,Faire autrement,Jardinage
ATTACH;FMTTYPE=image/png:https://lattribut.org/wp-content/uploads/2025/09/IDH-atelier-compost.png
END:VEVENT
BEGIN:VEVENT
DTSTART;TZID=Europe/Paris:20251010T183000
DTEND;TZID=Europe/Paris:20251010T200000
DTSTAMP:20260424T092154
CREATED:20250826T113934Z
LAST-MODIFIED:20250826T114616Z
UID:5129-1760121000-1760126400@lattribut.org
SUMMARY:Découverte de l'AMAP de l'Attribut à L'Idée Halle - Ris Orangis
DESCRIPTION:Rencontre de l’AMAP de L’Attribut – À L’Idée Halle \nVous vous interrogez sur les circuits courts\, l’agriculture locale et le lien entre producteur·rice·s et consommateur·rice·s ? Venez découvrir l’AMAP de L’Attribut lors de leur distribution de paniers à L’Idée Halle ! \n👉 Qu’est-ce qu’une AMAP ?Une AMAP (Association pour le Maintien d’une Agriculture Paysanne) est un partenariat solidaire entre des producteur·rice·s locaux et un groupe de citoyen·ne·s. En s’engageant à l’année\, les amapien·ne·s soutiennent une ferme en préachetant une part de la production. En retour\, ils reçoivent chaque semaine ou toutes les 2 semaines un panier de produits frais\, bio et de saison. \n🌱 Notre ferme partenaire : la Ferme de L’AunetteSituée à proximité\, la Ferme de L’Aunette est tenue par Pierre et Pascal\, deux maraîchers passionnés qui cultivent des légumes bio dans le respect des cycles naturels et de la biodiversité. Ce partenariat permet de soutenir concrètement une agriculture locale\, humaine et durable. \n📅 Au programme de la soirée : \n\n\nPrésentation du fonctionnement de l’AMAP \n\n\nRencontre avec les bénévoles \n\n\nInformations sur les paniers\, les engagements et les distributions \n\n\nÉchanges dans une ambiance conviviale \n\n\n☕ Le café associatif de L’Idée Halle sera ouvert pour l’occasion. \nVenez poser vos questions\, vous renseigner\, ou simplement rencontrer une communauté engagée autour d’une autre façon de consommer !
URL:https://lattribut.org/event/rencontre-de-lamap-de-lattribut-a-lidee-halle-ris-orangis-7/
LOCATION:L’idée Halle\, rue Eugène Freyssinet\, Ris-orangis\, 91130\, France
CATEGORIES:Amap,bien-être,Faire autrement,Santé
ATTACH;FMTTYPE=image/png:https://lattribut.org/wp-content/uploads/2025/08/Amap-lAttribut-1920-x-1080-px-4.png
END:VEVENT
BEGIN:VEVENT
DTSTART;TZID=Europe/Paris:20251010T190000
DTEND;TZID=Europe/Paris:20251010T220000
DTSTAMP:20260424T092154
CREATED:20250922T180024Z
LAST-MODIFIED:20250926T113114Z
UID:5222-1760122800-1760133600@lattribut.org
SUMMARY:Projection documentaire "De rêves et de parpaings en présence de la réalisatrice Anne-Sophie Birot à L'Idée Halle - Ris Orangis
DESCRIPTION:🎬✨ Un docu près de chez vous ✨🎬En partenariat avec l’association Addoc \nVendredi 10 octobre à 20h\, L’Attribut vous invite à L’Idée Halle pour la projection du documentaire De rêves et de parpaings d’Anne-Sophie Birot.Un film sensible et inspirant qui questionne nos façons d’habiter le monde et de construire nos vies\, autant en briques qu’en espoirs. \nRésumé :Les EnChantières\, association de femmes qui partagent les savoirs du bâtiment\, se lancent dans la construction de leur propre atelier\, à Montreuil. Au départ utopique\, ce grand chantier participatif ouvert à toutes se transforme en une aventure collective\, nourrie de révoltes et de rêves. \n \nAnne Sophie Birot est scénariste et réalisatrice\, formée à la Fémis. Elle s’intéresse tout particulièrement aux luttes sociales et politiques et a réalisé plusieurs films sur la question de la résistance aux violences sexistes. Elle conjugue sa passion avec la transmission du cinéma : elle enseigne au lycée\, considérant que « le cinéma\, ce regard sur le monde doit être accessible à toutes et à tous ». \n👉 Entrée gratuite (sur réservation au 07 57 18 77 77)👉 Petite restauration dès 19h pour se régaler avant la séance👉 Bar ouvert pour trinquer et échanger après le film \nUne soirée conviviale\, entre cinéma\, discussions et saveurs\, à ne pas manquer !
URL:https://lattribut.org/event/projection-documentaire-de-reves-et-de-parpaings-en-presence-de-la-realisatrice-anne-sophie-birot-a-lidee-halle-ris-orangis/
LOCATION:L’idée Halle\, rue Eugène Freyssinet\, Ris-orangis\, 91130\, France
CATEGORIES:Animation,Documentaire,Faire autrement,Festivité
ATTACH;FMTTYPE=image/png:https://lattribut.org/wp-content/uploads/2025/09/Projection-1920-x-1080-px.png
END:VEVENT
END:VCALENDAR