BEGIN:VCALENDAR
VERSION:2.0
PRODID:-//L&#039;Attribut - ECPv6.15.20//NONSGML v1.0//EN
CALSCALE:GREGORIAN
METHOD:PUBLISH
X-WR-CALNAME:L&#039;Attribut
X-ORIGINAL-URL:https://lattribut.org
X-WR-CALDESC:Évènements pour L&#039;Attribut
REFRESH-INTERVAL;VALUE=DURATION:PT1H
X-Robots-Tag:noindex
X-PUBLISHED-TTL:PT1H
BEGIN:VTIMEZONE
TZID:Europe/Paris
BEGIN:DAYLIGHT
TZOFFSETFROM:+0100
TZOFFSETTO:+0200
TZNAME:CEST
DTSTART:20250330T010000
END:DAYLIGHT
BEGIN:STANDARD
TZOFFSETFROM:+0200
TZOFFSETTO:+0100
TZNAME:CET
DTSTART:20251026T010000
END:STANDARD
BEGIN:DAYLIGHT
TZOFFSETFROM:+0100
TZOFFSETTO:+0200
TZNAME:CEST
DTSTART:20260329T010000
END:DAYLIGHT
BEGIN:STANDARD
TZOFFSETFROM:+0200
TZOFFSETTO:+0100
TZNAME:CET
DTSTART:20261025T010000
END:STANDARD
BEGIN:DAYLIGHT
TZOFFSETFROM:+0100
TZOFFSETTO:+0200
TZNAME:CEST
DTSTART:20270328T010000
END:DAYLIGHT
BEGIN:STANDARD
TZOFFSETFROM:+0200
TZOFFSETTO:+0100
TZNAME:CET
DTSTART:20271031T010000
END:STANDARD
END:VTIMEZONE
BEGIN:VEVENT
DTSTART;TZID=Europe/Paris:20260415T103000
DTEND;TZID=Europe/Paris:20260415T123000
DTSTAMP:20260423T193028
CREATED:20260327T141021Z
LAST-MODIFIED:20260327T141021Z
UID:5956-1776249000-1776256200@lattribut.org
SUMMARY:Atelier couture à la Ressourcerie du Dragon
DESCRIPTION:✂️🧵 Atelier Couture Fun & Créatif avec L’Attribut 🧵✂️ \nEnvie de donner une seconde vie à tes fringues ?De dompter une machine à coudre (sans te coudre les doigts 😅) ?Rejoins les bénévoles de L’Attribut pour un atelier couture placé sous le signe de la créativité et du partage ! \nAu programme :✨ Prise en main de la machine à coudre (promis\, elle ne mord pas)✨ Upcycling stylé : détourner et valoriser tes textiles pour en faire des pièces uniques✨ Bonne ambiance garantie \n👕 À partir de 14 ans💸 Participation : 5 €🤝 Adhésion annuelle à L’Attribut obligatoire (et ça vaut le coup !) \n📞 Inscription au 07 57 18 26 16– les places sont limitées\, fonce !
URL:https://lattribut.org/event/atelier-couture-a-la-ressourcerie-du-dragon-13/
LOCATION:La Ressourcerie du Dragon – Evry-Courcouronnes\, 306 Square du Dragon\, Evry-Courcouronnes\, 91000\, France
CATEGORIES:Ateliers,couture,Faire autrement,Récup,Réemploi,Ressourcerie
ATTACH;FMTTYPE=image/png:https://lattribut.org/wp-content/uploads/2026/01/EVRY-2.png
END:VEVENT
BEGIN:VEVENT
DTSTART;TZID=Europe/Paris:20260415T143000
DTEND;TZID=Europe/Paris:20260415T173000
DTSTAMP:20260423T193028
CREATED:20260324T093121Z
LAST-MODIFIED:20260324T093121Z
UID:5908-1776263400-1776274200@lattribut.org
SUMMARY:Atelier co-réparation vélo à L'Idée Halle - Ris Orangis
DESCRIPTION:🚲 Atelier de co-réparation de vélos \nEnvie de remettre votre vélo en forme ? Nos bénévoles sont là pour vous accompagner : entretien\, diagnostic des réparations\, aide au choix des pièces de rechange et accompagnement pas à pas dans la réparation. \n💶 Tarif : 5 € (diagnostic ou accès à l’atelier – hors simple gonflage)♻️ Vous souhaitez donner un vélo ? Présentez-vous aux bénévoles : selon son état\, ils vous diront s’il peut être récupéré. \n📅 Horaires : deux créneaux au choix – 14h30 ou 16h00📞 Inscription obligatoire : 07 57 18 77 77 \nℹ️ La participation à l’atelier nécessite d’être adhérent·e à l’association (adhésion possible sur place).
URL:https://lattribut.org/event/atelier-co-reparation-velo-a-lidee-halle-ris-orangis-50/
LOCATION:L’idée Halle\, rue Eugène Freyssinet\, Ris-orangis\, 91130\, France
CATEGORIES:Ateliers,bricolage,Faire autrement,Réparation,vélo
ATTACH;FMTTYPE=image/png:https://lattribut.org/wp-content/uploads/2025/11/Atelier-velo-8-mai-5.png
END:VEVENT
BEGIN:VEVENT
DTSTART;TZID=Europe/Paris:20260415T150000
DTEND;TZID=Europe/Paris:20260415T170000
DTSTAMP:20260423T193028
CREATED:20260327T150250Z
LAST-MODIFIED:20260327T150900Z
UID:5975-1776265200-1776272400@lattribut.org
SUMMARY:Atelier couture à la main\, tricot et crochet à la Ressourcerie du Dragon - Evry-Courcouronnes
DESCRIPTION:Rejoignez-nous pour un atelier créatif et convivial animé par les bénévoles de l’Attribut ! Venez découvrir les techniques manuelles comme le crochet et le tricot et créer des pièces uniques avec plaisir et simplicité. \nDe 15h à 17h : \n\nCouture à la main\ntricot et crochet\nDétournement et valorisation de textiles (upcycling)\n\nSUR RÉSERVATION\, places limitées : 07 57 18 26 16 ou par mail à ressourceriedragon@lattribut.org \nParticipation libre et consciente à l’atelier – pour valoriser le temps des bénévoles et les matériaux mis à disposition \nUne adhésion annuelle à l’Attribut est nécessaire pour participer aux ateliers.
URL:https://lattribut.org/event/atelier-couture-a-la-main-tricot-et-crochet-a-la-ressourcerie-du-dragon-evry-courcouronnes-10/
LOCATION:La Ressourcerie du Dragon – Evry-Courcouronnes\, 306 Square du Dragon\, Evry-Courcouronnes\, 91000\, France
CATEGORIES:Ateliers,couture,Faire autrement
ATTACH;FMTTYPE=image/png:https://lattribut.org/wp-content/uploads/2025/07/EVRY4.png
END:VEVENT
BEGIN:VEVENT
DTSTART;TZID=Europe/Paris:20260417T143000
DTEND;TZID=Europe/Paris:20260417T173000
DTSTAMP:20260423T193028
CREATED:20260324T093145Z
LAST-MODIFIED:20260324T093145Z
UID:5910-1776436200-1776447000@lattribut.org
SUMMARY:Atelier co-réparation vélo à L'Idée Halle - Ris Orangis
DESCRIPTION:🚲 Atelier de co-réparation de vélos \nEnvie de remettre votre vélo en forme ? Nos bénévoles sont là pour vous accompagner : entretien\, diagnostic des réparations\, aide au choix des pièces de rechange et accompagnement pas à pas dans la réparation. \n💶 Tarif : 5 € (diagnostic ou accès à l’atelier – hors simple gonflage)♻️ Vous souhaitez donner un vélo ? Présentez-vous aux bénévoles : selon son état\, ils vous diront s’il peut être récupéré. \n📅 Horaires : deux créneaux au choix – 14h30 ou 16h00📞 Inscription obligatoire : 07 57 18 77 77 \nℹ️ La participation à l’atelier nécessite d’être adhérent·e à l’association (adhésion possible sur place).
URL:https://lattribut.org/event/atelier-co-reparation-velo-a-lidee-halle-ris-orangis-51/
LOCATION:L’idée Halle\, rue Eugène Freyssinet\, Ris-orangis\, 91130\, France
CATEGORIES:Ateliers,bricolage,Faire autrement,Réparation,vélo
ATTACH;FMTTYPE=image/png:https://lattribut.org/wp-content/uploads/2025/11/Atelier-velo-8-mai-5.png
END:VEVENT
BEGIN:VEVENT
DTSTART;TZID=Europe/Paris:20260418T100000
DTEND;TZID=Europe/Paris:20260418T140000
DTSTAMP:20260423T193028
CREATED:20260401T132434Z
LAST-MODIFIED:20260401T132434Z
UID:6008-1776506400-1776520800@lattribut.org
SUMMARY:Ressourcerie éphémère au Plateau – Donnez\, équipez-vous\, participez !
DESCRIPTION:Ressourcerie éphémère au Plateau – Donnez\, équipez-vous\, participez ! ♻️\nL’association L’Attribut installe une ressourcerie éphémère au Plateau\, place du Moulin à Vent à Ris-Orangis. Pendant quelques jours\, venez déposer les objets dont vous n’avez plus l’usage\, puis retrouvez-les réparés\, valorisés et proposés à petits prix lors d’une boutique solidaire ouverte à toutes et tous. \nEn parallèle\, des ateliers gratuits seront proposés pour apprendre à réparer et créer à partir de matériaux de récupération\, dans une ambiance conviviale et accessible. \n📦 Collecte d’objets\nSamedi 11 avril et mercredi 15 avril🕙 De 10h à 13h \nDéposez les objets du quotidien en bon état que vous n’utilisez plus : ils seront triés\, nettoyés et préparés par notre équipe. \n🛍️ Boutique solidaire & ateliers gratuits\nSamedi 18 avril🕙 De 10h à 14h \nVenez vous équiper à prix solidaire et participer aux ateliers : \n\nréparation de vélos 🚲\ncréation manuelle en récup’ ✂️\n\n📍 Lieu\n14 place du Moulin à Vent – Ris-Orangis (devant l’ancien local de la ressourcerie) \nUne action locale pour favoriser le réemploi\, réduire les déchets et permettre au plus grand nombre d’accéder à des objets utiles à petit prix. Venez donner\, chiner et participer ! 🌱
URL:https://lattribut.org/event/ressourcerie-ephemere-au-plateau-donnez-equipez-vous-participez-3/
LOCATION:L’attribut du plateau\, Place du moulin à vent\, Ris-Orangis\, Essonnes\, 91130\, France
CATEGORIES:Faire autrement,friperie,Hors les murs,Ressourcerie
ATTACH;FMTTYPE=image/png:https://lattribut.org/wp-content/uploads/2026/04/Ris-Orangis-2026-evenement-facebook.png
END:VEVENT
BEGIN:VEVENT
DTSTART;TZID=Europe/Paris:20260422T103000
DTEND;TZID=Europe/Paris:20260422T123000
DTSTAMP:20260423T193028
CREATED:20260327T141110Z
LAST-MODIFIED:20260327T141110Z
UID:5960-1776853800-1776861000@lattribut.org
SUMMARY:Atelier couture à la Ressourcerie du Dragon
DESCRIPTION:✂️🧵 Atelier Couture Fun & Créatif avec L’Attribut 🧵✂️ \nEnvie de donner une seconde vie à tes fringues ?De dompter une machine à coudre (sans te coudre les doigts 😅) ?Rejoins les bénévoles de L’Attribut pour un atelier couture placé sous le signe de la créativité et du partage ! \nAu programme :✨ Prise en main de la machine à coudre (promis\, elle ne mord pas)✨ Upcycling stylé : détourner et valoriser tes textiles pour en faire des pièces uniques✨ Bonne ambiance garantie \n👕 À partir de 14 ans💸 Participation : 5 €🤝 Adhésion annuelle à L’Attribut obligatoire (et ça vaut le coup !) \n📞 Inscription au 07 57 18 26 16– les places sont limitées\, fonce !
URL:https://lattribut.org/event/atelier-couture-a-la-ressourcerie-du-dragon-14/
LOCATION:La Ressourcerie du Dragon – Evry-Courcouronnes\, 306 Square du Dragon\, Evry-Courcouronnes\, 91000\, France
CATEGORIES:Ateliers,couture,Faire autrement,Récup,Réemploi,Ressourcerie
ATTACH;FMTTYPE=image/png:https://lattribut.org/wp-content/uploads/2026/01/EVRY-2.png
END:VEVENT
BEGIN:VEVENT
DTSTART;TZID=Europe/Paris:20260422T143000
DTEND;TZID=Europe/Paris:20260422T173000
DTSTAMP:20260423T193028
CREATED:20260324T093213Z
LAST-MODIFIED:20260324T093213Z
UID:5912-1776868200-1776879000@lattribut.org
SUMMARY:Atelier co-réparation vélo à L'Idée Halle - Ris Orangis
DESCRIPTION:🚲 Atelier de co-réparation de vélos \nEnvie de remettre votre vélo en forme ? Nos bénévoles sont là pour vous accompagner : entretien\, diagnostic des réparations\, aide au choix des pièces de rechange et accompagnement pas à pas dans la réparation. \n💶 Tarif : 5 € (diagnostic ou accès à l’atelier – hors simple gonflage)♻️ Vous souhaitez donner un vélo ? Présentez-vous aux bénévoles : selon son état\, ils vous diront s’il peut être récupéré. \n📅 Horaires : deux créneaux au choix – 14h30 ou 16h00📞 Inscription obligatoire : 07 57 18 77 77 \nℹ️ La participation à l’atelier nécessite d’être adhérent·e à l’association (adhésion possible sur place).
URL:https://lattribut.org/event/atelier-co-reparation-velo-a-lidee-halle-ris-orangis-52/
LOCATION:L’idée Halle\, rue Eugène Freyssinet\, Ris-orangis\, 91130\, France
CATEGORIES:Ateliers,bricolage,Faire autrement,Réparation,vélo
ATTACH;FMTTYPE=image/png:https://lattribut.org/wp-content/uploads/2025/11/Atelier-velo-8-mai-5.png
END:VEVENT
BEGIN:VEVENT
DTSTART;TZID=Europe/Paris:20260424T143000
DTEND;TZID=Europe/Paris:20260424T173000
DTSTAMP:20260423T193028
CREATED:20260324T093239Z
LAST-MODIFIED:20260324T093239Z
UID:5914-1777041000-1777051800@lattribut.org
SUMMARY:Atelier co-réparation vélo à L'Idée Halle - Ris Orangis
DESCRIPTION:🚲 Atelier de co-réparation de vélos \nEnvie de remettre votre vélo en forme ? Nos bénévoles sont là pour vous accompagner : entretien\, diagnostic des réparations\, aide au choix des pièces de rechange et accompagnement pas à pas dans la réparation. \n💶 Tarif : 5 € (diagnostic ou accès à l’atelier – hors simple gonflage)♻️ Vous souhaitez donner un vélo ? Présentez-vous aux bénévoles : selon son état\, ils vous diront s’il peut être récupéré. \n📅 Horaires : deux créneaux au choix – 14h30 ou 16h00📞 Inscription obligatoire : 07 57 18 77 77 \nℹ️ La participation à l’atelier nécessite d’être adhérent·e à l’association (adhésion possible sur place).
URL:https://lattribut.org/event/atelier-co-reparation-velo-a-lidee-halle-ris-orangis-53/
LOCATION:L’idée Halle\, rue Eugène Freyssinet\, Ris-orangis\, 91130\, France
CATEGORIES:Ateliers,bricolage,Faire autrement,Réparation,vélo
ATTACH;FMTTYPE=image/png:https://lattribut.org/wp-content/uploads/2025/11/Atelier-velo-8-mai-5.png
END:VEVENT
BEGIN:VEVENT
DTSTART;TZID=Europe/Paris:20260425T143000
DTEND;TZID=Europe/Paris:20260425T173000
DTSTAMP:20260423T193028
CREATED:20260324T111409Z
LAST-MODIFIED:20260324T111409Z
UID:5944-1777127400-1777138200@lattribut.org
SUMMARY:Atelier couture à l'Idée Halle – Ris Orangis
DESCRIPTION:✂️🧵 Atelier Couture Fun & Créatif avec L’Attribut 🧵✂️ \nEnvie de donner une seconde vie à tes fringues ?De dompter une machine à coudre (sans te coudre les doigts 😅) ?Rejoins les bénévoles de L’Attribut pour un atelier couture placé sous le signe de la créativité et du partage ! \nAu programme :✨ Prise en main de la machine à coudre (promis\, elle ne mord pas)✨ Upcycling stylé : détourner et valoriser tes textiles pour en faire des pièces uniques✨ Bonne ambiance garantie \n👕 À partir de 14 ans💸 Participation : 5 €🤝 Adhésion annuelle à L’Attribut obligatoire (et ça vaut le coup !) \n📞 Inscription au 07 57 18 77 77 – les places sont limitées\, fonce !
URL:https://lattribut.org/event/atelier-couture-a-lidee-halle-ris-orangis-17/
LOCATION:L’idée Halle\, rue Eugène Freyssinet\, Ris-orangis\, 91130\, France
CATEGORIES:Ateliers,couture,Faire autrement,Récup,Réemploi,Ressourcerie
ATTACH;FMTTYPE=image/png:https://lattribut.org/wp-content/uploads/2026/03/RIS-couture-10.png
END:VEVENT
BEGIN:VEVENT
DTSTART;TZID=Europe/Paris:20260425T150000
DTEND;TZID=Europe/Paris:20260425T170000
DTSTAMP:20260423T193028
CREATED:20260327T144626Z
LAST-MODIFIED:20260327T151645Z
UID:5966-1777129200-1777136400@lattribut.org
SUMMARY:Atelier couture à la machine & couture à la main/tricot/crochet à la ressourcerie du Dragon - Evry-Courcouronnes
DESCRIPTION:Rejoignez-nous pour un atelier créatif et convivial animé par les bénévoles de l’Attribut ! Apprenez à coudre à la machine\, tout en découvrant les techniques manuelles comme le crochet et le tricot. Que vous soyez débutant·e ou curieux·se\, cet atelier est l’occasion idéale pour créer des pièces uniques avec plaisir et simplicité. \nSUR RÉSERVATION\, places limitées : 07 57 18 26 16 \nde 15h à 17h \nAtelier couture à la machine \n\nÀ partir de 14 ans\nPrise en main d’une machine à coudre\n\nAtelier couture à la main\, tricot et crochet \n\nCouture à la main\ntricot et crochet\nDétournement et valorisation de textiles (upcycling\n\nParticipation aux ateliers : 5€ \nPour participer à l’atelier\, il est nécessaire d’être adhérent.e à l’association.\nAdhérez en ligne via l’onglet Adhérez ou sur place
URL:https://lattribut.org/event/atelier-couture-a-la-machine-couture-a-la-main-tricot-crochet-a-la-ressourcerie-du-dragon-evry-courcouronnes-5/
LOCATION:La Ressourcerie du Dragon – Evry-Courcouronnes\, 306 Square du Dragon\, Evry-Courcouronnes\, 91000\, France
CATEGORIES:Ateliers,couture,Faire autrement
ATTACH;FMTTYPE=image/png:https://lattribut.org/wp-content/uploads/2026/03/EVRY3.png
END:VEVENT
BEGIN:VEVENT
DTSTART;TZID=Europe/Paris:20260429T103000
DTEND;TZID=Europe/Paris:20260429T123000
DTSTAMP:20260423T193028
CREATED:20260327T141154Z
LAST-MODIFIED:20260327T141154Z
UID:5959-1777458600-1777465800@lattribut.org
SUMMARY:Atelier couture à la Ressourcerie du Dragon
DESCRIPTION:✂️🧵 Atelier Couture Fun & Créatif avec L’Attribut 🧵✂️ \nEnvie de donner une seconde vie à tes fringues ?De dompter une machine à coudre (sans te coudre les doigts 😅) ?Rejoins les bénévoles de L’Attribut pour un atelier couture placé sous le signe de la créativité et du partage ! \nAu programme :✨ Prise en main de la machine à coudre (promis\, elle ne mord pas)✨ Upcycling stylé : détourner et valoriser tes textiles pour en faire des pièces uniques✨ Bonne ambiance garantie \n👕 À partir de 14 ans💸 Participation : 5 €🤝 Adhésion annuelle à L’Attribut obligatoire (et ça vaut le coup !) \n📞 Inscription au 07 57 18 26 16– les places sont limitées\, fonce !
URL:https://lattribut.org/event/atelier-couture-a-la-ressourcerie-du-dragon-15/
LOCATION:La Ressourcerie du Dragon – Evry-Courcouronnes\, 306 Square du Dragon\, Evry-Courcouronnes\, 91000\, France
CATEGORIES:Ateliers,couture,Faire autrement,Récup,Réemploi,Ressourcerie
ATTACH;FMTTYPE=image/png:https://lattribut.org/wp-content/uploads/2026/01/EVRY-2.png
END:VEVENT
BEGIN:VEVENT
DTSTART;TZID=Europe/Paris:20260429T143000
DTEND;TZID=Europe/Paris:20260429T173000
DTSTAMP:20260423T193028
CREATED:20260324T093502Z
LAST-MODIFIED:20260324T093502Z
UID:5917-1777473000-1777483800@lattribut.org
SUMMARY:Atelier co-réparation vélo à L'Idée Halle - Ris Orangis
DESCRIPTION:🚲 Atelier de co-réparation de vélos \nEnvie de remettre votre vélo en forme ? Nos bénévoles sont là pour vous accompagner : entretien\, diagnostic des réparations\, aide au choix des pièces de rechange et accompagnement pas à pas dans la réparation. \n💶 Tarif : 5 € (diagnostic ou accès à l’atelier – hors simple gonflage)♻️ Vous souhaitez donner un vélo ? Présentez-vous aux bénévoles : selon son état\, ils vous diront s’il peut être récupéré. \n📅 Horaires : deux créneaux au choix – 14h30 ou 16h00📞 Inscription obligatoire : 07 57 18 77 77 \nℹ️ La participation à l’atelier nécessite d’être adhérent·e à l’association (adhésion possible sur place).
URL:https://lattribut.org/event/atelier-co-reparation-velo-a-lidee-halle-ris-orangis-54/
LOCATION:L’idée Halle\, rue Eugène Freyssinet\, Ris-orangis\, 91130\, France
CATEGORIES:Ateliers,bricolage,Faire autrement,Réparation,vélo
ATTACH;FMTTYPE=image/png:https://lattribut.org/wp-content/uploads/2025/11/Atelier-velo-8-mai-5.png
END:VEVENT
BEGIN:VEVENT
DTSTART;TZID=Europe/Paris:20260429T150000
DTEND;TZID=Europe/Paris:20260429T170000
DTSTAMP:20260423T193028
CREATED:20260327T151457Z
LAST-MODIFIED:20260327T151457Z
UID:5980-1777474800-1777482000@lattribut.org
SUMMARY:Atelier couture à la main\, tricot et crochet à la Ressourcerie du Dragon - Evry-Courcouronnes
DESCRIPTION:Rejoignez-nous pour un atelier créatif et convivial animé par les bénévoles de l’Attribut ! Venez découvrir les techniques manuelles comme le crochet et le tricot et créer des pièces uniques avec plaisir et simplicité. \nDe 15h à 17h : \n\nCouture à la main\ntricot et crochet\nDétournement et valorisation de textiles (upcycling)\n\nSUR RÉSERVATION\, places limitées : 07 57 18 26 16 ou par mail à ressourceriedragon@lattribut.org \nParticipation libre et consciente à l’atelier – pour valoriser le temps des bénévoles et les matériaux mis à disposition \nUne adhésion annuelle à l’Attribut est nécessaire pour participer aux ateliers.
URL:https://lattribut.org/event/atelier-couture-a-la-main-tricot-et-crochet-a-la-ressourcerie-du-dragon-evry-courcouronnes-11/
LOCATION:La Ressourcerie du Dragon – Evry-Courcouronnes\, 306 Square du Dragon\, Evry-Courcouronnes\, 91000\, France
CATEGORIES:Ateliers,couture,Faire autrement
ATTACH;FMTTYPE=image/png:https://lattribut.org/wp-content/uploads/2025/07/EVRY4.png
END:VEVENT
END:VCALENDAR