BEGIN:VCALENDAR
VERSION:2.0
PRODID:-//L&#039;Attribut - ECPv6.15.20//NONSGML v1.0//EN
CALSCALE:GREGORIAN
METHOD:PUBLISH
X-ORIGINAL-URL:https://lattribut.org
X-WR-CALDESC:Évènements pour L&#039;Attribut
REFRESH-INTERVAL;VALUE=DURATION:PT1H
X-Robots-Tag:noindex
X-PUBLISHED-TTL:PT1H
BEGIN:VTIMEZONE
TZID:Europe/Paris
BEGIN:DAYLIGHT
TZOFFSETFROM:+0100
TZOFFSETTO:+0200
TZNAME:CEST
DTSTART:20230326T010000
END:DAYLIGHT
BEGIN:STANDARD
TZOFFSETFROM:+0200
TZOFFSETTO:+0100
TZNAME:CET
DTSTART:20231029T010000
END:STANDARD
BEGIN:DAYLIGHT
TZOFFSETFROM:+0100
TZOFFSETTO:+0200
TZNAME:CEST
DTSTART:20240331T010000
END:DAYLIGHT
BEGIN:STANDARD
TZOFFSETFROM:+0200
TZOFFSETTO:+0100
TZNAME:CET
DTSTART:20241027T010000
END:STANDARD
BEGIN:DAYLIGHT
TZOFFSETFROM:+0100
TZOFFSETTO:+0200
TZNAME:CEST
DTSTART:20250330T010000
END:DAYLIGHT
BEGIN:STANDARD
TZOFFSETFROM:+0200
TZOFFSETTO:+0100
TZNAME:CET
DTSTART:20251026T010000
END:STANDARD
END:VTIMEZONE
BEGIN:VEVENT
DTSTART;VALUE=DATE:20241223
DTEND;VALUE=DATE:20241230
DTSTAMP:20260422T013346
CREATED:20241203T160312Z
LAST-MODIFIED:20241203T160312Z
UID:4397-1734915600-1735433999@lattribut.org
SUMMARY:La Folle Ouverture à la Ressourcerie du Dragon - Evry-Courcouronnes
DESCRIPTION:Pour la première fois\, nous ouvrons notre ressourcerie toute la semaine\, du lundi au samedi (sauf le mercredi 25) ! \nVenez acheter des vêtements et des cadeaux de seconde main pour les fêtes de fin d’année ! Ce sera aussi l’occasion de découvrir notre association qui prône un autre mode de consommation\, plus écologique et solidaire. Nous vous attendons nombreux·ses pour faire un geste pour la planète tout en trouvant des trésors de seconde main ! \nHoraires : La semaine du 23 décembre au 28 décembre 2024 \nLundi 23 : de 10h à 13h et de 14h30 à 17h30 \nMardi 24 : 10h à 14h \nJeudi 26 : 10h à 13h et de 14h30 à 17h30 \nVendredi 27 : 10h à 13h et de 14h30 à 17h30 \nSamedi 28 : 10h à 13h et de 14h30 à 17h30
URL:https://lattribut.org/event/la-folle-ouverture-a-la-ressourcerie-du-dragon-evry-courcouronnes/
LOCATION:La Ressourcerie du Dragon – Evry-Courcouronnes\, 306 Square du Dragon\, Evry-Courcouronnes\, 91000\, France
CATEGORIES:friperie,Réemploi,Ressourcerie
ATTACH;FMTTYPE=image/png:https://lattribut.org/wp-content/uploads/2024/12/greenfriday-3.png
END:VEVENT
END:VCALENDAR