BEGIN:VCALENDAR
VERSION:2.0
PRODID:-//L&#039;Attribut - ECPv6.15.20//NONSGML v1.0//EN
CALSCALE:GREGORIAN
METHOD:PUBLISH
X-WR-CALNAME:L&#039;Attribut
X-ORIGINAL-URL:https://lattribut.org
X-WR-CALDESC:Évènements pour L&#039;Attribut
REFRESH-INTERVAL;VALUE=DURATION:PT1H
X-Robots-Tag:noindex
X-PUBLISHED-TTL:PT1H
BEGIN:VTIMEZONE
TZID:Europe/Paris
BEGIN:DAYLIGHT
TZOFFSETFROM:+0100
TZOFFSETTO:+0200
TZNAME:CEST
DTSTART:20230326T010000
END:DAYLIGHT
BEGIN:STANDARD
TZOFFSETFROM:+0200
TZOFFSETTO:+0100
TZNAME:CET
DTSTART:20231029T010000
END:STANDARD
BEGIN:DAYLIGHT
TZOFFSETFROM:+0100
TZOFFSETTO:+0200
TZNAME:CEST
DTSTART:20240331T010000
END:DAYLIGHT
BEGIN:STANDARD
TZOFFSETFROM:+0200
TZOFFSETTO:+0100
TZNAME:CET
DTSTART:20241027T010000
END:STANDARD
BEGIN:DAYLIGHT
TZOFFSETFROM:+0100
TZOFFSETTO:+0200
TZNAME:CEST
DTSTART:20250330T010000
END:DAYLIGHT
BEGIN:STANDARD
TZOFFSETFROM:+0200
TZOFFSETTO:+0100
TZNAME:CET
DTSTART:20251026T010000
END:STANDARD
END:VTIMEZONE
BEGIN:VEVENT
DTSTART;TZID=Europe/Paris:20240918T100000
DTEND;TZID=Europe/Paris:20240928T173000
DTSTAMP:20260422T042724
CREATED:20240924T085524Z
LAST-MODIFIED:20240924T085524Z
UID:4072-1726653600-1727544600@lattribut.org
SUMMARY:Braderie aux ressourceries de L'Attribut
DESCRIPTION:Venez profiter des braderies de fin de saison dans les ressourceries de L’Attribut\n-50% sur une sélection d’articles\n\nRessourcerie de Corbeil : mercredis\, vendredis\, samedis : 10h00 – 13h00 et 14h30 – 17h30\nRessourcerie du Dragon : mercredis et samedis : 10h00 – 13h00 et 14h30 – 17h30 et vendredi 16h à 18h30\nBoutique du Plateau : mercredis et samedis de 10h à 12h30 et de 14h30 à 17h30.\nLocal du 8 mai : mercredis et samedi 14h30 à 17h30\, vendredi 14h30 à 19h00\n\n  \ninfos : 07 57 18 77 77 \nattributris@lattribut.org
URL:https://lattribut.org/event/braderie-aux-ressourceries-de-lattribut/
LOCATION:Essonnes
CATEGORIES:Faire autrement,friperie,Ressourcerie
END:VEVENT
END:VCALENDAR