BEGIN:VCALENDAR
VERSION:2.0
PRODID:-//L&#039;Attribut - ECPv6.15.20//NONSGML v1.0//EN
CALSCALE:GREGORIAN
METHOD:PUBLISH
X-ORIGINAL-URL:https://lattribut.org
X-WR-CALDESC:Évènements pour L&#039;Attribut
REFRESH-INTERVAL;VALUE=DURATION:PT1H
X-Robots-Tag:noindex
X-PUBLISHED-TTL:PT1H
BEGIN:VTIMEZONE
TZID:Europe/Paris
BEGIN:DAYLIGHT
TZOFFSETFROM:+0100
TZOFFSETTO:+0200
TZNAME:CEST
DTSTART:20210328T010000
END:DAYLIGHT
BEGIN:STANDARD
TZOFFSETFROM:+0200
TZOFFSETTO:+0100
TZNAME:CET
DTSTART:20211031T010000
END:STANDARD
BEGIN:DAYLIGHT
TZOFFSETFROM:+0100
TZOFFSETTO:+0200
TZNAME:CEST
DTSTART:20220327T010000
END:DAYLIGHT
BEGIN:STANDARD
TZOFFSETFROM:+0200
TZOFFSETTO:+0100
TZNAME:CET
DTSTART:20221030T010000
END:STANDARD
BEGIN:DAYLIGHT
TZOFFSETFROM:+0100
TZOFFSETTO:+0200
TZNAME:CEST
DTSTART:20230326T010000
END:DAYLIGHT
BEGIN:STANDARD
TZOFFSETFROM:+0200
TZOFFSETTO:+0100
TZNAME:CET
DTSTART:20231029T010000
END:STANDARD
END:VTIMEZONE
BEGIN:VEVENT
DTSTART;TZID=Europe/Paris:20221203T140000
DTEND;TZID=Europe/Paris:20221203T180000
DTSTAMP:20260424T122547
CREATED:20221107T213159Z
LAST-MODIFIED:20221107T213159Z
UID:1781-1670076000-1670090400@lattribut.org
SUMMARY:Répare Café Elec'
DESCRIPTION:*L’Attribut présente\, à l’Idée Halle de Ris-Orangis*\nConnaissez-vous les ateliers « Répare café élec » ? 1 samedi par mois\, c’est l’occasion de :\n-> Réparer vos appareils ou objets électriques et leur donner une seconde vie avec l’aide de nos bénévoles bricoleur.ses \n-> Réduire votre production de déchets et faire des économies\, dans une ambiance conviviale \n-> Tester nos boissons et gourmandises maison proposées par l’équipe du café \nSaviez-vous que bien souvent\, nos appareils tombent en panne à cause d’une mauvaise utilisation ou un manque d’entretien ?\nNous vous attendons accompagné.es de votre appareil préféré le samedi 3 décembre de 15h à 18h !\nParticipation à prix libre
URL:https://lattribut.org/event/repare-cafe-elec-4/
LOCATION:L’idée Halle\, rue Eugène Freyssinet\, Ris-orangis\, 91130\, France
CATEGORIES:Ateliers,bricolage,Faire autrement,Réparation
END:VEVENT
BEGIN:VEVENT
DTSTART;TZID=Europe/Paris:20221211T150000
DTEND;TZID=Europe/Paris:20221211T180000
DTSTAMP:20260424T122547
CREATED:20221130T215621Z
LAST-MODIFIED:20221130T215621Z
UID:1817-1670770800-1670781600@lattribut.org
SUMMARY:Répare café COUTURE
DESCRIPTION:*L’Attribut présente à l’Idée Halle de Ris-Orangis* \nPour ce dernier répare couture de l’année\, initiation au tricot !\nEt comme toujours également :\nUne petite réparation à réaliser sur un vêtement que vous aimez ? Un bouton à raccommoder ? Une chaussette trouée ? Envie d’apprendre à coudre à la main ou à la machine ?\nEnvie de transformer un vêtement ? \nVenez rencontrer nos couturier.es bénévoles passionné.es à l’Idée Halle ! \nEntrée libre\, participation à prix libre appréciée pour soutenir l’association et le développement de l’activité répare café couture 🙂 \nà bientôt 🤗
URL:https://lattribut.org/event/repare-cafe-couture-10/
LOCATION:L’idée Halle\, rue Eugène Freyssinet\, Ris-orangis\, 91130\, France
CATEGORIES:Ateliers,couture,Faire autrement,Réemploi,Réparation,tricot
ATTACH;FMTTYPE=image/png:https://lattribut.org/wp-content/uploads/2022/11/reouverture_24EdmondBonte.png
END:VEVENT
END:VCALENDAR