BEGIN:VCALENDAR
VERSION:2.0
PRODID:-//L&#039;Attribut - ECPv6.15.20//NONSGML v1.0//EN
CALSCALE:GREGORIAN
METHOD:PUBLISH
X-WR-CALNAME:L&#039;Attribut
X-ORIGINAL-URL:https://lattribut.org
X-WR-CALDESC:Évènements pour L&#039;Attribut
REFRESH-INTERVAL;VALUE=DURATION:PT1H
X-Robots-Tag:noindex
X-PUBLISHED-TTL:PT1H
BEGIN:VTIMEZONE
TZID:Europe/Paris
BEGIN:DAYLIGHT
TZOFFSETFROM:+0100
TZOFFSETTO:+0200
TZNAME:CEST
DTSTART:20220327T010000
END:DAYLIGHT
BEGIN:STANDARD
TZOFFSETFROM:+0200
TZOFFSETTO:+0100
TZNAME:CET
DTSTART:20221030T010000
END:STANDARD
BEGIN:DAYLIGHT
TZOFFSETFROM:+0100
TZOFFSETTO:+0200
TZNAME:CEST
DTSTART:20230326T010000
END:DAYLIGHT
BEGIN:STANDARD
TZOFFSETFROM:+0200
TZOFFSETTO:+0100
TZNAME:CET
DTSTART:20231029T010000
END:STANDARD
BEGIN:DAYLIGHT
TZOFFSETFROM:+0100
TZOFFSETTO:+0200
TZNAME:CEST
DTSTART:20240331T010000
END:DAYLIGHT
BEGIN:STANDARD
TZOFFSETFROM:+0200
TZOFFSETTO:+0100
TZNAME:CET
DTSTART:20241027T010000
END:STANDARD
END:VTIMEZONE
BEGIN:VEVENT
DTSTART;TZID=Europe/Paris:20230401T143000
DTEND;TZID=Europe/Paris:20230401T173000
DTSTAMP:20260423T224753
CREATED:20230324T110158Z
LAST-MODIFIED:20230324T111051Z
UID:1934-1680359400-1680370200@lattribut.org
SUMMARY:ATELIER COUTURE
DESCRIPTION:L’atelier couture  ouvre au plateau\, pratique pour ceux qui souhaitent réparer leurs habits ou tissus usagés et ceux qui souhaitent apprendre  à se servir des machines à coudre avec leur enfants à partir de 14 ans. \nNos bénévoles seront ravi.e.s de vous former. \nParticipation à prix libre\, seules les fournitures vous seront facturées… \nPour toute question\, contactez le 0695196629.
URL:https://lattribut.org/event/atelier-couture/
CATEGORIES:Ateliers,couture,Réemploi,Réparation,tricot
ATTACH;FMTTYPE=image/jpeg:https://lattribut.org/wp-content/uploads/2023/03/ATELIER-COUTURE.jpg
END:VEVENT
BEGIN:VEVENT
DTSTART;TZID=Europe/Paris:20230405T150000
DTEND;TZID=Europe/Paris:20230405T170000
DTSTAMP:20260423T224753
CREATED:20230331T151455Z
LAST-MODIFIED:20230403T140902Z
UID:2033-1680706800-1680714000@lattribut.org
SUMMARY:COURONNE PRINTEMPS ZERO DECHET
DESCRIPTION:Atelier manuel pour le printemps. Avec des boîtes d’œufs\, réalisez votre couronne zéro déchet à partir de 10 ans \nNos bénévoles seront ravi.e.s de vous former. \nPour toute question\, contactez le 0695196629
URL:https://lattribut.org/event/printemps-zero-dechet/
LOCATION:L’attribut du plateau\, Place du moulin à vent\, Ris-Orangis\, Essonnes\, 91130\, France
CATEGORIES:Ateliers,bricolage,jeux,Récup,Réemploi,Réparation,zéro déchets
ATTACH;FMTTYPE=image/jpeg:https://lattribut.org/wp-content/uploads/2023/03/Printemps-zero-dechet-1.jpg
END:VEVENT
BEGIN:VEVENT
DTSTART;TZID=Europe/Paris:20230415T143000
DTEND;TZID=Europe/Paris:20230415T173000
DTSTAMP:20260423T224753
CREATED:20230329T135204Z
LAST-MODIFIED:20230329T135225Z
UID:2012-1681569000-1681579800@lattribut.org
SUMMARY:ATELIER COUTURE
DESCRIPTION:L’atelier couture  ouvre au plateau\, pratique pour ceux qui souhaitent réparer leurs habits ou tissus usagés et ceux qui souhaitent apprendre  à se servir des machines à coudre avec leur enfants à partir de 14 ans. \nNos bénévoles seront ravi.e.s de vous former. \nParticipation à prix libre\, seules les fournitures vous seront facturées… \nPour toute question\, contactez le 0695196629.
URL:https://lattribut.org/event/atelier-couture-2/
LOCATION:L’attribut du plateau\, Place du moulin à vent\, Ris-Orangis\, Essonnes\, 91130\, France
CATEGORIES:Ateliers,couture,Réparation
ATTACH;FMTTYPE=image/jpeg:https://lattribut.org/wp-content/uploads/2023/03/ATELIER-COUTURE-15-AVRIL.jpg
END:VEVENT
BEGIN:VEVENT
DTSTART;TZID=Europe/Paris:20230422T143000
DTEND;TZID=Europe/Paris:20230422T173000
DTSTAMP:20260423T224753
CREATED:20230329T150448Z
LAST-MODIFIED:20230329T150504Z
UID:2018-1682173800-1682184600@lattribut.org
SUMMARY:REPARE CAFE ELEC
DESCRIPTION:Le répare café élèc ouvre au plateau\, venez avec vos appareils électroménagers usagés et apprenez à les réparer. \nNos bénévoles seront ravi.e.s de vous former. \nParticipation à prix libre\, seules les fournitures vous seront facturées… \nPour toute question\, contactez le 0695196629
URL:https://lattribut.org/event/repare-cafe-elec-7/
LOCATION:L’attribut du plateau\, Place du moulin à vent\, Ris-Orangis\, Essonnes\, 91130\, France
CATEGORIES:Ateliers,bricolage,Réemploi,Réparation,zéro déchets
ATTACH;FMTTYPE=image/jpeg:https://lattribut.org/wp-content/uploads/2023/03/REPARE-CAFE-ELEC-22-AVRIL.jpg
END:VEVENT
BEGIN:VEVENT
DTSTART;TZID=Europe/Paris:20230422T150000
DTEND;TZID=Europe/Paris:20230422T170000
DTSTAMP:20260423T224753
CREATED:20230329T151959Z
LAST-MODIFIED:20230331T153703Z
UID:2026-1682175600-1682182800@lattribut.org
SUMMARY:REPARE CAFE VELO
DESCRIPTION:Le répare café vélo ouvre au plateau\, venez avec votre vélo ou vos appareils électroménagers usagés et apprenez de petits gestes d’entretien et de réparation. \nNos bénévoles seront ravi.e.s de vous former. \nParticipation à prix libre\, seules les fournitures vous seront facturées… \nPour toute question\, contactez le 0695196629
URL:https://lattribut.org/event/repare-cafe-velo/
LOCATION:L’attribut du plateau\, Place du moulin à vent\, Ris-Orangis\, Essonnes\, 91130\, France
CATEGORIES:Ateliers,bricolage,Réemploi,Réparation,vélo
ATTACH;FMTTYPE=image/jpeg:https://lattribut.org/wp-content/uploads/2023/03/REPARE-CAFE-VELO-22-AVRIL-1.jpg
END:VEVENT
BEGIN:VEVENT
DTSTART;TZID=Europe/Paris:20230429T143000
DTEND;TZID=Europe/Paris:20230429T173000
DTSTAMP:20260423T224753
CREATED:20230329T140211Z
LAST-MODIFIED:20230329T140211Z
UID:2015-1682778600-1682789400@lattribut.org
SUMMARY:ATELIER COUTURE
DESCRIPTION:L’atelier couture  ouvre au plateau\, pratique pour ceux qui souhaitent réparer leurs habits ou tissus usagés et ceux qui souhaitent apprendre  à se servir des machines à coudre avec leur enfants à partir de 14 ans. \nNos bénévoles seront ravi.e.s de vous former. \nParticipation à prix libre\, seules les fournitures vous seront facturées… \nPour toute question\, contactez le 0695196629.
URL:https://lattribut.org/event/atelier-couture-3/
CATEGORIES:Ateliers,couture,Réemploi,Réparation
ATTACH;FMTTYPE=image/jpeg:https://lattribut.org/wp-content/uploads/2023/03/ATELIER-COUTURE-29-AVRIL.jpg
END:VEVENT
END:VCALENDAR