BEGIN:VCALENDAR
VERSION:2.0
PRODID:-//L&#039;Attribut - ECPv6.15.20//NONSGML v1.0//EN
CALSCALE:GREGORIAN
METHOD:PUBLISH
X-WR-CALNAME:L&#039;Attribut
X-ORIGINAL-URL:https://lattribut.org
X-WR-CALDESC:Évènements pour L&#039;Attribut
REFRESH-INTERVAL;VALUE=DURATION:PT1H
X-Robots-Tag:noindex
X-PUBLISHED-TTL:PT1H
BEGIN:VTIMEZONE
TZID:Europe/Paris
BEGIN:DAYLIGHT
TZOFFSETFROM:+0100
TZOFFSETTO:+0200
TZNAME:CEST
DTSTART:20220327T010000
END:DAYLIGHT
BEGIN:STANDARD
TZOFFSETFROM:+0200
TZOFFSETTO:+0100
TZNAME:CET
DTSTART:20221030T010000
END:STANDARD
BEGIN:DAYLIGHT
TZOFFSETFROM:+0100
TZOFFSETTO:+0200
TZNAME:CEST
DTSTART:20230326T010000
END:DAYLIGHT
BEGIN:STANDARD
TZOFFSETFROM:+0200
TZOFFSETTO:+0100
TZNAME:CET
DTSTART:20231029T010000
END:STANDARD
BEGIN:DAYLIGHT
TZOFFSETFROM:+0100
TZOFFSETTO:+0200
TZNAME:CEST
DTSTART:20240331T010000
END:DAYLIGHT
BEGIN:STANDARD
TZOFFSETFROM:+0200
TZOFFSETTO:+0100
TZNAME:CET
DTSTART:20241027T010000
END:STANDARD
END:VTIMEZONE
BEGIN:VEVENT
DTSTART;TZID=Europe/Paris:20230503T100000
DTEND;TZID=Europe/Paris:20230503T123000
DTSTAMP:20260423T134939
CREATED:20230422T084245Z
LAST-MODIFIED:20230422T084245Z
UID:2152-1683108000-1683117000@lattribut.org
SUMMARY:ATELIER VELO
DESCRIPTION:L’atelier vélo ouvre au plateau\, venez avec votre vélo usagé et apprenez de petits gestes d’entretien et de réparation. \nNos bénévoles seront ravi.e.s de vous former. \nParticipation à prix libre\, seules les fournitures vous seront facturées…
URL:https://lattribut.org/event/atelier-velo-2/
LOCATION:L’attribut du plateau\, Place du moulin à vent\, Ris-Orangis\, Essonnes\, 91130\, France
CATEGORIES:Ateliers,Réparation,vélo
END:VEVENT
BEGIN:VEVENT
DTSTART;TZID=Europe/Paris:20230506T100000
DTEND;TZID=Europe/Paris:20230506T123000
DTSTAMP:20260423T134939
CREATED:20230420T115837Z
LAST-MODIFIED:20230420T115837Z
UID:2144-1683367200-1683376200@lattribut.org
SUMMARY:REPARE ELEC
DESCRIPTION:Le répare élèc ouvre au plateau\, venez avec vos appareils électroménagers usagés et apprenez à les réparer. \nNos bénévoles seront ravi.e.s de vous former. \nParticipation à prix libre\, seules les fournitures vous seront facturées… \nPour toute question\, contactez le 0695196629
URL:https://lattribut.org/event/repare-elec/
LOCATION:L’attribut du plateau\, Place du moulin à vent\, Ris-Orangis\, Essonnes\, 91130\, France
CATEGORIES:Ateliers,Bénévolat,bricolage,Faire autrement,Réparation
END:VEVENT
BEGIN:VEVENT
DTSTART;TZID=Europe/Paris:20230506T143000
DTEND;TZID=Europe/Paris:20230506T170000
DTSTAMP:20260423T134939
CREATED:20230420T113630Z
LAST-MODIFIED:20230420T113630Z
UID:2135-1683383400-1683392400@lattribut.org
SUMMARY:ATELIER COUTURE
DESCRIPTION:L’atelier couture  ouvre au plateau\, pratique pour ceux qui souhaitent réparer leurs habits ou tissus usagés et ceux qui souhaitent apprendre  à se servir des machines à coudre avec leur enfants à partir de 14 ans. \nNos bénévoles seront ravi.e.s de vous former. \nParticipation à prix libre\, seules les fournitures vous seront facturées… \nPour toute question\, contactez le 0695196629. \n \n 
URL:https://lattribut.org/event/atelier-couture-4/
LOCATION:L’attribut du plateau\, Place du moulin à vent\, Ris-Orangis\, Essonnes\, 91130\, France
CATEGORIES:Ateliers,Bénévolat,bricolage,couture,Réemploi,Réparation
END:VEVENT
BEGIN:VEVENT
DTSTART;TZID=Europe/Paris:20230520T100000
DTEND;TZID=Europe/Paris:20230520T123000
DTSTAMP:20260423T134939
CREATED:20230420T120043Z
LAST-MODIFIED:20230420T120043Z
UID:2147-1684576800-1684585800@lattribut.org
SUMMARY:REPARE ELEC
DESCRIPTION:Le répare café élèc ouvre au plateau\, venez avec vos appareils électroménagers usagés et apprenez à les réparer. \nNos bénévoles seront ravi.e.s de vous former. \nParticipation à prix libre\, seules les fournitures vous seront facturées… \nPour toute question\, contactez le 0695196629
URL:https://lattribut.org/event/repare-elec-2/
LOCATION:L’attribut du plateau\, Place du moulin à vent\, Ris-Orangis\, Essonnes\, 91130\, France
CATEGORIES:Ateliers,Bénévolat,bricolage,Réparation
END:VEVENT
BEGIN:VEVENT
DTSTART;TZID=Europe/Paris:20230520T143000
DTEND;TZID=Europe/Paris:20230520T170000
DTSTAMP:20260423T134939
CREATED:20230420T113902Z
LAST-MODIFIED:20230420T114436Z
UID:2138-1684593000-1684602000@lattribut.org
SUMMARY:ATELIER COUTURE
DESCRIPTION:L’atelier couture  ouvre au plateau\, pratique pour ceux qui souhaitent réparer leurs habits ou tissus usagés et ceux qui souhaitent apprendre  à se servir des machines à coudre avec leur enfants à partir de 14 ans. \nNos bénévoles seront ravi.e.s de vous former. \nParticipation à prix libre\, seules les fournitures vous seront facturées… \nPour toute question\, contactez le 0695196629.
URL:https://lattribut.org/event/atelier-couture-5/
LOCATION:L’attribut du plateau\, Place du moulin à vent\, Ris-Orangis\, Essonnes\, 91130\, France
CATEGORIES:Ateliers,Bénévolat,couture,Réemploi,Réparation
END:VEVENT
BEGIN:VEVENT
DTSTART;TZID=Europe/Paris:20230524T100000
DTEND;TZID=Europe/Paris:20230524T123000
DTSTAMP:20260423T134939
CREATED:20230519T085110Z
LAST-MODIFIED:20230519T085111Z
UID:2431-1684922400-1684931400@lattribut.org
SUMMARY:Atelier vélo
DESCRIPTION:L’atelier vélo ouvre au plateau\, venez avec votre vélo usagé et apprenez de petits gestes d’entretien et de réparation. Nos bénévoles en collaboration avec l’association Pro vélo seront ravi.e.s de vous former.\nParticipation à prix libre\, seules les fournitures vous seront facturées.
URL:https://lattribut.org/event/atelier-velo-4/
LOCATION:L’attribut du plateau\, Place du moulin à vent\, Ris-Orangis\, Essonnes\, 91130\, France
CATEGORIES:Ateliers,Réparation,vélo
END:VEVENT
BEGIN:VEVENT
DTSTART;TZID=Europe/Paris:20230526T080000
DTEND;TZID=Europe/Paris:20230526T170000
DTSTAMP:20260423T134939
CREATED:20230526T135940Z
LAST-MODIFIED:20230526T135941Z
UID:2487-1685088000-1685120400@lattribut.org
SUMMARY:Répare café élèc'
DESCRIPTION:Venez avec vos appareils électroménagers usagés et apprenez à les réparer à l’Idée Halle.\n\nNos bénévoles seront ravi.e.s de vous former. \nParticipation à prix libre\, seules les fournitures vous seront facturées… \nPour toute question\, contactez le 0695196629
URL:https://lattribut.org/event/repare-cafe-elec-9/
CATEGORIES:Ateliers,Bénévolat,bricolage,Réparation
END:VEVENT
BEGIN:VEVENT
DTSTART;TZID=Europe/Paris:20230527T100000
DTEND;TZID=Europe/Paris:20230527T123000
DTSTAMP:20260423T134939
CREATED:20230422T084511Z
LAST-MODIFIED:20230422T084511Z
UID:2155-1685181600-1685190600@lattribut.org
SUMMARY:ATELIER VELO
DESCRIPTION:L’atelier vélo ouvre au plateau\, venez avec votre vélo usagé et apprenez de petits gestes d’entretien et de réparation. \nNos bénévoles seront ravi.e.s de vous former. \nParticipation à prix libre\, seules les fournitures vous seront facturées…
URL:https://lattribut.org/event/atelier-velo-3/
LOCATION:L’attribut du plateau\, Place du moulin à vent\, Ris-Orangis\, Essonnes\, 91130\, France
CATEGORIES:Ateliers,Réparation,vélo
END:VEVENT
END:VCALENDAR