BEGIN:VCALENDAR
VERSION:2.0
PRODID:-//L&#039;Attribut - ECPv6.15.20//NONSGML v1.0//EN
CALSCALE:GREGORIAN
METHOD:PUBLISH
X-ORIGINAL-URL:https://lattribut.org
X-WR-CALDESC:Évènements pour L&#039;Attribut
REFRESH-INTERVAL;VALUE=DURATION:PT1H
X-Robots-Tag:noindex
X-PUBLISHED-TTL:PT1H
BEGIN:VTIMEZONE
TZID:Europe/Paris
BEGIN:DAYLIGHT
TZOFFSETFROM:+0100
TZOFFSETTO:+0200
TZNAME:CEST
DTSTART:20220327T010000
END:DAYLIGHT
BEGIN:STANDARD
TZOFFSETFROM:+0200
TZOFFSETTO:+0100
TZNAME:CET
DTSTART:20221030T010000
END:STANDARD
BEGIN:DAYLIGHT
TZOFFSETFROM:+0100
TZOFFSETTO:+0200
TZNAME:CEST
DTSTART:20230326T010000
END:DAYLIGHT
BEGIN:STANDARD
TZOFFSETFROM:+0200
TZOFFSETTO:+0100
TZNAME:CET
DTSTART:20231029T010000
END:STANDARD
BEGIN:DAYLIGHT
TZOFFSETFROM:+0100
TZOFFSETTO:+0200
TZNAME:CEST
DTSTART:20240331T010000
END:DAYLIGHT
BEGIN:STANDARD
TZOFFSETFROM:+0200
TZOFFSETTO:+0100
TZNAME:CET
DTSTART:20241027T010000
END:STANDARD
END:VTIMEZONE
BEGIN:VEVENT
DTSTART;TZID=Europe/Paris:20230701T143000
DTEND;TZID=Europe/Paris:20230701T173000
DTSTAMP:20260422T041138
CREATED:20230630T091211Z
LAST-MODIFIED:20230630T091211Z
UID:2620-1688221800-1688232600@lattribut.org
SUMMARY:Atelier couture
DESCRIPTION:L’atelier couture  ouvre à l’Idée Halle\, pratique pour ceux qui souhaitent réparer leurs habits ou tissus usagés et ceux qui souhaitent apprendre à se servir des machines à coudre avec leur enfants à partir de 14 ans. \nNos bénévoles seront ravi.e.s de vous former. \nParticipation à prix libre\, seules les fournitures vous seront facturées… \nPour toute question\, contactez le 06.95.19.66.29
URL:https://lattribut.org/event/atelier-couture-9/
LOCATION:L’attribut du plateau\, Place du moulin à vent\, Ris-Orangis\, Essonnes\, 91130\, France
CATEGORIES:Ateliers,couture,Faire autrement,Réemploi,Réparation
END:VEVENT
BEGIN:VEVENT
DTSTART;TZID=Europe/Paris:20230702T153000
DTEND;TZID=Europe/Paris:20230702T173000
DTSTAMP:20260422T041138
CREATED:20230629T222341Z
LAST-MODIFIED:20230629T222450Z
UID:2595-1688311800-1688319000@lattribut.org
SUMMARY:Atelier répare couture
DESCRIPTION:L’atelier couture  ouvre à l’idée halle\, pratique pour ceux qui souhaitent réparer leurs habits ou tissus usagés et ceux qui souhaitent apprendre  à se servir des machines à coudre avec leur enfants à partir de 14 ans. \nNos bénévoles seront ravi.e.s de vous former. \nParticipation à prix libre\, seules les fournitures vous seront facturées… \nPour toute question\, contactez le 07 57 18 77 77
URL:https://lattribut.org/event/atelier-repare-couture/
LOCATION:L’idée Halle\, rue Eugène Freyssinet\, Ris-orangis\, 91130\, France
CATEGORIES:Ateliers,bricolage,couture,Faire autrement,Récup,Réemploi,Réparation
END:VEVENT
BEGIN:VEVENT
DTSTART;TZID=Europe/Paris:20230705T100000
DTEND;TZID=Europe/Paris:20230705T123000
DTSTAMP:20260422T041138
CREATED:20230630T092227Z
LAST-MODIFIED:20230630T092228Z
UID:2629-1688551200-1688560200@lattribut.org
SUMMARY:Atelier réparation vélo
DESCRIPTION:Le répare café vélo ouvre au plateau\, venez avec votre vélo ou vos appareils électroménagers usagés et apprenez de petits gestes d’entretien et de réparation. \nNos bénévoles seront ravi.e.s de vous former. \nParticipation à prix libre\, seules les fournitures vous seront facturées… \nPour toute question\, contactez le 06951966290
URL:https://lattribut.org/event/atelier-reparation-velo/
LOCATION:L’attribut du plateau\, Place du moulin à vent\, Ris-Orangis\, Essonnes\, 91130\, France
CATEGORIES:Ateliers,bricolage,Faire autrement,Réparation,vélo
END:VEVENT
BEGIN:VEVENT
DTSTART;TZID=Europe/Paris:20230708T143000
DTEND;TZID=Europe/Paris:20230708T173000
DTSTAMP:20260422T041138
CREATED:20230705T090823Z
LAST-MODIFIED:20230705T090823Z
UID:2680-1688826600-1688837400@lattribut.org
SUMMARY:Ressourcerie du Dragon - atelier textile
DESCRIPTION:
URL:https://lattribut.org/event/ressourcerie-du-dragon-atelier-textile/
CATEGORIES:Animation,couture,Récup,Réemploi,Réparation,Ressourcerie,zéro déchets
END:VEVENT
BEGIN:VEVENT
DTSTART;TZID=Europe/Paris:20230715T100000
DTEND;TZID=Europe/Paris:20230715T123000
DTSTAMP:20260422T041138
CREATED:20230630T093341Z
LAST-MODIFIED:20230630T093341Z
UID:2641-1689415200-1689424200@lattribut.org
SUMMARY:Atelier répare élèc
DESCRIPTION:Le répare élèc ouvre au plateau\, venez avec vos appareils électroménagers usagés et apprenez à les réparer. \nNos bénévoles seront ravi.e.s de vous former. \nParticipation à prix libre\, seules les fournitures vous seront facturées… \nPour toute question\, contactez le 0695196629
URL:https://lattribut.org/event/atelier-repare-elec/
LOCATION:L’attribut du plateau\, Place du moulin à vent\, Ris-Orangis\, Essonnes\, 91130\, France
CATEGORIES:Ateliers,bricolage,Faire autrement,Réparation
END:VEVENT
BEGIN:VEVENT
DTSTART;TZID=Europe/Paris:20230715T143000
DTEND;TZID=Europe/Paris:20230715T173000
DTSTAMP:20260422T041138
CREATED:20230630T091523Z
LAST-MODIFIED:20230630T091524Z
UID:2623-1689431400-1689442200@lattribut.org
SUMMARY:Atelier couture
DESCRIPTION:L’atelier couture  ouvre au plateau\, pratique pour ceux qui souhaitent réparer leurs habits ou tissus usagés et ceux qui souhaitent apprendre à se servir des machines à coudre avec leur enfants à partir de 14 ans. \nNos bénévoles seront ravi.e.s de vous former. \nParticipation à prix libre\, seules les fournitures vous seront facturées… \nPour toute question\, contactez le 06.95.19.66.29
URL:https://lattribut.org/event/atelier-couture-10/
LOCATION:L’attribut du plateau\, Place du moulin à vent\, Ris-Orangis\, Essonnes\, 91130\, France
CATEGORIES:Ateliers,couture,Faire autrement,Récup,Réemploi,Réparation
END:VEVENT
BEGIN:VEVENT
DTSTART;TZID=Europe/Paris:20230715T150000
DTEND;TZID=Europe/Paris:20230715T180000
DTSTAMP:20260422T041138
CREATED:20230713T131841Z
LAST-MODIFIED:20230713T131842Z
UID:2721-1689433200-1689444000@lattribut.org
SUMMARY:Atelier répare élèc
DESCRIPTION:Le répare élèc ouvre à l’idée halle\, venez avec vos appareils électroménagers usagés et apprenez à les réparer. \nNos bénévoles seront ravi.e.s de vous former. \nParticipation à prix libre\, seules les fournitures vous seront facturées… \nPour toute question\, contactez le 07.57.18.77.77
URL:https://lattribut.org/event/atelier-repare-elec-3/
LOCATION:L’idée Halle\, rue Eugène Freyssinet\, Ris-orangis\, 91130\, France
CATEGORIES:Ateliers,bricolage,Faire autrement,Récup,Réparation
END:VEVENT
BEGIN:VEVENT
DTSTART;TZID=Europe/Paris:20230716T153000
DTEND;TZID=Europe/Paris:20230716T173000
DTSTAMP:20260422T041138
CREATED:20230629T224759Z
LAST-MODIFIED:20230629T224800Z
UID:2607-1689521400-1689528600@lattribut.org
SUMMARY:Atelier faire soi-même
DESCRIPTION:  \nL’Attribut présente l’atelier faire soi-même de l’Idée Halle ! \nVenez apprendre à faire un sac de plage à partir d’un tee-shirt que vous ne portez plus. \nN’oubliez pas de nous contacter pour plus d’informations par téléphone au 07.57.18.77.77
URL:https://lattribut.org/event/atelier-faire-soi-meme-2/
LOCATION:L’idée Halle\, rue Eugène Freyssinet\, Ris-orangis\, 91130\, France
CATEGORIES:Ateliers,bricolage,Faire autrement,Réparation,zéro déchets
END:VEVENT
BEGIN:VEVENT
DTSTART;TZID=Europe/Paris:20230722T100000
DTEND;TZID=Europe/Paris:20230722T123000
DTSTAMP:20260422T041138
CREATED:20230630T092355Z
LAST-MODIFIED:20230630T092355Z
UID:2632-1690020000-1690029000@lattribut.org
SUMMARY:Atelier réparation vélo
DESCRIPTION:Le répare café vélo ouvre au plateau\, venez avec votre vélo ou vos appareils électroménagers usagés et apprenez de petits gestes d’entretien et de réparation. \nNos bénévoles seront ravi.e.s de vous former. \nParticipation à prix libre\, seules les fournitures vous seront facturées… \nPour toute question\, contactez le 0695196629
URL:https://lattribut.org/event/atelier-reparation-velo-2/
LOCATION:L’attribut du plateau\, Place du moulin à vent\, Ris-Orangis\, Essonnes\, 91130\, France
CATEGORIES:Ateliers,bricolage,Faire autrement,Réparation,vélo
END:VEVENT
BEGIN:VEVENT
DTSTART;TZID=Europe/Paris:20230726T103000
DTEND;TZID=Europe/Paris:20230726T123000
DTSTAMP:20260422T041138
CREATED:20230705T091311Z
LAST-MODIFIED:20230705T091424Z
UID:2683-1690367400-1690374600@lattribut.org
SUMMARY:Ressourcerie du Dragon - Répare café élec'
DESCRIPTION:Retrouvez-nous pour un Répare Café d’appareils électriques et électroniques ! Apprenez à démonter\, identifier une panne et tenter de réparer vos objets avec nos réparateur.trices.
URL:https://lattribut.org/event/ressourcerie-du-dragon-repare-cafe-elec/
CATEGORIES:Animation,Ateliers,bricolage,Faire autrement,Réemploi,Réparation,Ressourcerie,zéro déchets
END:VEVENT
BEGIN:VEVENT
DTSTART;TZID=Europe/Paris:20230729T100000
DTEND;TZID=Europe/Paris:20230729T123000
DTSTAMP:20260422T041138
CREATED:20230630T093515Z
LAST-MODIFIED:20230630T093515Z
UID:2644-1690624800-1690633800@lattribut.org
SUMMARY:Atelier répare élèc
DESCRIPTION:Le répare élèc ouvre au plateau\, venez avec vos appareils électroménagers usagés et apprenez à les réparer. \nNos bénévoles seront ravi.e.s de vous former. \nParticipation à prix libre\, seules les fournitures vous seront facturées… \nPour toute question\, contactez le 0695196629
URL:https://lattribut.org/event/atelier-repare-elec-2/
LOCATION:L’attribut du plateau\, Place du moulin à vent\, Ris-Orangis\, Essonnes\, 91130\, France
CATEGORIES:Ateliers,bricolage,Réparation
END:VEVENT
BEGIN:VEVENT
DTSTART;TZID=Europe/Paris:20230729T143000
DTEND;TZID=Europe/Paris:20230729T173000
DTSTAMP:20260422T041138
CREATED:20230630T091938Z
LAST-MODIFIED:20230630T091939Z
UID:2626-1690641000-1690651800@lattribut.org
SUMMARY:Atelier couture
DESCRIPTION:L’atelier couture  ouvre au plateau\, pratique pour ceux qui souhaitent réparer leurs habits ou tissus usagés et ceux qui souhaitent apprendre à se servir des machines à coudre avec leur enfants à partir de 14 ans. \nNos bénévoles seront ravi.e.s de vous former. \nParticipation à prix libre\, seules les fournitures vous seront facturées… \nPour toute question\, contactez le 06.95.19.66.29
URL:https://lattribut.org/event/atelier-couture-11/
LOCATION:L’attribut du plateau\, Place du moulin à vent\, Ris-Orangis\, Essonnes\, 91130\, France
CATEGORIES:Ateliers,couture,Faire autrement,Récup,Réemploi,Réparation
END:VEVENT
BEGIN:VEVENT
DTSTART;TZID=Europe/Paris:20230729T153000
DTEND;TZID=Europe/Paris:20230729T173000
DTSTAMP:20260422T041138
CREATED:20230630T090256Z
LAST-MODIFIED:20230630T090256Z
UID:2617-1690644600-1690651800@lattribut.org
SUMMARY:Atelier lessive
DESCRIPTION:La fabrication plus écologique et plus économique de lessives Ouvre au plateau. \nPratique pour ceux qui souhaitent utiliser des ingrédients d’origines naturelles pour prendre soin de leurs vêtements et de l’environnement.  \nNos bénévoles seront ravi.e.s de vous former. \nParticipation à prix libre\, seules les fournitures vous seront facturées… \nPour toute question\, contactez le 06.95.19.66.29
URL:https://lattribut.org/event/atelier-lessive-6/
LOCATION:L’attribut du plateau\, Place du moulin à vent\, Ris-Orangis\, Essonnes\, 91130\, France
CATEGORIES:Ateliers,Faire autrement,Réemploi,Réparation
END:VEVENT
END:VCALENDAR