BEGIN:VCALENDAR
VERSION:2.0
PRODID:-//L&#039;Attribut - ECPv6.15.20//NONSGML v1.0//EN
CALSCALE:GREGORIAN
METHOD:PUBLISH
X-WR-CALNAME:L&#039;Attribut
X-ORIGINAL-URL:https://lattribut.org
X-WR-CALDESC:Évènements pour L&#039;Attribut
REFRESH-INTERVAL;VALUE=DURATION:PT1H
X-Robots-Tag:noindex
X-PUBLISHED-TTL:PT1H
BEGIN:VTIMEZONE
TZID:Europe/Paris
BEGIN:DAYLIGHT
TZOFFSETFROM:+0100
TZOFFSETTO:+0200
TZNAME:CEST
DTSTART:20220327T010000
END:DAYLIGHT
BEGIN:STANDARD
TZOFFSETFROM:+0200
TZOFFSETTO:+0100
TZNAME:CET
DTSTART:20221030T010000
END:STANDARD
BEGIN:DAYLIGHT
TZOFFSETFROM:+0100
TZOFFSETTO:+0200
TZNAME:CEST
DTSTART:20230326T010000
END:DAYLIGHT
BEGIN:STANDARD
TZOFFSETFROM:+0200
TZOFFSETTO:+0100
TZNAME:CET
DTSTART:20231029T010000
END:STANDARD
BEGIN:DAYLIGHT
TZOFFSETFROM:+0100
TZOFFSETTO:+0200
TZNAME:CEST
DTSTART:20240331T010000
END:DAYLIGHT
BEGIN:STANDARD
TZOFFSETFROM:+0200
TZOFFSETTO:+0100
TZNAME:CET
DTSTART:20241027T010000
END:STANDARD
END:VTIMEZONE
BEGIN:VEVENT
DTSTART;TZID=Europe/Paris:20231115T143000
DTEND;TZID=Europe/Paris:20231115T173000
DTSTAMP:20260424T145429
CREATED:20231030T135455Z
LAST-MODIFIED:20231114T140338Z
UID:3060-1700058600-1700069400@lattribut.org
SUMMARY:Répare Café électro-ménagers
DESCRIPTION:ATTENTION CHANGEMENT D’HORAIRES !!!\nL’atelier débute à 14h30 au lieu de 10h\n\n\nL’Attribut vous propose d’apprendre à réparer vous-même votre appareil avec l’aide de Michel\, notre réparateur de génie !\nA votre arrivée\, un rapide diagnostic de la panne est effectué.\nSi c’est une panne simple\, vous vous installez à l’atelier et Michel vous accompagne dans la réparation.\nSi c’est une panne complexe\, il vous proposera un RDV et vous indiquera les pièces à acheter.\n\nLe but étant d’aider et former un maximum de personne à réparer eux-mêmes.\n\nPour soutenir ces ateliers\, pensez à faire un don à l’Attribut selon votre budget et selon le temps passé par nos bénévoles !\nMerci 😉
URL:https://lattribut.org/event/repare-cafe-electro-menagers/
CATEGORIES:Faire autrement,Réparation
END:VEVENT
BEGIN:VEVENT
DTSTART;TZID=Europe/Paris:20231118T143000
DTEND;TZID=Europe/Paris:20231118T173000
DTSTAMP:20260424T145429
CREATED:20231030T135851Z
LAST-MODIFIED:20231114T135849Z
UID:3065-1700317800-1700328600@lattribut.org
SUMMARY:Répare Café électro-ménagers
DESCRIPTION:ATTENTION Changement de programme : l’Atelier Répare Elec ne débute qu’à 14h30\n\nL’Attribut vous propose d’apprendre à réparer vous-même votre appareil avec l’aide de Michel\, notre réparateur de génie !\nA votre arrivée\, un rapide diagnostic de la panne est effectué.\nSi c’est une panne simple\, vous vous installez à l’atelier et Michel vous accompagne dans la réparation.\nSi c’est une panne complexe\, il vous proposera un RDV et vous indiquera les pièces à acheter.\n\nLe but étant d’aider et former un maximum de personne à réparer eux-mêmes.\n\nPour soutenir ces ateliers\, pensez à faire un don à l’Attribut selon votre budget et selon le temps passé par nos bénévoles !\nMerci 😉
URL:https://lattribut.org/event/repare-cafe-electro-menagers-2/
CATEGORIES:Faire autrement,Réparation
END:VEVENT
BEGIN:VEVENT
DTSTART;TZID=Europe/Paris:20231126T080000
DTEND;TZID=Europe/Paris:20231126T170000
DTSTAMP:20260424T145429
CREATED:20231126T135121Z
LAST-MODIFIED:20231126T135121Z
UID:3166-1700985600-1701018000@lattribut.org
SUMMARY:Atelier co-réparation vélo à la boutique du Plateau
DESCRIPTION:Atelier de co-réparation de vélos\n\nNos bénévoles sont présent.e.s pour vous expliquer comment entretenir votre vélo\, diagnostiquer les réparations à effectuer\, vous aider à commander les pièces de rechange et vous accompagner dans la réparation.\n\nTarif de l’atelier : Nous vous demandons de régler le montant des pièces détachées et vous pouvez compléter par un don à prix libre (selon vos moyens et le temps passé par nos bénévoles). Ce don sert à l’achat de matériels de réparation (pied vélo\, outils…) qui vous sont mis à disposition lors des ateliers.\n\nSi vous souhaitez nous donner un vélo\, vous pouvez vous présenter aux bénévoles de l’atelier qui vous diront\, selon l’état du vélo\, s’ils peuvent l’accepter ou non.
URL:https://lattribut.org/event/atelier-co-reparation-velo-a-la-boutique-du-plateau-2/
LOCATION:L’attribut du plateau\, Place du moulin à vent\, Ris-Orangis\, Essonnes\, 91130\, France
CATEGORIES:Faire autrement,Réparation,vélo
END:VEVENT
END:VCALENDAR