BEGIN:VCALENDAR
VERSION:2.0
PRODID:-//L&#039;Attribut - ECPv6.15.20//NONSGML v1.0//EN
CALSCALE:GREGORIAN
METHOD:PUBLISH
X-ORIGINAL-URL:https://lattribut.org
X-WR-CALDESC:Évènements pour L&#039;Attribut
REFRESH-INTERVAL;VALUE=DURATION:PT1H
X-Robots-Tag:noindex
X-PUBLISHED-TTL:PT1H
BEGIN:VTIMEZONE
TZID:Europe/Paris
BEGIN:DAYLIGHT
TZOFFSETFROM:+0100
TZOFFSETTO:+0200
TZNAME:CEST
DTSTART:20220327T010000
END:DAYLIGHT
BEGIN:STANDARD
TZOFFSETFROM:+0200
TZOFFSETTO:+0100
TZNAME:CET
DTSTART:20221030T010000
END:STANDARD
BEGIN:DAYLIGHT
TZOFFSETFROM:+0100
TZOFFSETTO:+0200
TZNAME:CEST
DTSTART:20230326T010000
END:DAYLIGHT
BEGIN:STANDARD
TZOFFSETFROM:+0200
TZOFFSETTO:+0100
TZNAME:CET
DTSTART:20231029T010000
END:STANDARD
BEGIN:DAYLIGHT
TZOFFSETFROM:+0100
TZOFFSETTO:+0200
TZNAME:CEST
DTSTART:20240331T010000
END:DAYLIGHT
BEGIN:STANDARD
TZOFFSETFROM:+0200
TZOFFSETTO:+0100
TZNAME:CET
DTSTART:20241027T010000
END:STANDARD
END:VTIMEZONE
BEGIN:VEVENT
DTSTART;TZID=Europe/Paris:20231115T143000
DTEND;TZID=Europe/Paris:20231115T173000
DTSTAMP:20260422T015342
CREATED:20231030T135455Z
LAST-MODIFIED:20231114T140338Z
UID:3060-1700058600-1700069400@lattribut.org
SUMMARY:Répare Café électro-ménagers
DESCRIPTION:ATTENTION CHANGEMENT D’HORAIRES !!!\nL’atelier débute à 14h30 au lieu de 10h\n\n\nL’Attribut vous propose d’apprendre à réparer vous-même votre appareil avec l’aide de Michel\, notre réparateur de génie !\nA votre arrivée\, un rapide diagnostic de la panne est effectué.\nSi c’est une panne simple\, vous vous installez à l’atelier et Michel vous accompagne dans la réparation.\nSi c’est une panne complexe\, il vous proposera un RDV et vous indiquera les pièces à acheter.\n\nLe but étant d’aider et former un maximum de personne à réparer eux-mêmes.\n\nPour soutenir ces ateliers\, pensez à faire un don à l’Attribut selon votre budget et selon le temps passé par nos bénévoles !\nMerci 😉
URL:https://lattribut.org/event/repare-cafe-electro-menagers/
CATEGORIES:Faire autrement,Réparation
END:VEVENT
END:VCALENDAR