BEGIN:VCALENDAR
VERSION:2.0
PRODID:-//L&#039;Attribut - ECPv6.15.20//NONSGML v1.0//EN
CALSCALE:GREGORIAN
METHOD:PUBLISH
X-WR-CALNAME:L&#039;Attribut
X-ORIGINAL-URL:https://lattribut.org
X-WR-CALDESC:Évènements pour L&#039;Attribut
REFRESH-INTERVAL;VALUE=DURATION:PT1H
X-Robots-Tag:noindex
X-PUBLISHED-TTL:PT1H
BEGIN:VTIMEZONE
TZID:Europe/Paris
BEGIN:DAYLIGHT
TZOFFSETFROM:+0100
TZOFFSETTO:+0200
TZNAME:CEST
DTSTART:20220327T010000
END:DAYLIGHT
BEGIN:STANDARD
TZOFFSETFROM:+0200
TZOFFSETTO:+0100
TZNAME:CET
DTSTART:20221030T010000
END:STANDARD
BEGIN:DAYLIGHT
TZOFFSETFROM:+0100
TZOFFSETTO:+0200
TZNAME:CEST
DTSTART:20230326T010000
END:DAYLIGHT
BEGIN:STANDARD
TZOFFSETFROM:+0200
TZOFFSETTO:+0100
TZNAME:CET
DTSTART:20231029T010000
END:STANDARD
BEGIN:DAYLIGHT
TZOFFSETFROM:+0100
TZOFFSETTO:+0200
TZNAME:CEST
DTSTART:20240331T010000
END:DAYLIGHT
BEGIN:STANDARD
TZOFFSETFROM:+0200
TZOFFSETTO:+0100
TZNAME:CET
DTSTART:20241027T010000
END:STANDARD
END:VTIMEZONE
BEGIN:VEVENT
DTSTART;TZID=Europe/Paris:20231011T150000
DTEND;TZID=Europe/Paris:20231011T180000
DTSTAMP:20260425T025817
CREATED:20231010T163321Z
LAST-MODIFIED:20231010T163321Z
UID:2985-1697036400-1697047200@lattribut.org
SUMMARY:Ouverture
DESCRIPTION:L’idée halle\, son café et sa ressourcerie sont ouverts de 15h à 18h tous les mercredis\, samedis et dimanches. Venez boire un thé\, un jus de gingembre ou une bière locale et biologique tout en dégustant un gâteau maison.\nVous trouverez vaisselle\, jeux\, vêtements ou déco à la ressourcerie. Les dons ne sont acceptés que le 1er dimanche de chaque mois.\nVous pouvez également vous poser à l’Idée Halle pour travailler ou faire vos devoirs dans un endroit calme et chaleureux.\n   \n 
URL:https://lattribut.org/event/ouverture/
CATEGORIES:friperie,Ressourcerie,Restauration
ATTACH;FMTTYPE=image/jpeg:https://lattribut.org/wp-content/uploads/2022/08/630A7037-scaled.jpg
END:VEVENT
BEGIN:VEVENT
DTSTART;TZID=Europe/Paris:20231014T150000
DTEND;TZID=Europe/Paris:20231014T180000
DTSTAMP:20260425T025817
CREATED:20231010T163417Z
LAST-MODIFIED:20231010T163417Z
UID:2993-1697295600-1697306400@lattribut.org
SUMMARY:Ouverture
DESCRIPTION:L’idée halle\, son café et sa ressourcerie sont ouverts de 15h à 18h tous les mercredis\, samedis et dimanches. Venez boire un thé\, un jus de gingembre ou une bière locale et biologique tout en dégustant un gâteau maison.\nVous trouverez vaisselle\, jeux\, vêtements ou déco à la ressourcerie. Les dons ne sont acceptés que le 1er dimanche de chaque mois.\nVous pouvez également vous poser à l’Idée Halle pour travailler ou faire vos devoirs dans un endroit calme et chaleureux.\n   \n 
URL:https://lattribut.org/event/ouverture-2/
CATEGORIES:friperie,Ressourcerie,Restauration
ATTACH;FMTTYPE=image/jpeg:https://lattribut.org/wp-content/uploads/2022/08/630A7037-scaled.jpg
END:VEVENT
BEGIN:VEVENT
DTSTART;TZID=Europe/Paris:20231015T150000
DTEND;TZID=Europe/Paris:20231015T180000
DTSTAMP:20260425T025817
CREATED:20231010T163507Z
LAST-MODIFIED:20231010T163507Z
UID:2995-1697382000-1697392800@lattribut.org
SUMMARY:Ouverture
DESCRIPTION:L’idée halle\, son café et sa ressourcerie sont ouverts de 15h à 18h tous les mercredis\, samedis et dimanches. Venez boire un thé\, un jus de gingembre ou une bière locale et biologique tout en dégustant un gâteau maison.\nVous trouverez vaisselle\, jeux\, vêtements ou déco à la ressourcerie. Les dons ne sont acceptés que le 1er dimanche de chaque mois.\nVous pouvez également vous poser à l’Idée Halle pour travailler ou faire vos devoirs dans un endroit calme et chaleureux.\n   \n 
URL:https://lattribut.org/event/ouverture-3/
CATEGORIES:friperie,Ressourcerie,Restauration
ATTACH;FMTTYPE=image/jpeg:https://lattribut.org/wp-content/uploads/2022/08/630A7037-scaled.jpg
END:VEVENT
BEGIN:VEVENT
DTSTART;TZID=Europe/Paris:20231018T150000
DTEND;TZID=Europe/Paris:20231018T180000
DTSTAMP:20260425T025817
CREATED:20231010T163638Z
LAST-MODIFIED:20231010T163638Z
UID:2997-1697641200-1697652000@lattribut.org
SUMMARY:Ouverture
DESCRIPTION:L’idée halle\, son café et sa ressourcerie sont ouverts de 15h à 18h tous les mercredis\, samedis et dimanches. Venez boire un thé\, un jus de gingembre ou une bière locale et biologique tout en dégustant un gâteau maison.\nVous trouverez vaisselle\, jeux\, vêtements ou déco à la ressourcerie. Les dons ne sont acceptés que le 1er dimanche de chaque mois.\nVous pouvez également vous poser à l’Idée Halle pour travailler ou faire vos devoirs dans un endroit calme et chaleureux.\n   \n 
URL:https://lattribut.org/event/ouverture-4/
CATEGORIES:friperie,Ressourcerie,Restauration
ATTACH;FMTTYPE=image/jpeg:https://lattribut.org/wp-content/uploads/2022/08/630A7037-scaled.jpg
END:VEVENT
BEGIN:VEVENT
DTSTART;TZID=Europe/Paris:20231021T150000
DTEND;TZID=Europe/Paris:20231021T180000
DTSTAMP:20260425T025817
CREATED:20231010T163732Z
LAST-MODIFIED:20231010T163732Z
UID:2999-1697900400-1697911200@lattribut.org
SUMMARY:Ouverture
DESCRIPTION:L’idée halle\, son café et sa ressourcerie sont ouverts de 15h à 18h tous les mercredis\, samedis et dimanches. Venez boire un thé\, un jus de gingembre ou une bière locale et biologique tout en dégustant un gâteau maison.\nVous trouverez vaisselle\, jeux\, vêtements ou déco à la ressourcerie. Les dons ne sont acceptés que le 1er dimanche de chaque mois.\nVous pouvez également vous poser à l’Idée Halle pour travailler ou faire vos devoirs dans un endroit calme et chaleureux.\n   \n 
URL:https://lattribut.org/event/ouverture-5/
CATEGORIES:friperie,Ressourcerie,Restauration
ATTACH;FMTTYPE=image/jpeg:https://lattribut.org/wp-content/uploads/2022/08/630A7037-scaled.jpg
END:VEVENT
BEGIN:VEVENT
DTSTART;TZID=Europe/Paris:20231022T150000
DTEND;TZID=Europe/Paris:20231022T180000
DTSTAMP:20260425T025817
CREATED:20231010T163822Z
LAST-MODIFIED:20231010T163822Z
UID:3001-1697986800-1697997600@lattribut.org
SUMMARY:Ouverture
DESCRIPTION:L’idée halle\, son café et sa ressourcerie sont ouverts de 15h à 18h tous les mercredis\, samedis et dimanches. Venez boire un thé\, un jus de gingembre ou une bière locale et biologique tout en dégustant un gâteau maison.\nVous trouverez vaisselle\, jeux\, vêtements ou déco à la ressourcerie. Les dons ne sont acceptés que le 1er dimanche de chaque mois.\nVous pouvez également vous poser à l’Idée Halle pour travailler ou faire vos devoirs dans un endroit calme et chaleureux.\n   \n 
URL:https://lattribut.org/event/ouverture-6/
CATEGORIES:friperie,Ressourcerie,Restauration
ATTACH;FMTTYPE=image/jpeg:https://lattribut.org/wp-content/uploads/2022/08/630A7037-scaled.jpg
END:VEVENT
BEGIN:VEVENT
DTSTART;TZID=Europe/Paris:20231025T150000
DTEND;TZID=Europe/Paris:20231025T180000
DTSTAMP:20260425T025817
CREATED:20231010T165922Z
LAST-MODIFIED:20231010T165922Z
UID:3010-1698246000-1698256800@lattribut.org
SUMMARY:Ouverture
DESCRIPTION:L’idée halle\, son café et sa ressourcerie sont ouverts de 15h à 18h tous les mercredis\, samedis et dimanches. Venez boire un thé\, un jus de gingembre ou une bière locale et biologique tout en dégustant un gâteau maison.\nVous trouverez vaisselle\, jeux\, vêtements ou déco à la ressourcerie. Les dons ne sont acceptés que le 1er dimanche de chaque mois.\nVous pouvez également vous poser à l’Idée Halle pour travailler ou faire vos devoirs dans un endroit calme et chaleureux.\n   \n 
URL:https://lattribut.org/event/ouverture-7/
CATEGORIES:friperie,Ressourcerie,Restauration
ATTACH;FMTTYPE=image/jpeg:https://lattribut.org/wp-content/uploads/2022/08/630A7037-scaled.jpg
END:VEVENT
BEGIN:VEVENT
DTSTART;TZID=Europe/Paris:20231027T190000
DTEND;TZID=Europe/Paris:20231027T220000
DTSTAMP:20260425T025817
CREATED:20231010T172013Z
LAST-MODIFIED:20231011T102851Z
UID:3014-1698433200-1698444000@lattribut.org
SUMMARY:Table de la ferme de l'Aunette à l'Idée Halle
DESCRIPTION:La table de la ferme – Vendredi 27 octobre de 19h à 22h \nAvec les produits d’automne\, locaux et biologiques de la Ferme de l’Aunette de Ris-Orangis. \nDiner en présence des maraichers Pierre et Pascal qui répondront à toutes vos questions sur leur activité et leurs produits. \nTarif adulte 17€ / Tarif enfant 12€ \nSur réservation avant le 25 octobre au 07 57 18 77 77
URL:https://lattribut.org/event/table-de-la-ferme-de-launette-a-lidee-halle-2/
LOCATION:L’idée Halle\, rue Eugène Freyssinet\, Ris-orangis\, 91130\, France
CATEGORIES:Amap,Animation,Restauration
END:VEVENT
BEGIN:VEVENT
DTSTART;TZID=Europe/Paris:20231028T150000
DTEND;TZID=Europe/Paris:20231028T180000
DTSTAMP:20260425T025817
CREATED:20231010T170007Z
LAST-MODIFIED:20231010T170007Z
UID:3012-1698505200-1698516000@lattribut.org
SUMMARY:Ouverture
DESCRIPTION:L’idée halle\, son café et sa ressourcerie sont ouverts de 15h à 18h tous les mercredis\, samedis et dimanches. Venez boire un thé\, un jus de gingembre ou une bière locale et biologique tout en dégustant un gâteau maison.\nVous trouverez vaisselle\, jeux\, vêtements ou déco à la ressourcerie. Les dons ne sont acceptés que le 1er dimanche de chaque mois.\nVous pouvez également vous poser à l’Idée Halle pour travailler ou faire vos devoirs dans un endroit calme et chaleureux.\n   \n 
URL:https://lattribut.org/event/ouverture-8/
CATEGORIES:friperie,Ressourcerie,Restauration
ATTACH;FMTTYPE=image/jpeg:https://lattribut.org/wp-content/uploads/2022/08/630A7037-scaled.jpg
END:VEVENT
END:VCALENDAR