BEGIN:VCALENDAR
VERSION:2.0
PRODID:-//L&#039;Attribut - ECPv6.15.20//NONSGML v1.0//EN
CALSCALE:GREGORIAN
METHOD:PUBLISH
X-ORIGINAL-URL:https://lattribut.org
X-WR-CALDESC:Évènements pour L&#039;Attribut
REFRESH-INTERVAL;VALUE=DURATION:PT1H
X-Robots-Tag:noindex
X-PUBLISHED-TTL:PT1H
BEGIN:VTIMEZONE
TZID:Europe/Paris
BEGIN:DAYLIGHT
TZOFFSETFROM:+0100
TZOFFSETTO:+0200
TZNAME:CEST
DTSTART:20220327T010000
END:DAYLIGHT
BEGIN:STANDARD
TZOFFSETFROM:+0200
TZOFFSETTO:+0100
TZNAME:CET
DTSTART:20221030T010000
END:STANDARD
BEGIN:DAYLIGHT
TZOFFSETFROM:+0100
TZOFFSETTO:+0200
TZNAME:CEST
DTSTART:20230326T010000
END:DAYLIGHT
BEGIN:STANDARD
TZOFFSETFROM:+0200
TZOFFSETTO:+0100
TZNAME:CET
DTSTART:20231029T010000
END:STANDARD
BEGIN:DAYLIGHT
TZOFFSETFROM:+0100
TZOFFSETTO:+0200
TZNAME:CEST
DTSTART:20240331T010000
END:DAYLIGHT
BEGIN:STANDARD
TZOFFSETFROM:+0200
TZOFFSETTO:+0100
TZNAME:CET
DTSTART:20241027T010000
END:STANDARD
END:VTIMEZONE
BEGIN:VEVENT
DTSTART;TZID=Europe/Paris:20231216T190000
DTEND;TZID=Europe/Paris:20231216T220000
DTSTAMP:20260424T224852
CREATED:20231130T153851Z
LAST-MODIFIED:20231216T104947Z
UID:3181-1702753200-1702764000@lattribut.org
SUMMARY:Soirée Tartiflette végé et Quiz musical à l'Idée Halle
DESCRIPTION:L’Attribut présente\nSoirée Tartiflette et Quiz musical\nJazz – Cinéma et séries\nAvec FrémiSons\nMichel BOYÉ : guitare\, arrangements\nFrédéric CHAUVEAU : Saxophone\, flûte traversière\n\nSamedi 16 décembre à 19h\nTartiflette + dessert + quiz = 15€/personne\nSur réservation au 07 57 18 77 77
URL:https://lattribut.org/event/soiree-tartiflette-vege-et-quiz-musical-a-lidee-halle/
LOCATION:L’idée Halle\, rue Eugène Freyssinet\, Ris-orangis\, 91130\, France
CATEGORIES:Animation,Festivité,Restauration
END:VEVENT
END:VCALENDAR