BEGIN:VCALENDAR
VERSION:2.0
PRODID:-//L&#039;Attribut - ECPv6.15.20//NONSGML v1.0//EN
CALSCALE:GREGORIAN
METHOD:PUBLISH
X-WR-CALNAME:L&#039;Attribut
X-ORIGINAL-URL:https://lattribut.org
X-WR-CALDESC:Évènements pour L&#039;Attribut
REFRESH-INTERVAL;VALUE=DURATION:PT1H
X-Robots-Tag:noindex
X-PUBLISHED-TTL:PT1H
BEGIN:VTIMEZONE
TZID:Europe/Paris
BEGIN:DAYLIGHT
TZOFFSETFROM:+0100
TZOFFSETTO:+0200
TZNAME:CEST
DTSTART:20230326T010000
END:DAYLIGHT
BEGIN:STANDARD
TZOFFSETFROM:+0200
TZOFFSETTO:+0100
TZNAME:CET
DTSTART:20231029T010000
END:STANDARD
BEGIN:DAYLIGHT
TZOFFSETFROM:+0100
TZOFFSETTO:+0200
TZNAME:CEST
DTSTART:20240331T010000
END:DAYLIGHT
BEGIN:STANDARD
TZOFFSETFROM:+0200
TZOFFSETTO:+0100
TZNAME:CET
DTSTART:20241027T010000
END:STANDARD
BEGIN:DAYLIGHT
TZOFFSETFROM:+0100
TZOFFSETTO:+0200
TZNAME:CEST
DTSTART:20250330T010000
END:DAYLIGHT
BEGIN:STANDARD
TZOFFSETFROM:+0200
TZOFFSETTO:+0100
TZNAME:CET
DTSTART:20251026T010000
END:STANDARD
END:VTIMEZONE
BEGIN:VEVENT
DTSTART;TZID=Europe/Paris:20240406T100000
DTEND;TZID=Europe/Paris:20240406T170000
DTSTAMP:20260422T073027
CREATED:20240323T113303Z
LAST-MODIFIED:20240402T100609Z
UID:3530-1712397600-1712422800@lattribut.org
SUMMARY:Marché aux vélos [DEPOT] - Ris orangis
DESCRIPTION:VENDEZ VOTRE VÉLO\nSamedi 6 avril – 10h à 17h – École élémentaire Moulin-à-vent\nDéposez votre inscription et laissez votre vélo entre les mains d’un professionnel pour diagnostic. Si son état le permet\, votre vélo sera mis en vente lors du marché aux vélos\, samedi 20 avril.\nDans le cas contraire\, vous devrez le récupérer ou pourrez le jeter dans la benne qui sera mise à votre disposition.\nParticipation : 2 €/liste – le gain de la vente de votre vélo vous sera reversé en fin de journée (10% de la somme réservée à l’association l’Attribut). \nMerci de lire le règlement ci-dessous \nMarché aux vélos Ris-Orangis 2024_Reglement \n 
URL:https://lattribut.org/event/marche-aux-velos-depot-ris-orangis/
LOCATION:Ecole élémentaire Moulin à vent\, 2 rue du Moulin à Vent\, Ris Orangis\, 91130\, France
CATEGORIES:Animation,Faire autrement,Récup,vélo
END:VEVENT
BEGIN:VEVENT
DTSTART;TZID=Europe/Paris:20240406T143000
DTEND;TZID=Europe/Paris:20240406T173000
DTSTAMP:20260422T073027
CREATED:20240402T084037Z
LAST-MODIFIED:20240402T084037Z
UID:3589-1712413800-1712424600@lattribut.org
SUMMARY:Fermeture exceptionnelle !
DESCRIPTION:En raison de la journée de dépôt des vélos au marché aux vélos organisé par L’Attribut\, ProVélo et la mairie de Ris Orangis\, la boutique du Plateau sera exceptionnellement fermée samedi 6 avril après-midi. \nInfos : 07 57 18 77 77
URL:https://lattribut.org/event/fermeture-exceptionnelle-2/
LOCATION:L’attribut du plateau\, Place du moulin à vent\, Ris-Orangis\, Essonnes\, 91130\, France
CATEGORIES:Hors les murs,Ressourcerie,vélo
END:VEVENT
BEGIN:VEVENT
DTSTART;TZID=Europe/Paris:20240420T100000
DTEND;TZID=Europe/Paris:20240420T170000
DTSTAMP:20260422T073027
CREATED:20240323T113821Z
LAST-MODIFIED:20240402T100733Z
UID:3535-1713607200-1713632400@lattribut.org
SUMMARY:Marché aux vélos [VENTE] - Ris Orangis
DESCRIPTION:ACHETEZ UN VÉLO DE SECONDE MAIN\nSamedi 20 avril – 10h à 17h – École élémentaire Moulin-à-vent\nVous rêvez d’acheter un vélo à petit prix ? Cet évènement est fait pour vous !\nVous y trouverez des vélos en bon état\, de différents modèles et tailles\, réparés par des professionnels !\nAcquérir un vélo de seconde main\, c’est lutter contre la surconsommation et opter pour un moyen de déplacement respectueux de l’environnement.
URL:https://lattribut.org/event/marche-aux-velos-vente-ris-orangis/
LOCATION:Ecole élémentaire Moulin à vent\, 2 rue du Moulin à Vent\, Ris Orangis\, 91130\, France
CATEGORIES:Animation,Faire autrement,Récup,vélo
END:VEVENT
END:VCALENDAR