BEGIN:VCALENDAR
VERSION:2.0
PRODID:-//L&#039;Attribut - ECPv6.15.20//NONSGML v1.0//EN
CALSCALE:GREGORIAN
METHOD:PUBLISH
X-ORIGINAL-URL:https://lattribut.org
X-WR-CALDESC:Évènements pour L&#039;Attribut
REFRESH-INTERVAL;VALUE=DURATION:PT1H
X-Robots-Tag:noindex
X-PUBLISHED-TTL:PT1H
BEGIN:VTIMEZONE
TZID:Europe/Paris
BEGIN:DAYLIGHT
TZOFFSETFROM:+0100
TZOFFSETTO:+0200
TZNAME:CEST
DTSTART:20230326T010000
END:DAYLIGHT
BEGIN:STANDARD
TZOFFSETFROM:+0200
TZOFFSETTO:+0100
TZNAME:CET
DTSTART:20231029T010000
END:STANDARD
BEGIN:DAYLIGHT
TZOFFSETFROM:+0100
TZOFFSETTO:+0200
TZNAME:CEST
DTSTART:20240331T010000
END:DAYLIGHT
BEGIN:STANDARD
TZOFFSETFROM:+0200
TZOFFSETTO:+0100
TZNAME:CET
DTSTART:20241027T010000
END:STANDARD
BEGIN:DAYLIGHT
TZOFFSETFROM:+0100
TZOFFSETTO:+0200
TZNAME:CEST
DTSTART:20250330T010000
END:DAYLIGHT
BEGIN:STANDARD
TZOFFSETFROM:+0200
TZOFFSETTO:+0100
TZNAME:CET
DTSTART:20251026T010000
END:STANDARD
END:VTIMEZONE
BEGIN:VEVENT
DTSTART;TZID=Europe/Paris:20240330T143000
DTEND;TZID=Europe/Paris:20240330T173000
DTSTAMP:20260423T214401
CREATED:20240319T151949Z
LAST-MODIFIED:20240319T151949Z
UID:3516-1711809000-1711819800@lattribut.org
SUMMARY:Atelier co-réparation vélo à l'Idée Halle - Ris Orangis
DESCRIPTION:Atelier de co-réparation de vélos \n\nNos bénévoles sont présent.e.s pour vous expliquer comment entretenir votre vélo\, diagnostiquer les réparations à effectuer\, vous aider à commander les pièces de rechange et vous accompagner dans la réparation.\n\nPour participer à l’atelier\, il est nécessaire d’être adhérent.e à l’association.\nAdhérerez en ligne via l’onglet Adhérez ou sur place.\n\nTarif de l’atelier : Nous vous demandons de régler le montant des pièces détachées et vous pouvez compléter par un don à prix libre (selon vos moyens et le temps passé par nos bénévoles). Ce don sert à l’achat de matériels de réparation (pied vélo\, outils…) qui vous sont mis à disposition lors des ateliers.\n\nSi vous souhaitez nous donner un vélo\, vous pouvez vous présenter aux bénévoles de l’atelier qui vous diront\, selon l’état du vélo\, s’ils peuvent l’accepter ou non.\n\nInfos : 07 57 18 77 77
URL:https://lattribut.org/event/atelier-co-reparation-velo-a-lidee-halle-ris-orangis/
LOCATION:L’idée Halle\, rue Eugène Freyssinet\, Ris-orangis\, 91130\, France
CATEGORIES:Faire autrement,Réparation,vélo
END:VEVENT
END:VCALENDAR