BEGIN:VCALENDAR
VERSION:2.0
PRODID:-//L&#039;Attribut - ECPv6.15.20//NONSGML v1.0//EN
CALSCALE:GREGORIAN
METHOD:PUBLISH
X-ORIGINAL-URL:https://lattribut.org
X-WR-CALDESC:Évènements pour L&#039;Attribut
REFRESH-INTERVAL;VALUE=DURATION:PT1H
X-Robots-Tag:noindex
X-PUBLISHED-TTL:PT1H
BEGIN:VTIMEZONE
TZID:Europe/Paris
BEGIN:DAYLIGHT
TZOFFSETFROM:+0100
TZOFFSETTO:+0200
TZNAME:CEST
DTSTART:20240331T010000
END:DAYLIGHT
BEGIN:STANDARD
TZOFFSETFROM:+0200
TZOFFSETTO:+0100
TZNAME:CET
DTSTART:20241027T010000
END:STANDARD
BEGIN:DAYLIGHT
TZOFFSETFROM:+0100
TZOFFSETTO:+0200
TZNAME:CEST
DTSTART:20250330T010000
END:DAYLIGHT
BEGIN:STANDARD
TZOFFSETFROM:+0200
TZOFFSETTO:+0100
TZNAME:CET
DTSTART:20251026T010000
END:STANDARD
BEGIN:DAYLIGHT
TZOFFSETFROM:+0100
TZOFFSETTO:+0200
TZNAME:CEST
DTSTART:20260329T010000
END:DAYLIGHT
BEGIN:STANDARD
TZOFFSETFROM:+0200
TZOFFSETTO:+0100
TZNAME:CET
DTSTART:20261025T010000
END:STANDARD
END:VTIMEZONE
BEGIN:VEVENT
DTSTART;TZID=Europe/Paris:20250503T143000
DTEND;TZID=Europe/Paris:20250503T163000
DTSTAMP:20260424T110227
CREATED:20250430T150707Z
LAST-MODIFIED:20250430T150742Z
UID:4871-1746282600-1746289800@lattribut.org
SUMMARY:Répare Café à la Ressourcerie du Dragon - Evry-Courcouronnes
DESCRIPTION:La Ressourcerie du Dragon EN VADROUILLE au 309 allée du dragon !  \nUn Répare Café s’installe au pied de votre immeuble ! Ne jetez plus\, réparez. \nL’association L’Attribut vous invite à venir apprendre à réparer vos petits appareils électroménagers (grille-pain\, bouilloire\, aspirateur\, etc.) avec l’aide de notre bénévole Dave. \nAtelier gratuit et ouvert à toutes et tous – venez avec vos objets et votre curiosité ! \nInfos : 07 57 18 26 16 \n 
URL:https://lattribut.org/event/repare-cafe-a-la-ressourcerie-du-dragon-evry-courcouronnes/
LOCATION:La Ressourcerie du Dragon – Evry-Courcouronnes\, 306 Square du Dragon\, Evry-Courcouronnes\, 91000\, France
CATEGORIES:Ateliers,bricolage,Réemploi,Réparation
ATTACH;FMTTYPE=image/png:https://lattribut.org/wp-content/uploads/2025/04/RepareCafeAttribut.png
END:VEVENT
BEGIN:VEVENT
DTSTART;TZID=Europe/Paris:20250503T143000
DTEND;TZID=Europe/Paris:20250503T170000
DTSTAMP:20260424T110227
CREATED:20250429T121009Z
LAST-MODIFIED:20250429T121009Z
UID:4850-1746282600-1746291600@lattribut.org
SUMMARY:Atelier textile à la Ressourcerie du Dragon - Evry-Courcouronnes
DESCRIPTION:Venez participer à l’atelier textile animé par les bénévoles de l’Attribut – SUR RÉSERVATION\, places limitées\n\n\nCouture à la main\nDétournement et valorisation de textiles (upcycling)\nTricot et crochet\n\nPour soutenir l’association et le temps passé par nos bénévoles\, vous êtes invité.e.s à faire un DON LIBRE.\n\nInscription : 07 57 18 26 16\n\nPour participer à l’atelier\, il est nécessaire d’être adhérent.e à l’association.\nAdhérez en ligne via l’onglet Adhérez ou sur place
URL:https://lattribut.org/event/atelier-textile-a-la-ressourcerie-du-dragon-evry-courcouronnes-16/
LOCATION:Essonnes
CATEGORIES:Ateliers,couture,Faire autrement
ATTACH;FMTTYPE=image/png:https://lattribut.org/wp-content/uploads/2025/04/EVRY-2.png
END:VEVENT
BEGIN:VEVENT
DTSTART;TZID=Europe/Paris:20250507T143000
DTEND;TZID=Europe/Paris:20250507T170000
DTSTAMP:20260424T110227
CREATED:20250426T142245Z
LAST-MODIFIED:20250506T101411Z
UID:4834-1746628200-1746637200@lattribut.org
SUMMARY:Atelier textile à la Ressourcerie du Dragon - Evry-Courcouronnes
DESCRIPTION:Tous les mercredis après-midi de 14h30 à 17h\n\nVenez participer à l’atelier textile animé par les bénévoles de l’Attribut – SUR RÉSERVATION\, places limitées\n\n\nCouture à la main\nDétournement et valorisation de textiles (upcycling)\nTricot et crochet\n\nPour soutenir l’association et le temps passé par nos bénévoles\, vous êtes invité.e.s à faire un DON LIBRE.\n\nInscription : 07 57 18 26 16\n\nPour participer à l’atelier\, il est nécessaire d’être adhérent.e à l’association.\nAdhérez en ligne via l’onglet Adhérez ou sur place
URL:https://lattribut.org/event/atelier-textile-a-la-ressourcerie-du-dragon-evry-courcouronnes-13/
LOCATION:Essonnes
CATEGORIES:Ateliers,couture,Faire autrement
ATTACH;FMTTYPE=image/png:https://lattribut.org/wp-content/uploads/2025/03/EVRY.png
END:VEVENT
BEGIN:VEVENT
DTSTART;VALUE=DATE:20250509
DTEND;VALUE=DATE:20250512
DTSTAMP:20260424T110227
CREATED:20250430T103123Z
LAST-MODIFIED:20250509T085322Z
UID:4864-1746752400-1746925199@lattribut.org
SUMMARY:Fermetures des ressourceries - Evry et Corbeil
DESCRIPTION:La Ressourcerie du Dragon et la ressourcerie de Corbeil fermeront leur portesle vendredi 9 et samedi 10 mai toute la journée.\n\nAdresses et horaires sur www.lattribut.org
URL:https://lattribut.org/event/fermeture-de-la-ressourcerie-du-dragon-evry-courcouronnes/
LOCATION:La Ressourcerie du Dragon – Evry-Courcouronnes\, 306 Square du Dragon\, Evry-Courcouronnes\, 91000\, France
CATEGORIES:Bénévolat,friperie,Réemploi,Ressourcerie
ATTACH;FMTTYPE=image/png:https://lattribut.org/wp-content/uploads/2025/04/Fermeture-A4-DRAGON-1.png
END:VEVENT
BEGIN:VEVENT
DTSTART;TZID=Europe/Paris:20250510T103000
DTEND;TZID=Europe/Paris:20250510T123000
DTSTAMP:20260424T110227
CREATED:20250425T073839Z
LAST-MODIFIED:20250425T073839Z
UID:4828-1746873000-1746880200@lattribut.org
SUMMARY:Répare vélo à la boutique du Plateau – Ris Orangis
DESCRIPTION:Atelier de co-réparation de vélos\n\nNos bénévoles sont présent.e.s pour vous expliquer comment entretenir votre vélo\, diagnostiquer les réparations à effectuer\, vous aider à commander les pièces de rechange et vous accompagner dans la réparation.\n\nPour soutenir l’association et le temps passé par nos bénévoles\, vous êtes invité.e.s à faire un DON LIBRE\n\nSi vous souhaitez nous donner un vélo\, vous pouvez vous présenter aux bénévoles de l’atelier qui vous diront\, selon l’état du vélo\, s’ils peuvent l’accepter ou non.\n\nInscription : 07 57 18 77 77\n\nPour participer à l’atelier\, il est nécessaire d’être adhérent.e à l’association.\nAdhérez en ligne via l’onglet Adhérez ou sur place
URL:https://lattribut.org/event/repare-velo-a-la-boutique-du-plateau-ris-orangis-9/
LOCATION:L’attribut du plateau\, Place du moulin à vent\, Ris-Orangis\, Essonnes\, 91130\, France
CATEGORIES:Ateliers,bricolage,Faire autrement,Réparation,vélo
ATTACH;FMTTYPE=image/png:https://lattribut.org/wp-content/uploads/2025/04/Atelier-ProVelo-Plateau.png
END:VEVENT
BEGIN:VEVENT
DTSTART;TZID=Europe/Paris:20250510T143000
DTEND;TZID=Europe/Paris:20250510T173000
DTSTAMP:20260424T110227
CREATED:20250423T102355Z
LAST-MODIFIED:20250423T102355Z
UID:4822-1746887400-1746898200@lattribut.org
SUMMARY:Atelier couture à la boutique du Plateau – Ris Orangis
DESCRIPTION:Participez à l’atelier couture animé par les bénévoles de l’Attribut\nPrise en main d’une machine à coudre\nDétournement et valorisation de textiles (upcycling)\nA partir de 14 ans \nParticipation à l’atelier : 5€ \nUne adhésion annuelle à l’Attribut est nécessaire pour participer aux ateliers \nInscription au 07 57 18 77 77
URL:https://lattribut.org/event/atelier-couture-a-la-boutique-du-plateau-ris-orangis-23/
LOCATION:L’attribut du plateau\, Place du moulin à vent\, Ris-Orangis\, Essonnes\, 91130\, France
CATEGORIES:Ateliers,couture,Faire autrement,Récup,Réemploi,Ressourcerie
ATTACH;FMTTYPE=image/png:https://lattribut.org/wp-content/uploads/2025/04/Atelier-couture-Plateau-avec-Chrystel.png
END:VEVENT
BEGIN:VEVENT
DTSTART;TZID=Europe/Paris:20250514T100000
DTEND;TZID=Europe/Paris:20250514T123000
DTSTAMP:20260424T110227
CREATED:20250430T093843Z
LAST-MODIFIED:20250430T093913Z
UID:4856-1747216800-1747225800@lattribut.org
SUMMARY:Atelier couture à la Ressourcerie du Dragon - Evry-Courcouronnes
DESCRIPTION:Tous les mercredis matins de 10h00 à 12h30 \n\nVenez participer à l’atelier couture animé par les bénévoles de l’Attribut – SUR RÉSERVATION\, places limitées\n\n\nPrise en main d’une machine à coudre\nDétournement et valorisation de textiles (upcycling)\nÀ partir de 14 ans\n\nParticipation à l’atelier : 5€\n\nInscription : 07 57 18 26 16\n\nPour participer à l’atelier\, il est nécessaire d’être adhérent.e à l’association.\nAdhérez en ligne via l’onglet Adhérez ou sur place
URL:https://lattribut.org/event/atelier-couture-a-la-ressourcerie-du-dragon-evry-courcouronnes-7/
LOCATION:Essonnes
CATEGORIES:Ateliers,couture,Faire autrement
ATTACH;FMTTYPE=image/png:https://lattribut.org/wp-content/uploads/2025/04/EVRY-4.png
END:VEVENT
BEGIN:VEVENT
DTSTART;TZID=Europe/Paris:20250517T100000
DTEND;TZID=Europe/Paris:20250517T123000
DTSTAMP:20260424T110227
CREATED:20250426T141521Z
LAST-MODIFIED:20250426T141521Z
UID:4831-1747476000-1747485000@lattribut.org
SUMMARY:Répare vélo à la Ressourcerie du Dragon - Evry-Courcouronnes
DESCRIPTION:Atelier de co-réparation de vélos\n\nNos bénévoles sont présent.e.s pour vous expliquer comment entretenir votre vélo\, diagnostiquer les réparations à effectuer\, vous aider à commander les pièces de rechange et vous accompagner dans la réparation.\n\nPour soutenir l’association et le temps passé par nos bénévoles\, vous êtes invité.e.s à faire un DON LIBRE.\n\nSi vous souhaitez nous donner un vélo\, vous pouvez vous présenter aux bénévoles de l’atelier qui vous diront\, selon l’état du vélo\, s’ils peuvent l’accepter ou non.\n\nInscription : 07 57 18 26 16\n\nPour participer à l’atelier\, il est nécessaire d’être adhérent.e à l’association.\nAdhérez en ligne via l’onglet Adhérez ou sur place
URL:https://lattribut.org/event/repare-velo-a-la-ressourcerie-du-dragon-evry-courcouronnes/
LOCATION:La Ressourcerie du Dragon – Evry-Courcouronnes\, 306 Square du Dragon\, Evry-Courcouronnes\, 91000\, France
CATEGORIES:Ateliers,bricolage,Faire autrement,Réparation,vélo
ATTACH;FMTTYPE=image/png:https://lattribut.org/wp-content/uploads/2025/04/Atelier-velo-au-Dragon-.png
END:VEVENT
BEGIN:VEVENT
DTSTART;TZID=Europe/Paris:20250517T143000
DTEND;TZID=Europe/Paris:20250517T170000
DTSTAMP:20260424T110227
CREATED:20250429T115227Z
LAST-MODIFIED:20250429T120842Z
UID:4844-1747492200-1747501200@lattribut.org
SUMMARY:Ateliers couture à la machine & couture à la main/tricot/crochet à la ressourcerie du Dragon - Evry-Courcouronnes
DESCRIPTION:Rejoignez-nous pour un atelier créatif et convivial animé par les bénévoles de l’Attribut ! Apprenez à coudre à la machine\, tout en découvrant les techniques manuelles comme le crochet et le tricot. Que vous soyez débutant·e ou curieux·se\, cet atelier est l’occasion idéale pour créer des pièces uniques avec plaisir et simplicité. \nSUR RÉSERVATION\, places limitées : 07 57 18 26 16 \nde 14h30 à 17h \nAtelier couture à la machine \n\nÀ partir de 14 ans\nPrise en main d’une machine à coudre\n\nAtelier couture à la main\, tricot et crochet \n\nCouture à la main\ntricot et crochet\nDétournement et valorisation de textiles (upcycling\n\nParticipation aux ateliers : 5€ \nPour participer à l’atelier\, il est nécessaire d’être adhérent.e à l’association.\nAdhérez en ligne via l’onglet Adhérez ou sur place
URL:https://lattribut.org/event/ateliers-couture-a-la-machine-couture-a-la-main-tricot-crochet-ressourcerie-du-dragon-evry-courcouronnes/
LOCATION:La Ressourcerie du Dragon – Evry-Courcouronnes\, 306 Square du Dragon\, Evry-Courcouronnes\, 91000\, France
CATEGORIES:Ateliers,couture,Faire autrement
ATTACH;FMTTYPE=image/png:https://lattribut.org/wp-content/uploads/2025/04/EVRY-3.png
END:VEVENT
BEGIN:VEVENT
DTSTART;TZID=Europe/Paris:20250517T150000
DTEND;TZID=Europe/Paris:20250517T163000
DTSTAMP:20260424T110227
CREATED:20250426T143722Z
LAST-MODIFIED:20250430T095959Z
UID:4842-1747494000-1747499400@lattribut.org
SUMMARY:Atelier Bee wrap à la Ressourcerie du Dragon - Evry-Courcouronnes
DESCRIPTION:Venez fabriquer votre propre emballage alimentaire réutilisable à base de tissu et de cire d’abeille ! Une alternative écologique au film plastique\, simple à faire et pratique au quotidien.\n\n\nInscription : 07 57 18 26 16\n\nParticipation à l’atelier : 5€\n\n\nPour participer à l’atelier\, il est nécessaire d’être adhérent.e à l’association.\nAdhérez en ligne via l’onglet Adhérez ou sur place
URL:https://lattribut.org/event/atelier-textile-a-la-ressourcerie-du-dragon-evry-courcouronnes-15/
LOCATION:Essonnes
CATEGORIES:Ateliers,couture,Faire autrement
ATTACH;FMTTYPE=image/png:https://lattribut.org/wp-content/uploads/2025/04/atelier-1920-x-1080-px-4.png
END:VEVENT
BEGIN:VEVENT
DTSTART;TZID=Europe/Paris:20250521T100000
DTEND;TZID=Europe/Paris:20250521T123000
DTSTAMP:20260424T110227
CREATED:20250430T094358Z
LAST-MODIFIED:20250430T094358Z
UID:4859-1747821600-1747830600@lattribut.org
SUMMARY:Atelier couture à la Ressourcerie du Dragon - Evry-Courcouronnes
DESCRIPTION:Tous les mercredis matins de 10h00 à 12h30 \n\nVenez participer à l’atelier couture animé par les bénévoles de l’Attribut – SUR RÉSERVATION\, places limitées\n\n\nPrise en main d’une machine à coudre\nDétournement et valorisation de textiles (upcycling)\nÀ partir de 14 ans\n\nParticipation à l’atelier : 5€\n\nInscription : 07 57 18 26 16\n\nPour participer à l’atelier\, il est nécessaire d’être adhérent.e à l’association.\nAdhérez en ligne via l’onglet Adhérez ou sur place
URL:https://lattribut.org/event/atelier-couture-a-la-ressourcerie-du-dragon-evry-courcouronnes-8/
LOCATION:Essonnes
CATEGORIES:Ateliers,couture,Faire autrement
ATTACH;FMTTYPE=image/png:https://lattribut.org/wp-content/uploads/2025/04/EVRY-4.png
END:VEVENT
BEGIN:VEVENT
DTSTART;TZID=Europe/Paris:20250521T143000
DTEND;TZID=Europe/Paris:20250521T170000
DTSTAMP:20260424T110227
CREATED:20250426T143630Z
LAST-MODIFIED:20250426T143630Z
UID:4840-1747837800-1747846800@lattribut.org
SUMMARY:Atelier textile à la Ressourcerie du Dragon - Evry-Courcouronnes
DESCRIPTION:Tous les mercredis après-midi de 14h30 à 17h\n\nVenez participer à l’atelier textile animé par les bénévoles de l’Attribut – SUR RÉSERVATION\, places limitées\n\n\nCouture à la main\nDétournement et valorisation de textiles (upcycling)\nTricot et crochet\n\nPour soutenir l’association et le temps passé par nos bénévoles\, vous êtes invité.e.s à faire un DON LIBRE.\n\nInscription : 07 57 18 26 16\n\nPour participer à l’atelier\, il est nécessaire d’être adhérent.e à l’association.\nAdhérez en ligne via l’onglet Adhérez ou sur place
URL:https://lattribut.org/event/atelier-textile-a-la-ressourcerie-du-dragon-evry-courcouronnes-14/
LOCATION:Essonnes
CATEGORIES:Ateliers,couture,Faire autrement
ATTACH;FMTTYPE=image/png:https://lattribut.org/wp-content/uploads/2025/03/EVRY.png
END:VEVENT
BEGIN:VEVENT
DTSTART;TZID=Europe/Paris:20250521T143000
DTEND;TZID=Europe/Paris:20250521T173000
DTSTAMP:20260424T110227
CREATED:20250423T095842Z
LAST-MODIFIED:20250423T095842Z
UID:4816-1747837800-1747848600@lattribut.org
SUMMARY:Atelier co-réparation à la boutique du Plateau
DESCRIPTION:Ne jetez plus\, réparez !\nL’Attribut vous propose d’apprendre à réparer vos appareils électro-ménagers lors de nos Répare Café. \nPour participer au Répare Café\, il est nécessaire d’être adhérent.e à l’association.\nAdhérerez en ligne via l’onglet Adhérez ou sur place. \nComment ça marche ?\nInscrivez vous le jour et le créneau horaire disponible en appelant ou en venant sur place.\nPrécisez le type d’appareil que vous souhaitez réparer \nLe jour de l’atelier\, le la réparateur.rice diagnostic la panne. Si la panne est simple\, il.elle vous accompagne dans la réparation (prévoir 45 min)\, soit il est nécessaire de prévoir plus de temps et vous reprenez un RDV complémentaire.Toutes les pièces nécessaires à la réparation seront commandées et réglées par le.la participant.e. \nLes ateliers sont gratuits\, mais pour soutenir l’association et le temps passé par nos bénévoles\, vous êtes invité.e.s à faire un DON LIBRE
URL:https://lattribut.org/event/atelier-co-reparation-a-la-boutique-du-plateau-10/
LOCATION:L’attribut du plateau\, Place du moulin à vent\, Ris-Orangis\, Essonnes\, 91130\, France
CATEGORIES:bricolage,Réparation
ATTACH;FMTTYPE=image/png:https://lattribut.org/wp-content/uploads/2024/09/Atelier-co-reparation.png
END:VEVENT
BEGIN:VEVENT
DTSTART;TZID=Europe/Paris:20250524T103000
DTEND;TZID=Europe/Paris:20250524T123000
DTSTAMP:20260424T110227
CREATED:20250520T152538Z
LAST-MODIFIED:20250520T152621Z
UID:4888-1748082600-1748089800@lattribut.org
SUMMARY:Clean up Day à la Ressourcerie du Dragon - Evry-Courcouronnes
DESCRIPTION:Rejoignez-nous pour une matinée engagée pour la planète ! La Ressourcerie du Dragon\, aux côtés de la Maison de Quartier Jacques Prévert et des différents bailleurs présents sur le square\, vous invite à participer à une grande opération de ramassage de déchets dans le quartier. \nGants\, sacs et bonne humeur seront au rendez-vous !Que vous soyez seul·e\, en famille ou entre voisins\, venez passer un moment simple et collectif pour prendre soin du quartier. \nRendez-vous à 10h30 à la Ressourcerie du Dragon – 306 allée du Dragon  \nRetour prévu à 12h30 avec une pesée de la collecte\, un petit goûter convivial autour d’un moment d’échanges … et une surprise pour clôturer la matinée en beauté !
URL:https://lattribut.org/event/clean-up-day-a-la-ressourcerie-du-dragon-evry-courcouronnes/
LOCATION:La Ressourcerie du Dragon – Evry-Courcouronnes\, 306 Square du Dragon\, Evry-Courcouronnes\, 91000\, France
CATEGORIES:Hors les murs,Récup,zéro déchets
ATTACH;FMTTYPE=application/pdf:https://lattribut.org/wp-content/uploads/2025/05/Multicolore-Nettoyage-Dechets-Affiche-Illustratif-2.pdf
END:VEVENT
BEGIN:VEVENT
DTSTART;TZID=Europe/Paris:20250524T143000
DTEND;TZID=Europe/Paris:20250524T173000
DTSTAMP:20260424T110227
CREATED:20250423T102706Z
LAST-MODIFIED:20250423T102706Z
UID:4825-1748097000-1748107800@lattribut.org
SUMMARY:Atelier couture à la boutique du Plateau – Ris Orangis
DESCRIPTION:Participez à l’atelier couture animé par les bénévoles de l’Attribut\nPrise en main d’une machine à coudre\nDétournement et valorisation de textiles (upcycling)\nA partir de 14 ans \nParticipation à l’atelier : 5€ \nUne adhésion annuelle à l’Attribut est nécessaire pour participer aux ateliers \nInscription au 07 57 18 77 77
URL:https://lattribut.org/event/atelier-couture-a-la-boutique-du-plateau-ris-orangis-24/
LOCATION:L’attribut du plateau\, Place du moulin à vent\, Ris-Orangis\, Essonnes\, 91130\, France
CATEGORIES:Ateliers,couture,Faire autrement,Récup,Réemploi,Ressourcerie
ATTACH;FMTTYPE=image/png:https://lattribut.org/wp-content/uploads/2025/04/Atelier-couture-Plateau-avec-Chrystel-3.png
END:VEVENT
BEGIN:VEVENT
DTSTART;VALUE=DATE:20250528
DTEND;VALUE=DATE:20250602
DTSTAMP:20260424T110227
CREATED:20250430T103422Z
LAST-MODIFIED:20250527T140249Z
UID:4868-1748394000-1748739599@lattribut.org
SUMMARY:Fermeture des Ressourceries de l'Attribut
DESCRIPTION:FERMETURES EXCEPTIONNELLES DES RESSOURCERIES DE L’ATTRIBUT\n\nRessourcerie de Corbeil\nMercredi 28\, vendredi 30 et samedi 31 mai\n\nRessourcerie du DragonSamedi 31 mai\n\nBoutique du Plateau\nSamedi 31 mai
URL:https://lattribut.org/event/fermeture-de-la-ressourcerie-du-dragon-evry-courcouronnes-2/
LOCATION:Essonnes
CATEGORIES:Bénévolat,friperie,Réemploi,Ressourcerie
ATTACH;FMTTYPE=image/png:https://lattribut.org/wp-content/uploads/2025/04/Fermeture-A4-DRAGON-2.png
END:VEVENT
BEGIN:VEVENT
DTSTART;TZID=Europe/Paris:20250528T100000
DTEND;TZID=Europe/Paris:20250528T123000
DTSTAMP:20260424T110227
CREATED:20250430T094540Z
LAST-MODIFIED:20250522T101227Z
UID:4861-1748426400-1748435400@lattribut.org
SUMMARY:Atelier couture à la Ressourcerie du Dragon - Evry-Courcouronnes
DESCRIPTION:Tous les mercredis matins de 10h00 à 12h30 \n\nVenez participer à l’atelier couture animé par les bénévoles de l’Attribut – SUR RÉSERVATION\, places limitées\n\n\nPrise en main d’une machine à coudre\nDétournement et valorisation de textiles (upcycling)\nÀ partir de 14 ans\n\nParticipation à l’atelier : 5€\n\nInscription : 07 57 18 26 16\n\nPour participer à l’atelier\, il est nécessaire d’être adhérent.e à l’association.\nAdhérez en ligne via l’onglet Adhérez ou sur place
URL:https://lattribut.org/event/atelier-couture-a-la-ressourcerie-du-dragon-evry-courcouronnes-9/
LOCATION:La Ressourcerie du Dragon – Evry-Courcouronnes\, 306 Square du Dragon\, Evry-Courcouronnes\, 91000\, France
CATEGORIES:Ateliers,couture,Faire autrement
ATTACH;FMTTYPE=image/png:https://lattribut.org/wp-content/uploads/2025/04/EVRY-4.png
END:VEVENT
BEGIN:VEVENT
DTSTART;TZID=Europe/Paris:20250528T143000
DTEND;TZID=Europe/Paris:20250528T173000
DTSTAMP:20260424T110227
CREATED:20250423T095943Z
LAST-MODIFIED:20250423T095943Z
UID:4818-1748442600-1748453400@lattribut.org
SUMMARY:Atelier co-réparation à la boutique du Plateau
DESCRIPTION:Ne jetez plus\, réparez !\nL’Attribut vous propose d’apprendre à réparer vos appareils électro-ménagers lors de nos Répare Café. \nPour participer au Répare Café\, il est nécessaire d’être adhérent.e à l’association.\nAdhérerez en ligne via l’onglet Adhérez ou sur place. \nComment ça marche ?\nInscrivez vous le jour et le créneau horaire disponible en appelant ou en venant sur place.\nPrécisez le type d’appareil que vous souhaitez réparer \nLe jour de l’atelier\, le la réparateur.rice diagnostic la panne. Si la panne est simple\, il.elle vous accompagne dans la réparation (prévoir 45 min)\, soit il est nécessaire de prévoir plus de temps et vous reprenez un RDV complémentaire.Toutes les pièces nécessaires à la réparation seront commandées et réglées par le.la participant.e. \nLes ateliers sont gratuits\, mais pour soutenir l’association et le temps passé par nos bénévoles\, vous êtes invité.e.s à faire un DON LIBRE
URL:https://lattribut.org/event/atelier-co-reparation-a-la-boutique-du-plateau-11/
LOCATION:L’attribut du plateau\, Place du moulin à vent\, Ris-Orangis\, Essonnes\, 91130\, France
CATEGORIES:bricolage,Réparation
ATTACH;FMTTYPE=image/png:https://lattribut.org/wp-content/uploads/2024/09/Atelier-co-reparation.png
END:VEVENT
END:VCALENDAR